{"text_format":"1","workbook":"xlsx","n_sheets":5,"sheets":["基礎データ","1回目　集計表","2回目　集計表","ＳＮＳ学年票","ＳＮＳ学年票（度数分布表）"],"not_rendered":{"charts":21,"images":0,"macros":1,"external_links":0,"defined_names":2,"comments":0,"pivot_tables":0},"unopened":[],"bounds":{"document_bytes":16777216,"sheet_cells":100000,"rows_first":2000,"rows_last":500,"rows_between":2000,"halvings":0,"cell_chars":16384,"cell_head_chars":4096},"cells_cut":0,"cells_raw":0,"read":"whole","date_system":"1900"}

{"sheet":"基礎データ","index":0,"n_rows":6,"n_cols":13,"rows_kept":6,"cut":false,"hidden":false,"merged":[[2,1,2,3]]}
[]
[]
[null,null,null,null,null,"学年"]
[]
[null,null,null,null,null,"１回目","令和","元","年",4,"月",4,"日"]
[null,null,null,null,null,"２回目","令和",2,"年",5,"月",5,"日"]

{"sheet":"1回目　集計表","index":1,"n_rows":1106,"n_cols":24,"rows_kept":1106,"cut":false,"hidden":false,"merged":[[3,7,4,7],[3,8,4,8],[3,9,4,9],[2,1,4,1],[2,2,4,2],[3,4,4,4],[3,5,4,5],[3,6,4,6],[3,19,4,19],[3,20,4,20],[3,21,4,21],[3,22,4,22],[3,10,4,10],[3,11,4,11],[3,23,4,23],[552,1,552,2],[546,1,546,2],[547,1,547,2],[548,1,548,2],[549,1,549,2],[550,1,550,2],[551,1,551,2],[545,1,545,2],[3,12,4,12],[3,13,4,13],[3,14,4,14],[3,15,4,15],[3,16,4,16],[3,17,4,17],[3,18,4,18],[564,17,565,17],[564,18,565,18],[564,22,565,22],[564,9,565,9],[564,11,565,11],[564,12,565,12],[564,13,565,13],[564,14,565,14],[561,1,561,3],[561,4,561,23],[563,1,565,1],[563,2,565,2],[564,4,565,4],[564,5,565,5],[564,6,565,6],[564,8,565,8],[564,10,565,10],[564,23,565,23],[564,20,565,20],[564,21,565,21],[564,19,565,19],[564,7,565,7],[564,15,565,15],[564,16,565,16],[5,0,64,0],[65,0,124,0],[125,0,184,0],[185,0,244,0],[245,0,304,0],[305,0,364,0],[485,0,544,0],[425,0,484,0],[365,0,424,0],[566,0,625,0],[986,0,1045,0],[1046,0,1105,0],[926,0,985,0],[626,0,685,0],[686,0,745,0],[746,0,805,0],[806,0,865,0],[866,0,925,0]]}
[]
[null,1,2,3,4,5,6,7,8,9,10,11,12,13,14,15,16,17,18,19,20,21,22,23]
[null,"番号","氏名",4,1,2,3,4,5,6,7,8,9,10,11,12,13,14,15,16,17,18,19,20]
[null,null,null,"性別\n\n男１\n女２","ＳＮＳの１週間当たりの利用日数","平日にＳＮＳを利用する時間","ＳＮＳを使い始めてからの経験年月","ＳＮＳでメッセージのやり取りをする友達の人数","ＳＮＳでメッセージのやり取りをするグループの数","個人情報は出さないようにしている。","相手が不愉快な気持ちになるような内容は書かないようにしている。","メッセージを送る前に問題がないか確認をするようにしている。","長時間にならないようにメッセージのやり取りをしている。","メッセージのやり取りで嫌な気持ちになったときは、直接、会話で気持ちを伝えるようにしている。","友達とのやり取りで困ったときは親や先生に相談するようにしている。","友達とメッセージのやり取りをすることで友達の気持ちを確かめることができる。","友達とメッセージのやり取りをすることで、友達とのつながりをもてる。","友達とメッセージのやり取りをすることで、寂しさをすぐにまぎらわすことができる。","メッセージがきたらすぐに返事をする。","友達から送られてくるメッセージをチェックする。","メッセージのやり取りをなかなか終わらせられない。","自分が送信したメッセージに対する反応がない。","メッセージの送信後，「あの伝え方でよかったのだろうか」と悩む。","知らないところで自分のことについてメッセージのやり取りをしているのではないかと心配になる。"]
[]
["1組",1,{"$f":"C567","v":0},{"$f":"IF(D567=\"男\",1,IF(D567=\"女\",2,0))","v":0},{"$f":"IF(E567=0,0,E567)","v":0},0,0,0,0,0,0,0,0,0,0,{"$f":"IF(P567=4,1,IF(P567=3,2,IF(P567=2,3,IF(P567=1,4,0))))","v":0},0,0,0,0,0,0,0,0]
[null,2,{"$f":"C568","v":0},{"$f":"IF(D568=\"男\",1,IF(D568=\"女\",2,0))","v":0},{"$f":"IF(E568=0,0,E568)","v":0},0,0,0,0,0,0,0,0,0,0,{"$f":"IF(P568=4,1,IF(P568=3,2,IF(P568=2,3,IF(P568=1,4,0))))","v":0},0,0,0,0,0,0,0,0]
[null,3,0,0,{"$f":"IF(E569=0,0,E569)","v":0},0,0,0,0,0,0,0,0,0,0,{"$f":"IF(P569=4,1,IF(P569=3,2,IF(P569=2,3,IF(P569=1,4,0))))","v":0},0,0,0,0,0,0,0,0]
[null,4,0,0,{"$f":"IF(E570=0,0,E570)","v":0},0,0,0,0,0,0,0,0,0,0,{"$f":"IF(P570=4,1,IF(P570=3,2,IF(P570=2,3,IF(P570=1,4,0))))","v":0},0,0,0,0,0,0,0,0]
[null,5,0,0,{"$f":"IF(E571=0,0,E571)","v":0},0,0,0,0,0,0,0,0,0,0,{"$f":"IF(P571=4,1,IF(P571=3,2,IF(P571=2,3,IF(P571=1,4,0))))","v":0},0,0,0,0,0,0,0,0]
[null,6,0,0,{"$f":"IF(E572=0,0,E572)","v":0},0,0,0,0,0,0,0,0,0,0,{"$f":"IF(P572=4,1,IF(P572=3,2,IF(P572=2,3,IF(P572=1,4,0))))","v":0},0,0,0,0,0,0,0,0]
[null,7,0,0,{"$f":"IF(E573=0,0,E573)","v":0},0,0,0,0,0,0,0,0,0,0,{"$f":"IF(P573=4,1,IF(P573=3,2,IF(P573=2,3,IF(P573=1,4,0))))","v":0},0,0,0,0,0,0,0,0]
[null,8,0,0,{"$f":"IF(E574=0,0,E574)","v":0},0,0,0,0,0,0,0,0,0,0,{"$f":"IF(P574=4,1,IF(P574=3,2,IF(P574=2,3,IF(P574=1,4,0))))","v":0},0,0,0,0,0,0,0,0]
[null,9,0,0,{"$f":"IF(E575=0,0,E575)","v":0},0,0,0,0,0,0,0,0,0,0,{"$f":"IF(P575=4,1,IF(P575=3,2,IF(P575=2,3,IF(P575=1,4,0))))","v":0},0,0,0,0,0,0,0,0]
[null,10,0,0,{"$f":"IF(E576=0,0,E576)","v":0},0,0,0,0,0,0,0,0,0,0,{"$f":"IF(P576=4,1,IF(P576=3,2,IF(P576=2,3,IF(P576=1,4,0))))","v":0},0,0,0,0,0,0,0,0]
[null,11,0,0,{"$f":"IF(E577=0,0,E577)","v":0},0,0,0,0,0,0,0,0,0,0,{"$f":"IF(P577=4,1,IF(P577=3,2,IF(P577=2,3,IF(P577=1,4,0))))","v":0},0,0,0,0,0,0,0,0]
[null,12,0,0,{"$f":"IF(E578=0,0,E578)","v":0},0,0,0,0,0,0,0,0,0,0,{"$f":"IF(P578=4,1,IF(P578=3,2,IF(P578=2,3,IF(P578=1,4,0))))","v":0},0,0,0,0,0,0,0,0]
[null,13,0,0,{"$f":"IF(E579=0,0,E579)","v":0},0,0,0,0,0,0,0,0,0,0,{"$f":"IF(P579=4,1,IF(P579=3,2,IF(P579=2,3,IF(P579=1,4,0))))","v":0},0,0,0,0,0,0,0,0]
[null,14,0,0,{"$f":"IF(E580=0,0,E580)","v":0},0,0,0,0,0,0,0,0,0,0,{"$f":"IF(P580=4,1,IF(P580=3,2,IF(P580=2,3,IF(P580=1,4,0))))","v":0},0,0,0,0,0,0,0,0]
[null,15,0,0,{"$f":"IF(E581=0,0,E581)","v":0},0,0,0,0,0,0,0,0,0,0,{"$f":"IF(P581=4,1,IF(P581=3,2,IF(P581=2,3,IF(P581=1,4,0))))","v":0},0,0,0,0,0,0,0,0]
[null,16,0,0,{"$f":"IF(E582=0,0,E582)","v":0},0,0,0,0,0,0,0,0,0,0,{"$f":"IF(P582=4,1,IF(P582=3,2,IF(P582=2,3,IF(P582=1,4,0))))","v":0},0,0,0,0,0,0,0,0]
[null,17,0,0,{"$f":"IF(E583=0,0,E583)","v":0},0,0,0,0,0,0,0,0,0,0,{"$f":"IF(P583=4,1,IF(P583=3,2,IF(P583=2,3,IF(P583=1,4,0))))","v":0},0,0,0,0,0,0,0,0]
[null,18,0,0,{"$f":"IF(E584=0,0,E584)","v":0},0,0,0,0,0,0,0,0,0,0,{"$f":"IF(P584=4,1,IF(P584=3,2,IF(P584=2,3,IF(P584=1,4,0))))","v":0},0,0,0,0,0,0,0,0]
[null,19,0,0,{"$f":"IF(E585=0,0,E585)","v":0},0,0,0,0,0,0,0,0,0,0,{"$f":"IF(P585=4,1,IF(P585=3,2,IF(P585=2,3,IF(P585=1,4,0))))","v":0},0,0,0,0,0,0,0,0]
[null,20,0,0,{"$f":"IF(E586=0,0,E586)","v":0},0,0,0,0,0,0,0,0,0,0,{"$f":"IF(P586=4,1,IF(P586=3,2,IF(P586=2,3,IF(P586=1,4,0))))","v":0},0,0,0,0,0,0,0,0]
[null,21,0,0,{"$f":"IF(E587=0,0,E587)","v":0},0,0,0,0,0,0,0,0,0,0,{"$f":"IF(P587=4,1,IF(P587=3,2,IF(P587=2,3,IF(P587=1,4,0))))","v":0},0,0,0,0,0,0,0,0]
[null,22,0,0,{"$f":"IF(E588=0,0,E588)","v":0},0,0,0,0,0,0,0,0,0,0,{"$f":"IF(P588=4,1,IF(P588=3,2,IF(P588=2,3,IF(P588=1,4,0))))","v":0},0,0,0,0,0,0,0,0]
[null,23,0,0,{"$f":"IF(E589=0,0,E589)","v":0},0,0,0,0,0,0,0,0,0,0,{"$f":"IF(P589=4,1,IF(P589=3,2,IF(P589=2,3,IF(P589=1,4,0))))","v":0},0,0,0,0,0,0,0,0]
[null,24,0,0,{"$f":"IF(E590=0,0,E590)","v":0},0,0,0,0,0,0,0,0,0,0,{"$f":"IF(P590=4,1,IF(P590=3,2,IF(P590=2,3,IF(P590=1,4,0))))","v":0},0,0,0,0,0,0,0,0]
[null,25,0,0,{"$f":"IF(E591=0,0,E591)","v":0},0,0,0,0,0,0,0,0,0,0,{"$f":"IF(P591=4,1,IF(P591=3,2,IF(P591=2,3,IF(P591=1,4,0))))","v":0},0,0,0,0,0,0,0,0]
[null,26,0,0,{"$f":"IF(E592=0,0,E592)","v":0},0,0,0,0,0,0,0,0,0,0,{"$f":"IF(P592=4,1,IF(P592=3,2,IF(P592=2,3,IF(P592=1,4,0))))","v":0},0,0,0,0,0,0,0,0]
[null,27,0,0,{"$f":"IF(E593=0,0,E593)","v":0},0,0,0,0,0,0,0,0,0,0,{"$f":"IF(P593=4,1,IF(P593=3,2,IF(P593=2,3,IF(P593=1,4,0))))","v":0},0,0,0,0,0,0,0,0]
[null,28,0,0,{"$f":"IF(E594=0,0,E594)","v":0},0,0,0,0,0,0,0,0,0,0,{"$f":"IF(P594=4,1,IF(P594=3,2,IF(P594=2,3,IF(P594=1,4,0))))","v":0},0,0,0,0,0,0,0,0]
[null,29,0,0,{"$f":"IF(E595=0,0,E595)","v":0},0,0,0,0,0,0,0,0,0,0,{"$f":"IF(P595=4,1,IF(P595=3,2,IF(P595=2,3,IF(P595=1,4,0))))","v":0},0,0,0,0,0,0,0,0]
[null,30,0,0,{"$f":"IF(E596=0,0,E596)","v":0},0,0,0,0,0,0,0,0,0,0,{"$f":"IF(P596=4,1,IF(P596=3,2,IF(P596=2,3,IF(P596=1,4,0))))","v":0},0,0,0,0,0,0,0,0]
[null,31,0,0,{"$f":"IF(E597=0,0,E597)","v":0},0,0,0,0,0,0,0,0,0,0,{"$f":"IF(P597=4,1,IF(P597=3,2,IF(P597=2,3,IF(P597=1,4,0))))","v":0},0,0,0,0,0,0,0,0]
[null,32,0,0,{"$f":"IF(E598=0,0,E598)","v":0},0,0,0,0,0,0,0,0,0,0,{"$f":"IF(P598=4,1,IF(P598=3,2,IF(P598=2,3,IF(P598=1,4,0))))","v":0},0,0,0,0,0,0,0,0]
[null,33,0,0,{"$f":"IF(E599=0,0,E599)","v":0},0,0,0,0,0,0,0,0,0,0,{"$f":"IF(P599=4,1,IF(P599=3,2,IF(P599=2,3,IF(P599=1,4,0))))","v":0},0,0,0,0,0,0,0,0]
[null,34,0,0,{"$f":"IF(E600=0,0,E600)","v":0},0,0,0,0,0,0,0,0,0,0,{"$f":"IF(P600=4,1,IF(P600=3,2,IF(P600=2,3,IF(P600=1,4,0))))","v":0},0,0,0,0,0,0,0,0]
[null,35,0,0,{"$f":"IF(E601=0,0,E601)","v":0},0,0,0,0,0,0,0,0,0,0,{"$f":"IF(P601=4,1,IF(P601=3,2,IF(P601=2,3,IF(P601=1,4,0))))","v":0},0,0,0,0,0,0,0,0]
[null,36,0,0,{"$f":"IF(E602=0,0,E602)","v":0},0,0,0,0,0,0,0,0,0,0,{"$f":"IF(P602=4,1,IF(P602=3,2,IF(P602=2,3,IF(P602=1,4,0))))","v":0},0,0,0,0,0,0,0,0]
[null,37,0,0,{"$f":"IF(E603=0,0,E603)","v":0},0,0,0,0,0,0,0,0,0,0,{"$f":"IF(P603=4,1,IF(P603=3,2,IF(P603=2,3,IF(P603=1,4,0))))","v":0},0,0,0,0,0,0,0,0]
[null,38,0,0,{"$f":"IF(E604=0,0,E604)","v":0},0,0,0,0,0,0,0,0,0,0,{"$f":"IF(P604=4,1,IF(P604=3,2,IF(P604=2,3,IF(P604=1,4,0))))","v":0},0,0,0,0,0,0,0,0]
[null,39,0,0,{"$f":"IF(E605=0,0,E605)","v":0},0,0,0,0,0,0,0,0,0,0,{"$f":"IF(P605=4,1,IF(P605=3,2,IF(P605=2,3,IF(P605=1,4,0))))","v":0},0,0,0,0,0,0,0,0]
[null,40,0,0,{"$f":"IF(E606=0,0,E606)","v":0},0,0,0,0,0,0,0,0,0,0,{"$f":"IF(P606=4,1,IF(P606=3,2,IF(P606=2,3,IF(P606=1,4,0))))","v":0},0,0,0,0,0,0,0,0]
[null,41,0,0,{"$f":"IF(E607=0,0,E607)","v":0},0,0,0,0,0,0,0,0,0,0,{"$f":"IF(P607=4,1,IF(P607=3,2,IF(P607=2,3,IF(P607=1,4,0))))","v":0},0,0,0,0,0,0,0,0]
[null,42,0,0,{"$f":"IF(E608=0,0,E608)","v":0},0,0,0,0,0,0,0,0,0,0,{"$f":"IF(P608=4,1,IF(P608=3,2,IF(P608=2,3,IF(P608=1,4,0))))","v":0},0,0,0,0,0,0,0,0]
[null,43,0,0,{"$f":"IF(E609=0,0,E609)","v":0},0,0,0,0,0,0,0,0,0,0,{"$f":"IF(P609=4,1,IF(P609=3,2,IF(P609=2,3,IF(P609=1,4,0))))","v":0},0,0,0,0,0,0,0,0]
[null,44,0,0,{"$f":"IF(E610=0,0,E610)","v":0},0,0,0,0,0,0,0,0,0,0,{"$f":"IF(P610=4,1,IF(P610=3,2,IF(P610=2,3,IF(P610=1,4,0))))","v":0},0,0,0,0,0,0,0,0]
[null,45,0,0,{"$f":"IF(E611=0,0,E611)","v":0},0,0,0,0,0,0,0,0,0,0,{"$f":"IF(P611=4,1,IF(P611=3,2,IF(P611=2,3,IF(P611=1,4,0))))","v":0},0,0,0,0,0,0,0,0]
[null,46,0,0,{"$f":"IF(E612=0,0,E612)","v":0},0,0,0,0,0,0,0,0,0,0,{"$f":"IF(P612=4,1,IF(P612=3,2,IF(P612=2,3,IF(P612=1,4,0))))","v":0},0,0,0,0,0,0,0,0]
[null,47,0,0,{"$f":"IF(E613=0,0,E613)","v":0},0,0,0,0,0,0,0,0,0,0,{"$f":"IF(P613=4,1,IF(P613=3,2,IF(P613=2,3,IF(P613=1,4,0))))","v":0},0,0,0,0,0,0,0,0]
[null,48,0,0,{"$f":"IF(E614=0,0,E614)","v":0},0,0,0,0,0,0,0,0,0,0,{"$f":"IF(P614=4,1,IF(P614=3,2,IF(P614=2,3,IF(P614=1,4,0))))","v":0},0,0,0,0,0,0,0,0]
[null,49,0,0,{"$f":"IF(E615=0,0,E615)","v":0},0,0,0,0,0,0,0,0,0,0,{"$f":"IF(P615=4,1,IF(P615=3,2,IF(P615=2,3,IF(P615=1,4,0))))","v":0},0,0,0,0,0,0,0,0]
[null,50,0,0,{"$f":"IF(E616=0,0,E616)","v":0},0,0,0,0,0,0,0,0,0,0,{"$f":"IF(P616=4,1,IF(P616=3,2,IF(P616=2,3,IF(P616=1,4,0))))","v":0},0,0,0,0,0,0,0,0]
[null,51,0,0,{"$f":"IF(E617=0,0,E617)","v":0},0,0,0,0,0,0,0,0,0,0,{"$f":"IF(P617=4,1,IF(P617=3,2,IF(P617=2,3,IF(P617=1,4,0))))","v":0},0,0,0,0,0,0,0,0]
[null,52,0,0,{"$f":"IF(E618=0,0,E618)","v":0},0,0,0,0,0,0,0,0,0,0,{"$f":"IF(P618=4,1,IF(P618=3,2,IF(P618=2,3,IF(P618=1,4,0))))","v":0},0,0,0,0,0,0,0,0]
[null,53,0,0,{"$f":"IF(E619=0,0,E619)","v":0},0,0,0,0,0,0,0,0,0,0,{"$f":"IF(P619=4,1,IF(P619=3,2,IF(P619=2,3,IF(P619=1,4,0))))","v":0},0,0,0,0,0,0,0,0]
[null,54,0,0,{"$f":"IF(E620=0,0,E620)","v":0},0,0,0,0,0,0,0,0,0,0,{"$f":"IF(P620=4,1,IF(P620=3,2,IF(P620=2,3,IF(P620=1,4,0))))","v":0},0,0,0,0,0,0,0,0]
[null,55,0,0,{"$f":"IF(E621=0,0,E621)","v":0},0,0,0,0,0,0,0,0,0,0,{"$f":"IF(P621=4,1,IF(P621=3,2,IF(P621=2,3,IF(P621=1,4,0))))","v":0},0,0,0,0,0,0,0,0]
[null,56,0,0,{"$f":"IF(E622=0,0,E622)","v":0},0,0,0,0,0,0,0,0,0,0,{"$f":"IF(P622=4,1,IF(P622=3,2,IF(P622=2,3,IF(P622=1,4,0))))","v":0},0,0,0,0,0,0,0,0]
[null,57,0,0,{"$f":"IF(E623=0,0,E623)","v":0},0,0,0,0,0,0,0,0,0,0,{"$f":"IF(P623=4,1,IF(P623=3,2,IF(P623=2,3,IF(P623=1,4,0))))","v":0},0,0,0,0,0,0,0,0]
[null,58,0,0,{"$f":"IF(E624=0,0,E624)","v":0},0,0,0,0,0,0,0,0,0,0,{"$f":"IF(P624=4,1,IF(P624=3,2,IF(P624=2,3,IF(P624=1,4,0))))","v":0},0,0,0,0,0,0,0,0]
[null,59,0,0,{"$f":"IF(E625=0,0,E625)","v":0},0,0,0,0,0,0,0,0,0,0,{"$f":"IF(P625=4,1,IF(P625=3,2,IF(P625=2,3,IF(P625=1,4,0))))","v":0},0,0,0,0,0,0,0,0]
[null,60,0,0,{"$f":"IF(E626=0,0,E626)","v":0},0,0,0,0,0,0,0,0,0,0,{"$f":"IF(P626=4,1,IF(P626=3,2,IF(P626=2,3,IF(P626=1,4,0))))","v":0},0,0,0,0,0,0,0,0]
["２組",1,0,0,{"$f":"IF(E627=0,0,E627)","v":0},0,0,0,0,0,0,0,0,0,0,{"$f":"IF(P627=4,1,IF(P627=3,2,IF(P627=2,3,IF(P627=1,4,0))))","v":0},0,0,0,0,0,0,0,0]
[null,2,0,0,{"$f":"IF(E628=0,0,E628)","v":0},0,0,0,0,0,0,0,0,0,0,{"$f":"IF(P628=4,1,IF(P628=3,2,IF(P628=2,3,IF(P628=1,4,0))))","v":0},0,0,0,0,0,0,0,0]
[null,3,0,0,{"$f":"IF(E629=0,0,E629)","v":0},0,0,0,0,0,0,0,0,0,0,{"$f":"IF(P629=4,1,IF(P629=3,2,IF(P629=2,3,IF(P629=1,4,0))))","v":0},0,0,0,0,0,0,0,0]
[null,4,0,0,{"$f":"IF(E630=0,0,E630)","v":0},0,0,0,0,0,0,0,0,0,0,{"$f":"IF(P630=4,1,IF(P630=3,2,IF(P630=2,3,IF(P630=1,4,0))))","v":0},0,0,0,0,0,0,0,0]
[null,5,0,0,{"$f":"IF(E631=0,0,E631)","v":0},0,0,0,0,0,0,0,0,0,0,{"$f":"IF(P631=4,1,IF(P631=3,2,IF(P631=2,3,IF(P631=1,4,0))))","v":0},0,0,0,0,0,0,0,0]
[null,6,{"$f":"C632","v":0},{"$f":"IF(D632=\"男\",1,IF(D632=\"女\",2,0))","v":0},{"$f":"IF(E632=0,0,E632)","v":0},0,0,0,0,0,0,0,0,0,0,{"$f":"IF(P632=4,1,IF(P632=3,2,IF(P632=2,3,IF(P632=1,4,0))))","v":0},0,0,0,0,0,0,0,0]
[null,7,0,0,{"$f":"IF(E633=0,0,E633)","v":0},0,0,0,0,0,0,0,0,0,0,{"$f":"IF(P633=4,1,IF(P633=3,2,IF(P633=2,3,IF(P633=1,4,0))))","v":0},0,0,0,0,0,0,0,0]
[null,8,0,0,{"$f":"IF(E634=0,0,E634)","v":0},0,0,0,0,0,0,0,0,0,0,{"$f":"IF(P634=4,1,IF(P634=3,2,IF(P634=2,3,IF(P634=1,4,0))))","v":0},0,0,0,0,0,0,0,0]
[null,9,0,0,{"$f":"IF(E635=0,0,E635)","v":0},0,0,0,0,0,0,0,0,0,0,{"$f":"IF(P635=4,1,IF(P635=3,2,IF(P635=2,3,IF(P635=1,4,0))))","v":0},0,0,0,0,0,0,0,0]
[null,10,0,0,{"$f":"IF(E636=0,0,E636)","v":0},0,0,0,0,0,0,0,0,0,0,{"$f":"IF(P636=4,1,IF(P636=3,2,IF(P636=2,3,IF(P636=1,4,0))))","v":0},0,0,0,0,0,0,0,0]
[null,11,0,0,{"$f":"IF(E637=0,0,E637)","v":0},0,0,0,0,0,0,0,0,0,0,{"$f":"IF(P637=4,1,IF(P637=3,2,IF(P637=2,3,IF(P637=1,4,0))))","v":0},0,0,0,0,0,0,0,0]
[null,12,0,0,{"$f":"IF(E638=0,0,E638)","v":0},0,0,0,0,0,0,0,0,0,0,{"$f":"IF(P638=4,1,IF(P638=3,2,IF(P638=2,3,IF(P638=1,4,0))))","v":0},0,0,0,0,0,0,0,0]
[null,13,0,0,{"$f":"IF(E639=0,0,E639)","v":0},0,0,0,0,0,0,0,0,0,0,{"$f":"IF(P639=4,1,IF(P639=3,2,IF(P639=2,3,IF(P639=1,4,0))))","v":0},0,0,0,0,0,0,0,0]
[null,14,0,0,{"$f":"IF(E640=0,0,E640)","v":0},0,0,0,0,0,0,0,0,0,0,{"$f":"IF(P640=4,1,IF(P640=3,2,IF(P640=2,3,IF(P640=1,4,0))))","v":0},0,0,0,0,0,0,0,0]
[null,15,0,0,{"$f":"IF(E641=0,0,E641)","v":0},0,0,0,0,0,0,0,0,0,0,{"$f":"IF(P641=4,1,IF(P641=3,2,IF(P641=2,3,IF(P641=1,4,0))))","v":0},0,0,0,0,0,0,0,0]
[null,16,0,0,{"$f":"IF(E642=0,0,E642)","v":0},0,0,0,0,0,0,0,0,0,0,{"$f":"IF(P642=4,1,IF(P642=3,2,IF(P642=2,3,IF(P642=1,4,0))))","v":0},0,0,0,0,0,0,0,0]
[null,17,0,0,{"$f":"IF(E643=0,0,E643)","v":0},0,0,0,0,0,0,0,0,0,0,{"$f":"IF(P643=4,1,IF(P643=3,2,IF(P643=2,3,IF(P643=1,4,0))))","v":0},0,0,0,0,0,0,0,0]
[null,18,0,0,{"$f":"IF(E644=0,0,E644)","v":0},0,0,0,0,0,0,0,0,0,0,{"$f":"IF(P644=4,1,IF(P644=3,2,IF(P644=2,3,IF(P644=1,4,0))))","v":0},0,0,0,0,0,0,0,0]
[null,19,0,0,{"$f":"IF(E645=0,0,E645)","v":0},0,0,0,0,0,0,0,0,0,0,{"$f":"IF(P645=4,1,IF(P645=3,2,IF(P645=2,3,IF(P645=1,4,0))))","v":0},0,0,0,0,0,0,0,0]
[null,20,0,0,{"$f":"IF(E646=0,0,E646)","v":0},0,0,0,0,0,0,0,0,0,0,{"$f":"IF(P646=4,1,IF(P646=3,2,IF(P646=2,3,IF(P646=1,4,0))))","v":0},0,0,0,0,0,0,0,0]
[null,21,0,0,{"$f":"IF(E647=0,0,E647)","v":0},0,0,0,0,0,0,0,0,0,0,{"$f":"IF(P647=4,1,IF(P647=3,2,IF(P647=2,3,IF(P647=1,4,0))))","v":0},0,0,0,0,0,0,0,0]
[null,22,0,0,{"$f":"IF(E648=0,0,E648)","v":0},0,0,0,0,0,0,0,0,0,0,{"$f":"IF(P648=4,1,IF(P648=3,2,IF(P648=2,3,IF(P648=1,4,0))))","v":0},0,0,0,0,0,0,0,0]
[null,23,0,0,{"$f":"IF(E649=0,0,E649)","v":0},0,0,0,0,0,0,0,0,0,0,{"$f":"IF(P649=4,1,IF(P649=3,2,IF(P649=2,3,IF(P649=1,4,0))))","v":0},0,0,0,0,0,0,0,0]
[null,24,0,0,{"$f":"IF(E650=0,0,E650)","v":0},0,0,0,0,0,0,0,0,0,0,{"$f":"IF(P650=4,1,IF(P650=3,2,IF(P650=2,3,IF(P650=1,4,0))))","v":0},0,0,0,0,0,0,0,0]
[null,25,0,0,{"$f":"IF(E651=0,0,E651)","v":0},0,0,0,0,0,0,0,0,0,0,{"$f":"IF(P651=4,1,IF(P651=3,2,IF(P651=2,3,IF(P651=1,4,0))))","v":0},0,0,0,0,0,0,0,0]
[null,26,0,0,{"$f":"IF(E652=0,0,E652)","v":0},0,0,0,0,0,0,0,0,0,0,{"$f":"IF(P652=4,1,IF(P652=3,2,IF(P652=2,3,IF(P652=1,4,0))))","v":0},0,0,0,0,0,0,0,0]
[null,27,0,0,{"$f":"IF(E653=0,0,E653)","v":0},0,0,0,0,0,0,0,0,0,0,{"$f":"IF(P653=4,1,IF(P653=3,2,IF(P653=2,3,IF(P653=1,4,0))))","v":0},0,0,0,0,0,0,0,0]
[null,28,0,0,{"$f":"IF(E654=0,0,E654)","v":0},0,0,0,0,0,0,0,0,0,0,{"$f":"IF(P654=4,1,IF(P654=3,2,IF(P654=2,3,IF(P654=1,4,0))))","v":0},0,0,0,0,0,0,0,0]
[null,29,0,0,{"$f":"IF(E655=0,0,E655)","v":0},0,0,0,0,0,0,0,0,0,0,{"$f":"IF(P655=4,1,IF(P655=3,2,IF(P655=2,3,IF(P655=1,4,0))))","v":0},0,0,0,0,0,0,0,0]
[null,30,0,0,{"$f":"IF(E656=0,0,E656)","v":0},0,0,0,0,0,0,0,0,0,0,{"$f":"IF(P656=4,1,IF(P656=3,2,IF(P656=2,3,IF(P656=1,4,0))))","v":0},0,0,0,0,0,0,0,0]
[null,31,0,0,{"$f":"IF(E657=0,0,E657)","v":0},0,0,0,0,0,0,0,0,0,0,{"$f":"IF(P657=4,1,IF(P657=3,2,IF(P657=2,3,IF(P657=1,4,0))))","v":0},0,0,0,0,0,0,0,0]
[null,32,0,0,{"$f":"IF(E658=0,0,E658)","v":0},0,0,0,0,0,0,0,0,0,0,{"$f":"IF(P658=4,1,IF(P658=3,2,IF(P658=2,3,IF(P658=1,4,0))))","v":0},0,0,0,0,0,0,0,0]
[null,33,0,0,{"$f":"IF(E659=0,0,E659)","v":0},0,0,0,0,0,0,0,0,0,0,{"$f":"IF(P659=4,1,IF(P659=3,2,IF(P659=2,3,IF(P659=1,4,0))))","v":0},0,0,0,0,0,0,0,0]
[null,34,0,0,{"$f":"IF(E660=0,0,E660)","v":0},0,0,0,0,0,0,0,0,0,0,{"$f":"IF(P660=4,1,IF(P660=3,2,IF(P660=2,3,IF(P660=1,4,0))))","v":0},0,0,0,0,0,0,0,0]
[null,35,0,0,{"$f":"IF(E661=0,0,E661)","v":0},0,0,0,0,0,0,0,0,0,0,{"$f":"IF(P661=4,1,IF(P661=3,2,IF(P661=2,3,IF(P661=1,4,0))))","v":0},0,0,0,0,0,0,0,0]
[null,36,0,0,{"$f":"IF(E662=0,0,E662)","v":0},0,0,0,0,0,0,0,0,0,0,{"$f":"IF(P662=4,1,IF(P662=3,2,IF(P662=2,3,IF(P662=1,4,0))))","v":0},0,0,0,0,0,0,0,0]
[null,37,0,0,{"$f":"IF(E663=0,0,E663)","v":0},0,0,0,0,0,0,0,0,0,0,{"$f":"IF(P663=4,1,IF(P663=3,2,IF(P663=2,3,IF(P663=1,4,0))))","v":0},0,0,0,0,0,0,0,0]
[null,38,0,0,{"$f":"IF(E664=0,0,E664)","v":0},0,0,0,0,0,0,0,0,0,0,{"$f":"IF(P664=4,1,IF(P664=3,2,IF(P664=2,3,IF(P664=1,4,0))))","v":0},0,0,0,0,0,0,0,0]
[null,39,0,0,{"$f":"IF(E665=0,0,E665)","v":0},0,0,0,0,0,0,0,0,0,0,{"$f":"IF(P665=4,1,IF(P665=3,2,IF(P665=2,3,IF(P665=1,4,0))))","v":0},0,0,0,0,0,0,0,0]
[null,40,0,0,{"$f":"IF(E666=0,0,E666)","v":0},0,0,0,0,0,0,0,0,0,0,{"$f":"IF(P666=4,1,IF(P666=3,2,IF(P666=2,3,IF(P666=1,4,0))))","v":0},0,0,0,0,0,0,0,0]
[null,41,0,0,{"$f":"IF(E667=0,0,E667)","v":0},0,0,0,0,0,0,0,0,0,0,{"$f":"IF(P667=4,1,IF(P667=3,2,IF(P667=2,3,IF(P667=1,4,0))))","v":0},0,0,0,0,0,0,0,0]
[null,42,0,0,{"$f":"IF(E668=0,0,E668)","v":0},0,0,0,0,0,0,0,0,0,0,{"$f":"IF(P668=4,1,IF(P668=3,2,IF(P668=2,3,IF(P668=1,4,0))))","v":0},0,0,0,0,0,0,0,0]
[null,43,0,0,{"$f":"IF(E669=0,0,E669)","v":0},0,0,0,0,0,0,0,0,0,0,{"$f":"IF(P669=4,1,IF(P669=3,2,IF(P669=2,3,IF(P669=1,4,0))))","v":0},0,0,0,0,0,0,0,0]
[null,44,0,0,{"$f":"IF(E670=0,0,E670)","v":0},0,0,0,0,0,0,0,0,0,0,{"$f":"IF(P670=4,1,IF(P670=3,2,IF(P670=2,3,IF(P670=1,4,0))))","v":0},0,0,0,0,0,0,0,0]
[null,45,0,0,{"$f":"IF(E671=0,0,E671)","v":0},0,0,0,0,0,0,0,0,0,0,{"$f":"IF(P671=4,1,IF(P671=3,2,IF(P671=2,3,IF(P671=1,4,0))))","v":0},0,0,0,0,0,0,0,0]
[null,46,0,0,{"$f":"IF(E672=0,0,E672)","v":0},0,0,0,0,0,0,0,0,0,0,{"$f":"IF(P672=4,1,IF(P672=3,2,IF(P672=2,3,IF(P672=1,4,0))))","v":0},0,0,0,0,0,0,0,0]
[null,47,0,0,{"$f":"IF(E673=0,0,E673)","v":0},0,0,0,0,0,0,0,0,0,0,{"$f":"IF(P673=4,1,IF(P673=3,2,IF(P673=2,3,IF(P673=1,4,0))))","v":0},0,0,0,0,0,0,0,0]
[null,48,0,0,{"$f":"IF(E674=0,0,E674)","v":0},0,0,0,0,0,0,0,0,0,0,{"$f":"IF(P674=4,1,IF(P674=3,2,IF(P674=2,3,IF(P674=1,4,0))))","v":0},0,0,0,0,0,0,0,0]
[null,49,0,0,{"$f":"IF(E675=0,0,E675)","v":0},0,0,0,0,0,0,0,0,0,0,{"$f":"IF(P675=4,1,IF(P675=3,2,IF(P675=2,3,IF(P675=1,4,0))))","v":0},0,0,0,0,0,0,0,0]
[null,50,0,0,{"$f":"IF(E676=0,0,E676)","v":0},0,0,0,0,0,0,0,0,0,0,{"$f":"IF(P676=4,1,IF(P676=3,2,IF(P676=2,3,IF(P676=1,4,0))))","v":0},0,0,0,0,0,0,0,0]
[null,51,0,0,{"$f":"IF(E677=0,0,E677)","v":0},0,0,0,0,0,0,0,0,0,0,{"$f":"IF(P677=4,1,IF(P677=3,2,IF(P677=2,3,IF(P677=1,4,0))))","v":0},0,0,0,0,0,0,0,0]
[null,52,0,0,{"$f":"IF(E678=0,0,E678)","v":0},0,0,0,0,0,0,0,0,0,0,{"$f":"IF(P678=4,1,IF(P678=3,2,IF(P678=2,3,IF(P678=1,4,0))))","v":0},0,0,0,0,0,0,0,0]
[null,53,0,0,{"$f":"IF(E679=0,0,E679)","v":0},0,0,0,0,0,0,0,0,0,0,{"$f":"IF(P679=4,1,IF(P679=3,2,IF(P679=2,3,IF(P679=1,4,0))))","v":0},0,0,0,0,0,0,0,0]
[null,54,0,0,{"$f":"IF(E680=0,0,E680)","v":0},0,0,0,0,0,0,0,0,0,0,{"$f":"IF(P680=4,1,IF(P680=3,2,IF(P680=2,3,IF(P680=1,4,0))))","v":0},0,0,0,0,0,0,0,0]
[null,55,0,0,{"$f":"IF(E681=0,0,E681)","v":0},0,0,0,0,0,0,0,0,0,0,{"$f":"IF(P681=4,1,IF(P681=3,2,IF(P681=2,3,IF(P681=1,4,0))))","v":0},0,0,0,0,0,0,0,0]
[null,56,0,0,{"$f":"IF(E682=0,0,E682)","v":0},0,0,0,0,0,0,0,0,0,0,{"$f":"IF(P682=4,1,IF(P682=3,2,IF(P682=2,3,IF(P682=1,4,0))))","v":0},0,0,0,0,0,0,0,0]
[null,57,0,0,{"$f":"IF(E683=0,0,E683)","v":0},0,0,0,0,0,0,0,0,0,0,{"$f":"IF(P683=4,1,IF(P683=3,2,IF(P683=2,3,IF(P683=1,4,0))))","v":0},0,0,0,0,0,0,0,0]
[null,58,0,0,{"$f":"IF(E684=0,0,E684)","v":0},0,0,0,0,0,0,0,0,0,0,{"$f":"IF(P684=4,1,IF(P684=3,2,IF(P684=2,3,IF(P684=1,4,0))))","v":0},0,0,0,0,0,0,0,0]
[null,59,0,0,{"$f":"IF(E685=0,0,E685)","v":0},0,0,0,0,0,0,0,0,0,0,{"$f":"IF(P685=4,1,IF(P685=3,2,IF(P685=2,3,IF(P685=1,4,0))))","v":0},0,0,0,0,0,0,0,0]
[null,60,0,0,{"$f":"IF(E686=0,0,E686)","v":0},0,0,0,0,0,0,0,0,0,0,{"$f":"IF(P686=4,1,IF(P686=3,2,IF(P686=2,3,IF(P686=1,4,0))))","v":0},0,0,0,0,0,0,0,0]
["３組",1,0,0,{"$f":"IF(E687=0,0,E687)","v":0},0,0,0,0,0,0,0,0,0,0,{"$f":"IF(P687=4,1,IF(P687=3,2,IF(P687=2,3,IF(P687=1,4,0))))","v":0},0,0,0,0,0,0,0,0]
[null,2,0,0,{"$f":"IF(E688=0,0,E688)","v":0},0,0,0,0,0,0,0,0,0,0,{"$f":"IF(P688=4,1,IF(P688=3,2,IF(P688=2,3,IF(P688=1,4,0))))","v":0},0,0,0,0,0,0,0,0]
[null,3,0,0,{"$f":"IF(E689=0,0,E689)","v":0},0,0,0,0,0,0,0,0,0,0,{"$f":"IF(P689=4,1,IF(P689=3,2,IF(P689=2,3,IF(P689=1,4,0))))","v":0},0,0,0,0,0,0,0,0]
[null,4,0,0,{"$f":"IF(E690=0,0,E690)","v":0},0,0,0,0,0,0,0,0,0,0,{"$f":"IF(P690=4,1,IF(P690=3,2,IF(P690=2,3,IF(P690=1,4,0))))","v":0},0,0,0,0,0,0,0,0]
[null,5,0,0,{"$f":"IF(E691=0,0,E691)","v":0},0,0,0,0,0,0,0,0,0,0,{"$f":"IF(P691=4,1,IF(P691=3,2,IF(P691=2,3,IF(P691=1,4,0))))","v":0},0,0,0,0,0,0,0,0]
[null,6,0,0,{"$f":"IF(E692=0,0,E692)","v":0},0,0,0,0,0,0,0,0,0,0,{"$f":"IF(P692=4,1,IF(P692=3,2,IF(P692=2,3,IF(P692=1,4,0))))","v":0},0,0,0,0,0,0,0,0]
[null,7,0,0,{"$f":"IF(E693=0,0,E693)","v":0},0,0,0,0,0,0,0,0,0,0,{"$f":"IF(P693=4,1,IF(P693=3,2,IF(P693=2,3,IF(P693=1,4,0))))","v":0},0,0,0,0,0,0,0,0]
[null,8,0,0,{"$f":"IF(E694=0,0,E694)","v":0},0,0,0,0,0,0,0,0,0,0,{"$f":"IF(P694=4,1,IF(P694=3,2,IF(P694=2,3,IF(P694=1,4,0))))","v":0},0,0,0,0,0,0,0,0]
[null,9,0,0,{"$f":"IF(E695=0,0,E695)","v":0},0,0,0,0,0,0,0,0,0,0,{"$f":"IF(P695=4,1,IF(P695=3,2,IF(P695=2,3,IF(P695=1,4,0))))","v":0},0,0,0,0,0,0,0,0]
[null,10,{"$f":"C696","v":0},{"$f":"IF(D696=\"男\",1,IF(D696=\"女\",2,0))","v":0},{"$f":"IF(E696=0,0,E696)","v":0},0,0,0,0,0,0,0,0,0,0,{"$f":"IF(P696=4,1,IF(P696=3,2,IF(P696=2,3,IF(P696=1,4,0))))","v":0},0,0,0,0,0,0,0,0]
[null,11,0,0,{"$f":"IF(E697=0,0,E697)","v":0},0,0,0,0,0,0,0,0,0,0,{"$f":"IF(P697=4,1,IF(P697=3,2,IF(P697=2,3,IF(P697=1,4,0))))","v":0},0,0,0,0,0,0,0,0]
[null,12,0,0,{"$f":"IF(E698=0,0,E698)","v":0},0,0,0,0,0,0,0,0,0,0,{"$f":"IF(P698=4,1,IF(P698=3,2,IF(P698=2,3,IF(P698=1,4,0))))","v":0},0,0,0,0,0,0,0,0]
[null,13,0,0,{"$f":"IF(E699=0,0,E699)","v":0},0,0,0,0,0,0,0,0,0,0,{"$f":"IF(P699=4,1,IF(P699=3,2,IF(P699=2,3,IF(P699=1,4,0))))","v":0},0,0,0,0,0,0,0,0]
[null,14,0,0,{"$f":"IF(E700=0,0,E700)","v":0},0,0,0,0,0,0,0,0,0,0,{"$f":"IF(P700=4,1,IF(P700=3,2,IF(P700=2,3,IF(P700=1,4,0))))","v":0},0,0,0,0,0,0,0,0]
[null,15,0,0,{"$f":"IF(E701=0,0,E701)","v":0},0,0,0,0,0,0,0,0,0,0,{"$f":"IF(P701=4,1,IF(P701=3,2,IF(P701=2,3,IF(P701=1,4,0))))","v":0},0,0,0,0,0,0,0,0]
[null,16,0,0,{"$f":"IF(E702=0,0,E702)","v":0},0,0,0,0,0,0,0,0,0,0,{"$f":"IF(P702=4,1,IF(P702=3,2,IF(P702=2,3,IF(P702=1,4,0))))","v":0},0,0,0,0,0,0,0,0]
[null,17,0,0,{"$f":"IF(E703=0,0,E703)","v":0},0,0,0,0,0,0,0,0,0,0,{"$f":"IF(P703=4,1,IF(P703=3,2,IF(P703=2,3,IF(P703=1,4,0))))","v":0},0,0,0,0,0,0,0,0]
[null,18,0,0,{"$f":"IF(E704=0,0,E704)","v":0},0,0,0,0,0,0,0,0,0,0,{"$f":"IF(P704=4,1,IF(P704=3,2,IF(P704=2,3,IF(P704=1,4,0))))","v":0},0,0,0,0,0,0,0,0]
[null,19,0,0,{"$f":"IF(E705=0,0,E705)","v":0},0,0,0,0,0,0,0,0,0,0,{"$f":"IF(P705=4,1,IF(P705=3,2,IF(P705=2,3,IF(P705=1,4,0))))","v":0},0,0,0,0,0,0,0,0]
[null,20,0,0,{"$f":"IF(E706=0,0,E706)","v":0},0,0,0,0,0,0,0,0,0,0,{"$f":"IF(P706=4,1,IF(P706=3,2,IF(P706=2,3,IF(P706=1,4,0))))","v":0},0,0,0,0,0,0,0,0]
[null,21,0,0,{"$f":"IF(E707=0,0,E707)","v":0},0,0,0,0,0,0,0,0,0,0,{"$f":"IF(P707=4,1,IF(P707=3,2,IF(P707=2,3,IF(P707=1,4,0))))","v":0},0,0,0,0,0,0,0,0]
[null,22,0,0,{"$f":"IF(E708=0,0,E708)","v":0},0,0,0,0,0,0,0,0,0,0,{"$f":"IF(P708=4,1,IF(P708=3,2,IF(P708=2,3,IF(P708=1,4,0))))","v":0},0,0,0,0,0,0,0,0]
[null,23,0,0,{"$f":"IF(E709=0,0,E709)","v":0},0,0,0,0,0,0,0,0,0,0,{"$f":"IF(P709=4,1,IF(P709=3,2,IF(P709=2,3,IF(P709=1,4,0))))","v":0},0,0,0,0,0,0,0,0]
[null,24,0,0,{"$f":"IF(E710=0,0,E710)","v":0},0,0,0,0,0,0,0,0,0,0,{"$f":"IF(P710=4,1,IF(P710=3,2,IF(P710=2,3,IF(P710=1,4,0))))","v":0},0,0,0,0,0,0,0,0]
[null,25,0,0,{"$f":"IF(E711=0,0,E711)","v":0},0,0,0,0,0,0,0,0,0,0,{"$f":"IF(P711=4,1,IF(P711=3,2,IF(P711=2,3,IF(P711=1,4,0))))","v":0},0,0,0,0,0,0,0,0]
[null,26,0,0,{"$f":"IF(E712=0,0,E712)","v":0},0,0,0,0,0,0,0,0,0,0,{"$f":"IF(P712=4,1,IF(P712=3,2,IF(P712=2,3,IF(P712=1,4,0))))","v":0},0,0,0,0,0,0,0,0]
[null,27,0,0,{"$f":"IF(E713=0,0,E713)","v":0},0,0,0,0,0,0,0,0,0,0,{"$f":"IF(P713=4,1,IF(P713=3,2,IF(P713=2,3,IF(P713=1,4,0))))","v":0},0,0,0,0,0,0,0,0]
[null,28,0,0,{"$f":"IF(E714=0,0,E714)","v":0},0,0,0,0,0,0,0,0,0,0,{"$f":"IF(P714=4,1,IF(P714=3,2,IF(P714=2,3,IF(P714=1,4,0))))","v":0},0,0,0,0,0,0,0,0]
[null,29,0,0,{"$f":"IF(E715=0,0,E715)","v":0},0,0,0,0,0,0,0,0,0,0,{"$f":"IF(P715=4,1,IF(P715=3,2,IF(P715=2,3,IF(P715=1,4,0))))","v":0},0,0,0,0,0,0,0,0]
[null,30,0,0,{"$f":"IF(E716=0,0,E716)","v":0},0,0,0,0,0,0,0,0,0,0,{"$f":"IF(P716=4,1,IF(P716=3,2,IF(P716=2,3,IF(P716=1,4,0))))","v":0},0,0,0,0,0,0,0,0]
[null,31,0,0,{"$f":"IF(E717=0,0,E717)","v":0},0,0,0,0,0,0,0,0,0,0,{"$f":"IF(P717=4,1,IF(P717=3,2,IF(P717=2,3,IF(P717=1,4,0))))","v":0},0,0,0,0,0,0,0,0]
[null,32,0,0,{"$f":"IF(E718=0,0,E718)","v":0},0,0,0,0,0,0,0,0,0,0,{"$f":"IF(P718=4,1,IF(P718=3,2,IF(P718=2,3,IF(P718=1,4,0))))","v":0},0,0,0,0,0,0,0,0]
[null,33,0,0,{"$f":"IF(E719=0,0,E719)","v":0},0,0,0,0,0,0,0,0,0,0,{"$f":"IF(P719=4,1,IF(P719=3,2,IF(P719=2,3,IF(P719=1,4,0))))","v":0},0,0,0,0,0,0,0,0]
[null,34,0,0,{"$f":"IF(E720=0,0,E720)","v":0},0,0,0,0,0,0,0,0,0,0,{"$f":"IF(P720=4,1,IF(P720=3,2,IF(P720=2,3,IF(P720=1,4,0))))","v":0},0,0,0,0,0,0,0,0]
[null,35,0,0,{"$f":"IF(E721=0,0,E721)","v":0},0,0,0,0,0,0,0,0,0,0,{"$f":"IF(P721=4,1,IF(P721=3,2,IF(P721=2,3,IF(P721=1,4,0))))","v":0},0,0,0,0,0,0,0,0]
[null,36,0,0,{"$f":"IF(E722=0,0,E722)","v":0},0,0,0,0,0,0,0,0,0,0,{"$f":"IF(P722=4,1,IF(P722=3,2,IF(P722=2,3,IF(P722=1,4,0))))","v":0},0,0,0,0,0,0,0,0]
[null,37,0,0,{"$f":"IF(E723=0,0,E723)","v":0},0,0,0,0,0,0,0,0,0,0,{"$f":"IF(P723=4,1,IF(P723=3,2,IF(P723=2,3,IF(P723=1,4,0))))","v":0},0,0,0,0,0,0,0,0]
[null,38,0,0,{"$f":"IF(E724=0,0,E724)","v":0},0,0,0,0,0,0,0,0,0,0,{"$f":"IF(P724=4,1,IF(P724=3,2,IF(P724=2,3,IF(P724=1,4,0))))","v":0},0,0,0,0,0,0,0,0]
[null,39,0,0,{"$f":"IF(E725=0,0,E725)","v":0},0,0,0,0,0,0,0,0,0,0,{"$f":"IF(P725=4,1,IF(P725=3,2,IF(P725=2,3,IF(P725=1,4,0))))","v":0},0,0,0,0,0,0,0,0]
[null,40,0,0,{"$f":"IF(E726=0,0,E726)","v":0},0,0,0,0,0,0,0,0,0,0,{"$f":"IF(P726=4,1,IF(P726=3,2,IF(P726=2,3,IF(P726=1,4,0))))","v":0},0,0,0,0,0,0,0,0]
[null,41,0,0,{"$f":"IF(E727=0,0,E727)","v":0},0,0,0,0,0,0,0,0,0,0,{"$f":"IF(P727=4,1,IF(P727=3,2,IF(P727=2,3,IF(P727=1,4,0))))","v":0},0,0,0,0,0,0,0,0]
[null,42,0,0,{"$f":"IF(E728=0,0,E728)","v":0},0,0,0,0,0,0,0,0,0,0,{"$f":"IF(P728=4,1,IF(P728=3,2,IF(P728=2,3,IF(P728=1,4,0))))","v":0},0,0,0,0,0,0,0,0]
[null,43,0,0,{"$f":"IF(E729=0,0,E729)","v":0},0,0,0,0,0,0,0,0,0,0,{"$f":"IF(P729=4,1,IF(P729=3,2,IF(P729=2,3,IF(P729=1,4,0))))","v":0},0,0,0,0,0,0,0,0]
[null,44,0,0,{"$f":"IF(E730=0,0,E730)","v":0},0,0,0,0,0,0,0,0,0,0,{"$f":"IF(P730=4,1,IF(P730=3,2,IF(P730=2,3,IF(P730=1,4,0))))","v":0},0,0,0,0,0,0,0,0]
[null,45,0,0,{"$f":"IF(E731=0,0,E731)","v":0},0,0,0,0,0,0,0,0,0,0,{"$f":"IF(P731=4,1,IF(P731=3,2,IF(P731=2,3,IF(P731=1,4,0))))","v":0},0,0,0,0,0,0,0,0]
[null,46,0,0,{"$f":"IF(E732=0,0,E732)","v":0},0,0,0,0,0,0,0,0,0,0,{"$f":"IF(P732=4,1,IF(P732=3,2,IF(P732=2,3,IF(P732=1,4,0))))","v":0},0,0,0,0,0,0,0,0]
[null,47,0,0,{"$f":"IF(E733=0,0,E733)","v":0},0,0,0,0,0,0,0,0,0,0,{"$f":"IF(P733=4,1,IF(P733=3,2,IF(P733=2,3,IF(P733=1,4,0))))","v":0},0,0,0,0,0,0,0,0]
[null,48,0,0,{"$f":"IF(E734=0,0,E734)","v":0},0,0,0,0,0,0,0,0,0,0,{"$f":"IF(P734=4,1,IF(P734=3,2,IF(P734=2,3,IF(P734=1,4,0))))","v":0},0,0,0,0,0,0,0,0]
[null,49,0,0,{"$f":"IF(E735=0,0,E735)","v":0},0,0,0,0,0,0,0,0,0,0,{"$f":"IF(P735=4,1,IF(P735=3,2,IF(P735=2,3,IF(P735=1,4,0))))","v":0},0,0,0,0,0,0,0,0]
[null,50,0,0,{"$f":"IF(E736=0,0,E736)","v":0},0,0,0,0,0,0,0,0,0,0,{"$f":"IF(P736=4,1,IF(P736=3,2,IF(P736=2,3,IF(P736=1,4,0))))","v":0},0,0,0,0,0,0,0,0]
[null,51,0,0,{"$f":"IF(E737=0,0,E737)","v":0},0,0,0,0,0,0,0,0,0,0,{"$f":"IF(P737=4,1,IF(P737=3,2,IF(P737=2,3,IF(P737=1,4,0))))","v":0},0,0,0,0,0,0,0,0]
[null,52,0,0,{"$f":"IF(E738=0,0,E738)","v":0},0,0,0,0,0,0,0,0,0,0,{"$f":"IF(P738=4,1,IF(P738=3,2,IF(P738=2,3,IF(P738=1,4,0))))","v":0},0,0,0,0,0,0,0,0]
[null,53,0,0,{"$f":"IF(E739=0,0,E739)","v":0},0,0,0,0,0,0,0,0,0,0,{"$f":"IF(P739=4,1,IF(P739=3,2,IF(P739=2,3,IF(P739=1,4,0))))","v":0},0,0,0,0,0,0,0,0]
[null,54,0,0,{"$f":"IF(E740=0,0,E740)","v":0},0,0,0,0,0,0,0,0,0,0,{"$f":"IF(P740=4,1,IF(P740=3,2,IF(P740=2,3,IF(P740=1,4,0))))","v":0},0,0,0,0,0,0,0,0]
[null,55,0,0,{"$f":"IF(E741=0,0,E741)","v":0},0,0,0,0,0,0,0,0,0,0,{"$f":"IF(P741=4,1,IF(P741=3,2,IF(P741=2,3,IF(P741=1,4,0))))","v":0},0,0,0,0,0,0,0,0]
[null,56,0,0,{"$f":"IF(E742=0,0,E742)","v":0},0,0,0,0,0,0,0,0,0,0,{"$f":"IF(P742=4,1,IF(P742=3,2,IF(P742=2,3,IF(P742=1,4,0))))","v":0},0,0,0,0,0,0,0,0]
[null,57,0,0,{"$f":"IF(E743=0,0,E743)","v":0},0,0,0,0,0,0,0,0,0,0,{"$f":"IF(P743=4,1,IF(P743=3,2,IF(P743=2,3,IF(P743=1,4,0))))","v":0},0,0,0,0,0,0,0,0]
[null,58,0,0,{"$f":"IF(E744=0,0,E744)","v":0},0,0,0,0,0,0,0,0,0,0,{"$f":"IF(P744=4,1,IF(P744=3,2,IF(P744=2,3,IF(P744=1,4,0))))","v":0},0,0,0,0,0,0,0,0]
[null,59,0,0,{"$f":"IF(E745=0,0,E745)","v":0},0,0,0,0,0,0,0,0,0,0,{"$f":"IF(P745=4,1,IF(P745=3,2,IF(P745=2,3,IF(P745=1,4,0))))","v":0},0,0,0,0,0,0,0,0]
[null,60,0,0,{"$f":"IF(E746=0,0,E746)","v":0},0,0,0,0,0,0,0,0,0,0,{"$f":"IF(P746=4,1,IF(P746=3,2,IF(P746=2,3,IF(P746=1,4,0))))","v":0},0,0,0,0,0,0,0,0]
["４組",1,0,0,{"$f":"IF(E747=0,0,E747)","v":0},0,0,0,0,0,0,0,0,0,0,{"$f":"IF(P747=4,1,IF(P747=3,2,IF(P747=2,3,IF(P747=1,4,0))))","v":0},0,0,0,0,0,0,0,0]
[null,2,0,0,{"$f":"IF(E748=0,0,E748)","v":0},0,0,0,0,0,0,0,0,0,0,{"$f":"IF(P748=4,1,IF(P748=3,2,IF(P748=2,3,IF(P748=1,4,0))))","v":0},0,0,0,0,0,0,0,0]
[null,3,0,0,{"$f":"IF(E749=0,0,E749)","v":0},0,0,0,0,0,0,0,0,0,0,{"$f":"IF(P749=4,1,IF(P749=3,2,IF(P749=2,3,IF(P749=1,4,0))))","v":0},0,0,0,0,0,0,0,0]
[null,4,0,0,{"$f":"IF(E750=0,0,E750)","v":0},0,0,0,0,0,0,0,0,0,0,{"$f":"IF(P750=4,1,IF(P750=3,2,IF(P750=2,3,IF(P750=1,4,0))))","v":0},0,0,0,0,0,0,0,0]
[null,5,0,0,{"$f":"IF(E751=0,0,E751)","v":0},0,0,0,0,0,0,0,0,0,0,{"$f":"IF(P751=4,1,IF(P751=3,2,IF(P751=2,3,IF(P751=1,4,0))))","v":0},0,0,0,0,0,0,0,0]
[null,6,0,0,{"$f":"IF(E752=0,0,E752)","v":0},0,0,0,0,0,0,0,0,0,0,{"$f":"IF(P752=4,1,IF(P752=3,2,IF(P752=2,3,IF(P752=1,4,0))))","v":0},0,0,0,0,0,0,0,0]
[null,7,0,0,{"$f":"IF(E753=0,0,E753)","v":0},0,0,0,0,0,0,0,0,0,0,{"$f":"IF(P753=4,1,IF(P753=3,2,IF(P753=2,3,IF(P753=1,4,0))))","v":0},0,0,0,0,0,0,0,0]
[null,8,0,0,{"$f":"IF(E754=0,0,E754)","v":0},0,0,0,0,0,0,0,0,0,0,{"$f":"IF(P754=4,1,IF(P754=3,2,IF(P754=2,3,IF(P754=1,4,0))))","v":0},0,0,0,0,0,0,0,0]
[null,9,0,0,{"$f":"IF(E755=0,0,E755)","v":0},0,0,0,0,0,0,0,0,0,0,{"$f":"IF(P755=4,1,IF(P755=3,2,IF(P755=2,3,IF(P755=1,4,0))))","v":0},0,0,0,0,0,0,0,0]
[null,10,0,0,{"$f":"IF(E756=0,0,E756)","v":0},0,0,0,0,0,0,0,0,0,0,{"$f":"IF(P756=4,1,IF(P756=3,2,IF(P756=2,3,IF(P756=1,4,0))))","v":0},0,0,0,0,0,0,0,0]
[null,11,0,0,{"$f":"IF(E757=0,0,E757)","v":0},0,0,0,0,0,0,0,0,0,0,{"$f":"IF(P757=4,1,IF(P757=3,2,IF(P757=2,3,IF(P757=1,4,0))))","v":0},0,0,0,0,0,0,0,0]
[null,12,0,0,{"$f":"IF(E758=0,0,E758)","v":0},0,0,0,0,0,0,0,0,0,0,{"$f":"IF(P758=4,1,IF(P758=3,2,IF(P758=2,3,IF(P758=1,4,0))))","v":0},0,0,0,0,0,0,0,0]
[null,13,0,0,{"$f":"IF(E759=0,0,E759)","v":0},0,0,0,0,0,0,0,0,0,0,{"$f":"IF(P759=4,1,IF(P759=3,2,IF(P759=2,3,IF(P759=1,4,0))))","v":0},0,0,0,0,0,0,0,0]
[null,14,{"$f":"C760","v":0},{"$f":"IF(D760=\"男\",1,IF(D760=\"女\",2,0))","v":0},{"$f":"IF(E760=0,0,E760)","v":0},0,0,0,0,0,0,0,0,0,0,{"$f":"IF(P760=4,1,IF(P760=3,2,IF(P760=2,3,IF(P760=1,4,0))))","v":0},0,0,0,0,0,0,0,0]
[null,15,0,0,{"$f":"IF(E761=0,0,E761)","v":0},0,0,0,0,0,0,0,0,0,0,{"$f":"IF(P761=4,1,IF(P761=3,2,IF(P761=2,3,IF(P761=1,4,0))))","v":0},0,0,0,0,0,0,0,0]
[null,16,0,0,{"$f":"IF(E762=0,0,E762)","v":0},0,0,0,0,0,0,0,0,0,0,{"$f":"IF(P762=4,1,IF(P762=3,2,IF(P762=2,3,IF(P762=1,4,0))))","v":0},0,0,0,0,0,0,0,0]
[null,17,0,0,{"$f":"IF(E763=0,0,E763)","v":0},0,0,0,0,0,0,0,0,0,0,{"$f":"IF(P763=4,1,IF(P763=3,2,IF(P763=2,3,IF(P763=1,4,0))))","v":0},0,0,0,0,0,0,0,0]
[null,18,0,0,{"$f":"IF(E764=0,0,E764)","v":0},0,0,0,0,0,0,0,0,0,0,{"$f":"IF(P764=4,1,IF(P764=3,2,IF(P764=2,3,IF(P764=1,4,0))))","v":0},0,0,0,0,0,0,0,0]
[null,19,0,0,{"$f":"IF(E765=0,0,E765)","v":0},0,0,0,0,0,0,0,0,0,0,{"$f":"IF(P765=4,1,IF(P765=3,2,IF(P765=2,3,IF(P765=1,4,0))))","v":0},0,0,0,0,0,0,0,0]
[null,20,0,0,{"$f":"IF(E766=0,0,E766)","v":0},0,0,0,0,0,0,0,0,0,0,{"$f":"IF(P766=4,1,IF(P766=3,2,IF(P766=2,3,IF(P766=1,4,0))))","v":0},0,0,0,0,0,0,0,0]
[null,21,0,0,{"$f":"IF(E767=0,0,E767)","v":0},0,0,0,0,0,0,0,0,0,0,{"$f":"IF(P767=4,1,IF(P767=3,2,IF(P767=2,3,IF(P767=1,4,0))))","v":0},0,0,0,0,0,0,0,0]
[null,22,0,0,{"$f":"IF(E768=0,0,E768)","v":0},0,0,0,0,0,0,0,0,0,0,{"$f":"IF(P768=4,1,IF(P768=3,2,IF(P768=2,3,IF(P768=1,4,0))))","v":0},0,0,0,0,0,0,0,0]
[null,23,0,0,{"$f":"IF(E769=0,0,E769)","v":0},0,0,0,0,0,0,0,0,0,0,{"$f":"IF(P769=4,1,IF(P769=3,2,IF(P769=2,3,IF(P769=1,4,0))))","v":0},0,0,0,0,0,0,0,0]
[null,24,0,0,{"$f":"IF(E770=0,0,E770)","v":0},0,0,0,0,0,0,0,0,0,0,{"$f":"IF(P770=4,1,IF(P770=3,2,IF(P770=2,3,IF(P770=1,4,0))))","v":0},0,0,0,0,0,0,0,0]
[null,25,0,0,{"$f":"IF(E771=0,0,E771)","v":0},0,0,0,0,0,0,0,0,0,0,{"$f":"IF(P771=4,1,IF(P771=3,2,IF(P771=2,3,IF(P771=1,4,0))))","v":0},0,0,0,0,0,0,0,0]
[null,26,0,0,{"$f":"IF(E772=0,0,E772)","v":0},0,0,0,0,0,0,0,0,0,0,{"$f":"IF(P772=4,1,IF(P772=3,2,IF(P772=2,3,IF(P772=1,4,0))))","v":0},0,0,0,0,0,0,0,0]
[null,27,0,0,{"$f":"IF(E773=0,0,E773)","v":0},0,0,0,0,0,0,0,0,0,0,{"$f":"IF(P773=4,1,IF(P773=3,2,IF(P773=2,3,IF(P773=1,4,0))))","v":0},0,0,0,0,0,0,0,0]
[null,28,0,0,{"$f":"IF(E774=0,0,E774)","v":0},0,0,0,0,0,0,0,0,0,0,{"$f":"IF(P774=4,1,IF(P774=3,2,IF(P774=2,3,IF(P774=1,4,0))))","v":0},0,0,0,0,0,0,0,0]
[null,29,0,0,{"$f":"IF(E775=0,0,E775)","v":0},0,0,0,0,0,0,0,0,0,0,{"$f":"IF(P775=4,1,IF(P775=3,2,IF(P775=2,3,IF(P775=1,4,0))))","v":0},0,0,0,0,0,0,0,0]
[null,30,0,0,{"$f":"IF(E776=0,0,E776)","v":0},0,0,0,0,0,0,0,0,0,0,{"$f":"IF(P776=4,1,IF(P776=3,2,IF(P776=2,3,IF(P776=1,4,0))))","v":0},0,0,0,0,0,0,0,0]
[null,31,0,0,{"$f":"IF(E777=0,0,E777)","v":0},0,0,0,0,0,0,0,0,0,0,{"$f":"IF(P777=4,1,IF(P777=3,2,IF(P777=2,3,IF(P777=1,4,0))))","v":0},0,0,0,0,0,0,0,0]
[null,32,0,0,{"$f":"IF(E778=0,0,E778)","v":0},0,0,0,0,0,0,0,0,0,0,{"$f":"IF(P778=4,1,IF(P778=3,2,IF(P778=2,3,IF(P778=1,4,0))))","v":0},0,0,0,0,0,0,0,0]
[null,33,0,0,{"$f":"IF(E779=0,0,E779)","v":0},0,0,0,0,0,0,0,0,0,0,{"$f":"IF(P779=4,1,IF(P779=3,2,IF(P779=2,3,IF(P779=1,4,0))))","v":0},0,0,0,0,0,0,0,0]
[null,34,0,0,{"$f":"IF(E780=0,0,E780)","v":0},0,0,0,0,0,0,0,0,0,0,{"$f":"IF(P780=4,1,IF(P780=3,2,IF(P780=2,3,IF(P780=1,4,0))))","v":0},0,0,0,0,0,0,0,0]
[null,35,0,0,{"$f":"IF(E781=0,0,E781)","v":0},0,0,0,0,0,0,0,0,0,0,{"$f":"IF(P781=4,1,IF(P781=3,2,IF(P781=2,3,IF(P781=1,4,0))))","v":0},0,0,0,0,0,0,0,0]
[null,36,0,0,{"$f":"IF(E782=0,0,E782)","v":0},0,0,0,0,0,0,0,0,0,0,{"$f":"IF(P782=4,1,IF(P782=3,2,IF(P782=2,3,IF(P782=1,4,0))))","v":0},0,0,0,0,0,0,0,0]
[null,37,0,0,{"$f":"IF(E783=0,0,E783)","v":0},0,0,0,0,0,0,0,0,0,0,{"$f":"IF(P783=4,1,IF(P783=3,2,IF(P783=2,3,IF(P783=1,4,0))))","v":0},0,0,0,0,0,0,0,0]
[null,38,0,0,{"$f":"IF(E784=0,0,E784)","v":0},0,0,0,0,0,0,0,0,0,0,{"$f":"IF(P784=4,1,IF(P784=3,2,IF(P784=2,3,IF(P784=1,4,0))))","v":0},0,0,0,0,0,0,0,0]
[null,39,0,0,{"$f":"IF(E785=0,0,E785)","v":0},0,0,0,0,0,0,0,0,0,0,{"$f":"IF(P785=4,1,IF(P785=3,2,IF(P785=2,3,IF(P785=1,4,0))))","v":0},0,0,0,0,0,0,0,0]
[null,40,0,0,{"$f":"IF(E786=0,0,E786)","v":0},0,0,0,0,0,0,0,0,0,0,{"$f":"IF(P786=4,1,IF(P786=3,2,IF(P786=2,3,IF(P786=1,4,0))))","v":0},0,0,0,0,0,0,0,0]
[null,41,0,0,{"$f":"IF(E787=0,0,E787)","v":0},0,0,0,0,0,0,0,0,0,0,{"$f":"IF(P787=4,1,IF(P787=3,2,IF(P787=2,3,IF(P787=1,4,0))))","v":0},0,0,0,0,0,0,0,0]
[null,42,0,0,{"$f":"IF(E788=0,0,E788)","v":0},0,0,0,0,0,0,0,0,0,0,{"$f":"IF(P788=4,1,IF(P788=3,2,IF(P788=2,3,IF(P788=1,4,0))))","v":0},0,0,0,0,0,0,0,0]
[null,43,0,0,{"$f":"IF(E789=0,0,E789)","v":0},0,0,0,0,0,0,0,0,0,0,{"$f":"IF(P789=4,1,IF(P789=3,2,IF(P789=2,3,IF(P789=1,4,0))))","v":0},0,0,0,0,0,0,0,0]
[null,44,0,0,{"$f":"IF(E790=0,0,E790)","v":0},0,0,0,0,0,0,0,0,0,0,{"$f":"IF(P790=4,1,IF(P790=3,2,IF(P790=2,3,IF(P790=1,4,0))))","v":0},0,0,0,0,0,0,0,0]
[null,45,0,0,{"$f":"IF(E791=0,0,E791)","v":0},0,0,0,0,0,0,0,0,0,0,{"$f":"IF(P791=4,1,IF(P791=3,2,IF(P791=2,3,IF(P791=1,4,0))))","v":0},0,0,0,0,0,0,0,0]
[null,46,0,0,{"$f":"IF(E792=0,0,E792)","v":0},0,0,0,0,0,0,0,0,0,0,{"$f":"IF(P792=4,1,IF(P792=3,2,IF(P792=2,3,IF(P792=1,4,0))))","v":0},0,0,0,0,0,0,0,0]
[null,47,0,0,{"$f":"IF(E793=0,0,E793)","v":0},0,0,0,0,0,0,0,0,0,0,{"$f":"IF(P793=4,1,IF(P793=3,2,IF(P793=2,3,IF(P793=1,4,0))))","v":0},0,0,0,0,0,0,0,0]
[null,48,0,0,{"$f":"IF(E794=0,0,E794)","v":0},0,0,0,0,0,0,0,0,0,0,{"$f":"IF(P794=4,1,IF(P794=3,2,IF(P794=2,3,IF(P794=1,4,0))))","v":0},0,0,0,0,0,0,0,0]
[null,49,0,0,{"$f":"IF(E795=0,0,E795)","v":0},0,0,0,0,0,0,0,0,0,0,{"$f":"IF(P795=4,1,IF(P795=3,2,IF(P795=2,3,IF(P795=1,4,0))))","v":0},0,0,0,0,0,0,0,0]
[null,50,0,0,{"$f":"IF(E796=0,0,E796)","v":0},0,0,0,0,0,0,0,0,0,0,{"$f":"IF(P796=4,1,IF(P796=3,2,IF(P796=2,3,IF(P796=1,4,0))))","v":0},0,0,0,0,0,0,0,0]
[null,51,0,0,{"$f":"IF(E797=0,0,E797)","v":0},0,0,0,0,0,0,0,0,0,0,{"$f":"IF(P797=4,1,IF(P797=3,2,IF(P797=2,3,IF(P797=1,4,0))))","v":0},0,0,0,0,0,0,0,0]
[null,52,0,0,{"$f":"IF(E798=0,0,E798)","v":0},0,0,0,0,0,0,0,0,0,0,{"$f":"IF(P798=4,1,IF(P798=3,2,IF(P798=2,3,IF(P798=1,4,0))))","v":0},0,0,0,0,0,0,0,0]
[null,53,0,0,{"$f":"IF(E799=0,0,E799)","v":0},0,0,0,0,0,0,0,0,0,0,{"$f":"IF(P799=4,1,IF(P799=3,2,IF(P799=2,3,IF(P799=1,4,0))))","v":0},0,0,0,0,0,0,0,0]
[null,54,0,0,{"$f":"IF(E800=0,0,E800)","v":0},0,0,0,0,0,0,0,0,0,0,{"$f":"IF(P800=4,1,IF(P800=3,2,IF(P800=2,3,IF(P800=1,4,0))))","v":0},0,0,0,0,0,0,0,0]
[null,55,0,0,{"$f":"IF(E801=0,0,E801)","v":0},0,0,0,0,0,0,0,0,0,0,{"$f":"IF(P801=4,1,IF(P801=3,2,IF(P801=2,3,IF(P801=1,4,0))))","v":0},0,0,0,0,0,0,0,0]
[null,56,0,0,{"$f":"IF(E802=0,0,E802)","v":0},0,0,0,0,0,0,0,0,0,0,{"$f":"IF(P802=4,1,IF(P802=3,2,IF(P802=2,3,IF(P802=1,4,0))))","v":0},0,0,0,0,0,0,0,0]
[null,57,0,0,{"$f":"IF(E803=0,0,E803)","v":0},0,0,0,0,0,0,0,0,0,0,{"$f":"IF(P803=4,1,IF(P803=3,2,IF(P803=2,3,IF(P803=1,4,0))))","v":0},0,0,0,0,0,0,0,0]
[null,58,0,0,{"$f":"IF(E804=0,0,E804)","v":0},0,0,0,0,0,0,0,0,0,0,{"$f":"IF(P804=4,1,IF(P804=3,2,IF(P804=2,3,IF(P804=1,4,0))))","v":0},0,0,0,0,0,0,0,0]
[null,59,0,0,{"$f":"IF(E805=0,0,E805)","v":0},0,0,0,0,0,0,0,0,0,0,{"$f":"IF(P805=4,1,IF(P805=3,2,IF(P805=2,3,IF(P805=1,4,0))))","v":0},0,0,0,0,0,0,0,0]
[null,60,0,0,{"$f":"IF(E806=0,0,E806)","v":0},0,0,0,0,0,0,0,0,0,0,{"$f":"IF(P806=4,1,IF(P806=3,2,IF(P806=2,3,IF(P806=1,4,0))))","v":0},0,0,0,0,0,0,0,0]
["５組",1,0,0,{"$f":"IF(E807=0,0,E807)","v":0},0,0,0,0,0,0,0,0,0,0,{"$f":"IF(P807=4,1,IF(P807=3,2,IF(P807=2,3,IF(P807=1,4,0))))","v":0},0,0,0,0,0,0,0,0]
[null,2,0,0,{"$f":"IF(E808=0,0,E808)","v":0},0,0,0,0,0,0,0,0,0,0,{"$f":"IF(P808=4,1,IF(P808=3,2,IF(P808=2,3,IF(P808=1,4,0))))","v":0},0,0,0,0,0,0,0,0]
[null,3,0,0,{"$f":"IF(E809=0,0,E809)","v":0},0,0,0,0,0,0,0,0,0,0,{"$f":"IF(P809=4,1,IF(P809=3,2,IF(P809=2,3,IF(P809=1,4,0))))","v":0},0,0,0,0,0,0,0,0]
[null,4,0,0,{"$f":"IF(E810=0,0,E810)","v":0},0,0,0,0,0,0,0,0,0,0,{"$f":"IF(P810=4,1,IF(P810=3,2,IF(P810=2,3,IF(P810=1,4,0))))","v":0},0,0,0,0,0,0,0,0]
[null,5,0,0,{"$f":"IF(E811=0,0,E811)","v":0},0,0,0,0,0,0,0,0,0,0,{"$f":"IF(P811=4,1,IF(P811=3,2,IF(P811=2,3,IF(P811=1,4,0))))","v":0},0,0,0,0,0,0,0,0]
[null,6,0,0,{"$f":"IF(E812=0,0,E812)","v":0},0,0,0,0,0,0,0,0,0,0,{"$f":"IF(P812=4,1,IF(P812=3,2,IF(P812=2,3,IF(P812=1,4,0))))","v":0},0,0,0,0,0,0,0,0]
[null,7,0,0,{"$f":"IF(E813=0,0,E813)","v":0},0,0,0,0,0,0,0,0,0,0,{"$f":"IF(P813=4,1,IF(P813=3,2,IF(P813=2,3,IF(P813=1,4,0))))","v":0},0,0,0,0,0,0,0,0]
[null,8,0,0,{"$f":"IF(E814=0,0,E814)","v":0},0,0,0,0,0,0,0,0,0,0,{"$f":"IF(P814=4,1,IF(P814=3,2,IF(P814=2,3,IF(P814=1,4,0))))","v":0},0,0,0,0,0,0,0,0]
[null,9,0,0,{"$f":"IF(E815=0,0,E815)","v":0},0,0,0,0,0,0,0,0,0,0,{"$f":"IF(P815=4,1,IF(P815=3,2,IF(P815=2,3,IF(P815=1,4,0))))","v":0},0,0,0,0,0,0,0,0]
[null,10,0,0,{"$f":"IF(E816=0,0,E816)","v":0},0,0,0,0,0,0,0,0,0,0,{"$f":"IF(P816=4,1,IF(P816=3,2,IF(P816=2,3,IF(P816=1,4,0))))","v":0},0,0,0,0,0,0,0,0]
[null,11,0,0,{"$f":"IF(E817=0,0,E817)","v":0},0,0,0,0,0,0,0,0,0,0,{"$f":"IF(P817=4,1,IF(P817=3,2,IF(P817=2,3,IF(P817=1,4,0))))","v":0},0,0,0,0,0,0,0,0]
[null,12,0,0,{"$f":"IF(E818=0,0,E818)","v":0},0,0,0,0,0,0,0,0,0,0,{"$f":"IF(P818=4,1,IF(P818=3,2,IF(P818=2,3,IF(P818=1,4,0))))","v":0},0,0,0,0,0,0,0,0]
[null,13,0,0,{"$f":"IF(E819=0,0,E819)","v":0},0,0,0,0,0,0,0,0,0,0,{"$f":"IF(P819=4,1,IF(P819=3,2,IF(P819=2,3,IF(P819=1,4,0))))","v":0},0,0,0,0,0,0,0,0]
[null,14,0,0,{"$f":"IF(E820=0,0,E820)","v":0},0,0,0,0,0,0,0,0,0,0,{"$f":"IF(P820=4,1,IF(P820=3,2,IF(P820=2,3,IF(P820=1,4,0))))","v":0},0,0,0,0,0,0,0,0]
[null,15,0,0,{"$f":"IF(E821=0,0,E821)","v":0},0,0,0,0,0,0,0,0,0,0,{"$f":"IF(P821=4,1,IF(P821=3,2,IF(P821=2,3,IF(P821=1,4,0))))","v":0},0,0,0,0,0,0,0,0]
[null,16,0,0,{"$f":"IF(E822=0,0,E822)","v":0},0,0,0,0,0,0,0,0,0,0,{"$f":"IF(P822=4,1,IF(P822=3,2,IF(P822=2,3,IF(P822=1,4,0))))","v":0},0,0,0,0,0,0,0,0]
[null,17,0,0,{"$f":"IF(E823=0,0,E823)","v":0},0,0,0,0,0,0,0,0,0,0,{"$f":"IF(P823=4,1,IF(P823=3,2,IF(P823=2,3,IF(P823=1,4,0))))","v":0},0,0,0,0,0,0,0,0]
[null,18,{"$f":"C824","v":0},{"$f":"IF(D824=\"男\",1,IF(D824=\"女\",2,0))","v":0},{"$f":"IF(E824=0,0,E824)","v":0},0,0,0,0,0,0,0,0,0,0,{"$f":"IF(P824=4,1,IF(P824=3,2,IF(P824=2,3,IF(P824=1,4,0))))","v":0},0,0,0,0,0,0,0,0]
[null,19,0,0,{"$f":"IF(E825=0,0,E825)","v":0},0,0,0,0,0,0,0,0,0,0,{"$f":"IF(P825=4,1,IF(P825=3,2,IF(P825=2,3,IF(P825=1,4,0))))","v":0},0,0,0,0,0,0,0,0]
[null,20,0,0,{"$f":"IF(E826=0,0,E826)","v":0},0,0,0,0,0,0,0,0,0,0,{"$f":"IF(P826=4,1,IF(P826=3,2,IF(P826=2,3,IF(P826=1,4,0))))","v":0},0,0,0,0,0,0,0,0]
[null,21,0,0,{"$f":"IF(E827=0,0,E827)","v":0},0,0,0,0,0,0,0,0,0,0,{"$f":"IF(P827=4,1,IF(P827=3,2,IF(P827=2,3,IF(P827=1,4,0))))","v":0},0,0,0,0,0,0,0,0]
[null,22,0,0,{"$f":"IF(E828=0,0,E828)","v":0},0,0,0,0,0,0,0,0,0,0,{"$f":"IF(P828=4,1,IF(P828=3,2,IF(P828=2,3,IF(P828=1,4,0))))","v":0},0,0,0,0,0,0,0,0]
[null,23,0,0,{"$f":"IF(E829=0,0,E829)","v":0},0,0,0,0,0,0,0,0,0,0,{"$f":"IF(P829=4,1,IF(P829=3,2,IF(P829=2,3,IF(P829=1,4,0))))","v":0},0,0,0,0,0,0,0,0]
[null,24,0,0,{"$f":"IF(E830=0,0,E830)","v":0},0,0,0,0,0,0,0,0,0,0,{"$f":"IF(P830=4,1,IF(P830=3,2,IF(P830=2,3,IF(P830=1,4,0))))","v":0},0,0,0,0,0,0,0,0]
[null,25,0,0,{"$f":"IF(E831=0,0,E831)","v":0},0,0,0,0,0,0,0,0,0,0,{"$f":"IF(P831=4,1,IF(P831=3,2,IF(P831=2,3,IF(P831=1,4,0))))","v":0},0,0,0,0,0,0,0,0]
[null,26,0,0,{"$f":"IF(E832=0,0,E832)","v":0},0,0,0,0,0,0,0,0,0,0,{"$f":"IF(P832=4,1,IF(P832=3,2,IF(P832=2,3,IF(P832=1,4,0))))","v":0},0,0,0,0,0,0,0,0]
[null,27,0,0,{"$f":"IF(E833=0,0,E833)","v":0},0,0,0,0,0,0,0,0,0,0,{"$f":"IF(P833=4,1,IF(P833=3,2,IF(P833=2,3,IF(P833=1,4,0))))","v":0},0,0,0,0,0,0,0,0]
[null,28,0,0,{"$f":"IF(E834=0,0,E834)","v":0},0,0,0,0,0,0,0,0,0,0,{"$f":"IF(P834=4,1,IF(P834=3,2,IF(P834=2,3,IF(P834=1,4,0))))","v":0},0,0,0,0,0,0,0,0]
[null,29,0,0,{"$f":"IF(E835=0,0,E835)","v":0},0,0,0,0,0,0,0,0,0,0,{"$f":"IF(P835=4,1,IF(P835=3,2,IF(P835=2,3,IF(P835=1,4,0))))","v":0},0,0,0,0,0,0,0,0]
[null,30,0,0,{"$f":"IF(E836=0,0,E836)","v":0},0,0,0,0,0,0,0,0,0,0,{"$f":"IF(P836=4,1,IF(P836=3,2,IF(P836=2,3,IF(P836=1,4,0))))","v":0},0,0,0,0,0,0,0,0]
[null,31,0,0,{"$f":"IF(E837=0,0,E837)","v":0},0,0,0,0,0,0,0,0,0,0,{"$f":"IF(P837=4,1,IF(P837=3,2,IF(P837=2,3,IF(P837=1,4,0))))","v":0},0,0,0,0,0,0,0,0]
[null,32,0,0,{"$f":"IF(E838=0,0,E838)","v":0},0,0,0,0,0,0,0,0,0,0,{"$f":"IF(P838=4,1,IF(P838=3,2,IF(P838=2,3,IF(P838=1,4,0))))","v":0},0,0,0,0,0,0,0,0]
[null,33,0,0,{"$f":"IF(E839=0,0,E839)","v":0},0,0,0,0,0,0,0,0,0,0,{"$f":"IF(P839=4,1,IF(P839=3,2,IF(P839=2,3,IF(P839=1,4,0))))","v":0},0,0,0,0,0,0,0,0]
[null,34,0,0,{"$f":"IF(E840=0,0,E840)","v":0},0,0,0,0,0,0,0,0,0,0,{"$f":"IF(P840=4,1,IF(P840=3,2,IF(P840=2,3,IF(P840=1,4,0))))","v":0},0,0,0,0,0,0,0,0]
[null,35,0,0,{"$f":"IF(E841=0,0,E841)","v":0},0,0,0,0,0,0,0,0,0,0,{"$f":"IF(P841=4,1,IF(P841=3,2,IF(P841=2,3,IF(P841=1,4,0))))","v":0},0,0,0,0,0,0,0,0]
[null,36,0,0,{"$f":"IF(E842=0,0,E842)","v":0},0,0,0,0,0,0,0,0,0,0,{"$f":"IF(P842=4,1,IF(P842=3,2,IF(P842=2,3,IF(P842=1,4,0))))","v":0},0,0,0,0,0,0,0,0]
[null,37,0,0,{"$f":"IF(E843=0,0,E843)","v":0},0,0,0,0,0,0,0,0,0,0,{"$f":"IF(P843=4,1,IF(P843=3,2,IF(P843=2,3,IF(P843=1,4,0))))","v":0},0,0,0,0,0,0,0,0]
[null,38,0,0,{"$f":"IF(E844=0,0,E844)","v":0},0,0,0,0,0,0,0,0,0,0,{"$f":"IF(P844=4,1,IF(P844=3,2,IF(P844=2,3,IF(P844=1,4,0))))","v":0},0,0,0,0,0,0,0,0]
[null,39,0,0,{"$f":"IF(E845=0,0,E845)","v":0},0,0,0,0,0,0,0,0,0,0,{"$f":"IF(P845=4,1,IF(P845=3,2,IF(P845=2,3,IF(P845=1,4,0))))","v":0},0,0,0,0,0,0,0,0]
[null,40,0,0,{"$f":"IF(E846=0,0,E846)","v":0},0,0,0,0,0,0,0,0,0,0,{"$f":"IF(P846=4,1,IF(P846=3,2,IF(P846=2,3,IF(P846=1,4,0))))","v":0},0,0,0,0,0,0,0,0]
[null,41,0,0,{"$f":"IF(E847=0,0,E847)","v":0},0,0,0,0,0,0,0,0,0,0,{"$f":"IF(P847=4,1,IF(P847=3,2,IF(P847=2,3,IF(P847=1,4,0))))","v":0},0,0,0,0,0,0,0,0]
[null,42,0,0,{"$f":"IF(E848=0,0,E848)","v":0},0,0,0,0,0,0,0,0,0,0,{"$f":"IF(P848=4,1,IF(P848=3,2,IF(P848=2,3,IF(P848=1,4,0))))","v":0},0,0,0,0,0,0,0,0]
[null,43,0,0,{"$f":"IF(E849=0,0,E849)","v":0},0,0,0,0,0,0,0,0,0,0,{"$f":"IF(P849=4,1,IF(P849=3,2,IF(P849=2,3,IF(P849=1,4,0))))","v":0},0,0,0,0,0,0,0,0]
[null,44,0,0,{"$f":"IF(E850=0,0,E850)","v":0},0,0,0,0,0,0,0,0,0,0,{"$f":"IF(P850=4,1,IF(P850=3,2,IF(P850=2,3,IF(P850=1,4,0))))","v":0},0,0,0,0,0,0,0,0]
[null,45,0,0,{"$f":"IF(E851=0,0,E851)","v":0},0,0,0,0,0,0,0,0,0,0,{"$f":"IF(P851=4,1,IF(P851=3,2,IF(P851=2,3,IF(P851=1,4,0))))","v":0},0,0,0,0,0,0,0,0]
[null,46,0,0,{"$f":"IF(E852=0,0,E852)","v":0},0,0,0,0,0,0,0,0,0,0,{"$f":"IF(P852=4,1,IF(P852=3,2,IF(P852=2,3,IF(P852=1,4,0))))","v":0},0,0,0,0,0,0,0,0]
[null,47,0,0,{"$f":"IF(E853=0,0,E853)","v":0},0,0,0,0,0,0,0,0,0,0,{"$f":"IF(P853=4,1,IF(P853=3,2,IF(P853=2,3,IF(P853=1,4,0))))","v":0},0,0,0,0,0,0,0,0]
[null,48,0,0,{"$f":"IF(E854=0,0,E854)","v":0},0,0,0,0,0,0,0,0,0,0,{"$f":"IF(P854=4,1,IF(P854=3,2,IF(P854=2,3,IF(P854=1,4,0))))","v":0},0,0,0,0,0,0,0,0]
[null,49,0,0,{"$f":"IF(E855=0,0,E855)","v":0},0,0,0,0,0,0,0,0,0,0,{"$f":"IF(P855=4,1,IF(P855=3,2,IF(P855=2,3,IF(P855=1,4,0))))","v":0},0,0,0,0,0,0,0,0]
[null,50,0,0,{"$f":"IF(E856=0,0,E856)","v":0},0,0,0,0,0,0,0,0,0,0,{"$f":"IF(P856=4,1,IF(P856=3,2,IF(P856=2,3,IF(P856=1,4,0))))","v":0},0,0,0,0,0,0,0,0]
[null,51,0,0,{"$f":"IF(E857=0,0,E857)","v":0},0,0,0,0,0,0,0,0,0,0,{"$f":"IF(P857=4,1,IF(P857=3,2,IF(P857=2,3,IF(P857=1,4,0))))","v":0},0,0,0,0,0,0,0,0]
[null,52,0,0,{"$f":"IF(E858=0,0,E858)","v":0},0,0,0,0,0,0,0,0,0,0,{"$f":"IF(P858=4,1,IF(P858=3,2,IF(P858=2,3,IF(P858=1,4,0))))","v":0},0,0,0,0,0,0,0,0]
[null,53,0,0,{"$f":"IF(E859=0,0,E859)","v":0},0,0,0,0,0,0,0,0,0,0,{"$f":"IF(P859=4,1,IF(P859=3,2,IF(P859=2,3,IF(P859=1,4,0))))","v":0},0,0,0,0,0,0,0,0]
[null,54,0,0,{"$f":"IF(E860=0,0,E860)","v":0},0,0,0,0,0,0,0,0,0,0,{"$f":"IF(P860=4,1,IF(P860=3,2,IF(P860=2,3,IF(P860=1,4,0))))","v":0},0,0,0,0,0,0,0,0]
[null,55,0,0,{"$f":"IF(E861=0,0,E861)","v":0},0,0,0,0,0,0,0,0,0,0,{"$f":"IF(P861=4,1,IF(P861=3,2,IF(P861=2,3,IF(P861=1,4,0))))","v":0},0,0,0,0,0,0,0,0]
[null,56,0,0,{"$f":"IF(E862=0,0,E862)","v":0},0,0,0,0,0,0,0,0,0,0,{"$f":"IF(P862=4,1,IF(P862=3,2,IF(P862=2,3,IF(P862=1,4,0))))","v":0},0,0,0,0,0,0,0,0]
[null,57,0,0,{"$f":"IF(E863=0,0,E863)","v":0},0,0,0,0,0,0,0,0,0,0,{"$f":"IF(P863=4,1,IF(P863=3,2,IF(P863=2,3,IF(P863=1,4,0))))","v":0},0,0,0,0,0,0,0,0]
[null,58,0,0,{"$f":"IF(E864=0,0,E864)","v":0},0,0,0,0,0,0,0,0,0,0,{"$f":"IF(P864=4,1,IF(P864=3,2,IF(P864=2,3,IF(P864=1,4,0))))","v":0},0,0,0,0,0,0,0,0]
[null,59,0,0,{"$f":"IF(E865=0,0,E865)","v":0},0,0,0,0,0,0,0,0,0,0,{"$f":"IF(P865=4,1,IF(P865=3,2,IF(P865=2,3,IF(P865=1,4,0))))","v":0},0,0,0,0,0,0,0,0]
[null,60,0,0,{"$f":"IF(E866=0,0,E866)","v":0},0,0,0,0,0,0,0,0,0,0,{"$f":"IF(P866=4,1,IF(P866=3,2,IF(P866=2,3,IF(P866=1,4,0))))","v":0},0,0,0,0,0,0,0,0]
["６組",1,0,0,{"$f":"IF(E867=0,0,E867)","v":0},0,0,0,0,0,0,0,0,0,0,{"$f":"IF(P867=4,1,IF(P867=3,2,IF(P867=2,3,IF(P867=1,4,0))))","v":0},0,0,0,0,0,0,0,0]
[null,2,0,0,{"$f":"IF(E868=0,0,E868)","v":0},0,0,0,0,0,0,0,0,0,0,{"$f":"IF(P868=4,1,IF(P868=3,2,IF(P868=2,3,IF(P868=1,4,0))))","v":0},0,0,0,0,0,0,0,0]
[null,3,0,0,{"$f":"IF(E869=0,0,E869)","v":0},0,0,0,0,0,0,0,0,0,0,{"$f":"IF(P869=4,1,IF(P869=3,2,IF(P869=2,3,IF(P869=1,4,0))))","v":0},0,0,0,0,0,0,0,0]
[null,4,0,0,{"$f":"IF(E870=0,0,E870)","v":0},0,0,0,0,0,0,0,0,0,0,{"$f":"IF(P870=4,1,IF(P870=3,2,IF(P870=2,3,IF(P870=1,4,0))))","v":0},0,0,0,0,0,0,0,0]
[null,5,0,0,{"$f":"IF(E871=0,0,E871)","v":0},0,0,0,0,0,0,0,0,0,0,{"$f":"IF(P871=4,1,IF(P871=3,2,IF(P871=2,3,IF(P871=1,4,0))))","v":0},0,0,0,0,0,0,0,0]
[null,6,0,0,{"$f":"IF(E872=0,0,E872)","v":0},0,0,0,0,0,0,0,0,0,0,{"$f":"IF(P872=4,1,IF(P872=3,2,IF(P872=2,3,IF(P872=1,4,0))))","v":0},0,0,0,0,0,0,0,0]
[null,7,0,0,{"$f":"IF(E873=0,0,E873)","v":0},0,0,0,0,0,0,0,0,0,0,{"$f":"IF(P873=4,1,IF(P873=3,2,IF(P873=2,3,IF(P873=1,4,0))))","v":0},0,0,0,0,0,0,0,0]
[null,8,0,0,{"$f":"IF(E874=0,0,E874)","v":0},0,0,0,0,0,0,0,0,0,0,{"$f":"IF(P874=4,1,IF(P874=3,2,IF(P874=2,3,IF(P874=1,4,0))))","v":0},0,0,0,0,0,0,0,0]
[null,9,0,0,{"$f":"IF(E875=0,0,E875)","v":0},0,0,0,0,0,0,0,0,0,0,{"$f":"IF(P875=4,1,IF(P875=3,2,IF(P875=2,3,IF(P875=1,4,0))))","v":0},0,0,0,0,0,0,0,0]
[null,10,0,0,{"$f":"IF(E876=0,0,E876)","v":0},0,0,0,0,0,0,0,0,0,0,{"$f":"IF(P876=4,1,IF(P876=3,2,IF(P876=2,3,IF(P876=1,4,0))))","v":0},0,0,0,0,0,0,0,0]
[null,11,0,0,{"$f":"IF(E877=0,0,E877)","v":0},0,0,0,0,0,0,0,0,0,0,{"$f":"IF(P877=4,1,IF(P877=3,2,IF(P877=2,3,IF(P877=1,4,0))))","v":0},0,0,0,0,0,0,0,0]
[null,12,0,0,{"$f":"IF(E878=0,0,E878)","v":0},0,0,0,0,0,0,0,0,0,0,{"$f":"IF(P878=4,1,IF(P878=3,2,IF(P878=2,3,IF(P878=1,4,0))))","v":0},0,0,0,0,0,0,0,0]
[null,13,0,0,{"$f":"IF(E879=0,0,E879)","v":0},0,0,0,0,0,0,0,0,0,0,{"$f":"IF(P879=4,1,IF(P879=3,2,IF(P879=2,3,IF(P879=1,4,0))))","v":0},0,0,0,0,0,0,0,0]
[null,14,0,0,{"$f":"IF(E880=0,0,E880)","v":0},0,0,0,0,0,0,0,0,0,0,{"$f":"IF(P880=4,1,IF(P880=3,2,IF(P880=2,3,IF(P880=1,4,0))))","v":0},0,0,0,0,0,0,0,0]
[null,15,0,0,{"$f":"IF(E881=0,0,E881)","v":0},0,0,0,0,0,0,0,0,0,0,{"$f":"IF(P881=4,1,IF(P881=3,2,IF(P881=2,3,IF(P881=1,4,0))))","v":0},0,0,0,0,0,0,0,0]
[null,16,0,0,{"$f":"IF(E882=0,0,E882)","v":0},0,0,0,0,0,0,0,0,0,0,{"$f":"IF(P882=4,1,IF(P882=3,2,IF(P882=2,3,IF(P882=1,4,0))))","v":0},0,0,0,0,0,0,0,0]
[null,17,0,0,{"$f":"IF(E883=0,0,E883)","v":0},0,0,0,0,0,0,0,0,0,0,{"$f":"IF(P883=4,1,IF(P883=3,2,IF(P883=2,3,IF(P883=1,4,0))))","v":0},0,0,0,0,0,0,0,0]
[null,18,0,0,{"$f":"IF(E884=0,0,E884)","v":0},0,0,0,0,0,0,0,0,0,0,{"$f":"IF(P884=4,1,IF(P884=3,2,IF(P884=2,3,IF(P884=1,4,0))))","v":0},0,0,0,0,0,0,0,0]
[null,19,0,0,{"$f":"IF(E885=0,0,E885)","v":0},0,0,0,0,0,0,0,0,0,0,{"$f":"IF(P885=4,1,IF(P885=3,2,IF(P885=2,3,IF(P885=1,4,0))))","v":0},0,0,0,0,0,0,0,0]
[null,20,0,0,{"$f":"IF(E886=0,0,E886)","v":0},0,0,0,0,0,0,0,0,0,0,{"$f":"IF(P886=4,1,IF(P886=3,2,IF(P886=2,3,IF(P886=1,4,0))))","v":0},0,0,0,0,0,0,0,0]
[null,21,0,0,{"$f":"IF(E887=0,0,E887)","v":0},0,0,0,0,0,0,0,0,0,0,{"$f":"IF(P887=4,1,IF(P887=3,2,IF(P887=2,3,IF(P887=1,4,0))))","v":0},0,0,0,0,0,0,0,0]
[null,22,{"$f":"C888","v":0},{"$f":"IF(D888=\"男\",1,IF(D888=\"女\",2,0))","v":0},{"$f":"IF(E888=0,0,E888)","v":0},0,0,0,0,0,0,0,0,0,0,{"$f":"IF(P888=4,1,IF(P888=3,2,IF(P888=2,3,IF(P888=1,4,0))))","v":0},0,0,0,0,0,0,0,0]
[null,23,0,0,{"$f":"IF(E889=0,0,E889)","v":0},0,0,0,0,0,0,0,0,0,0,{"$f":"IF(P889=4,1,IF(P889=3,2,IF(P889=2,3,IF(P889=1,4,0))))","v":0},0,0,0,0,0,0,0,0]
[null,24,0,0,{"$f":"IF(E890=0,0,E890)","v":0},0,0,0,0,0,0,0,0,0,0,{"$f":"IF(P890=4,1,IF(P890=3,2,IF(P890=2,3,IF(P890=1,4,0))))","v":0},0,0,0,0,0,0,0,0]
[null,25,0,0,{"$f":"IF(E891=0,0,E891)","v":0},0,0,0,0,0,0,0,0,0,0,{"$f":"IF(P891=4,1,IF(P891=3,2,IF(P891=2,3,IF(P891=1,4,0))))","v":0},0,0,0,0,0,0,0,0]
[null,26,0,0,{"$f":"IF(E892=0,0,E892)","v":0},0,0,0,0,0,0,0,0,0,0,{"$f":"IF(P892=4,1,IF(P892=3,2,IF(P892=2,3,IF(P892=1,4,0))))","v":0},0,0,0,0,0,0,0,0]
[null,27,0,0,{"$f":"IF(E893=0,0,E893)","v":0},0,0,0,0,0,0,0,0,0,0,{"$f":"IF(P893=4,1,IF(P893=3,2,IF(P893=2,3,IF(P893=1,4,0))))","v":0},0,0,0,0,0,0,0,0]
[null,28,0,0,{"$f":"IF(E894=0,0,E894)","v":0},0,0,0,0,0,0,0,0,0,0,{"$f":"IF(P894=4,1,IF(P894=3,2,IF(P894=2,3,IF(P894=1,4,0))))","v":0},0,0,0,0,0,0,0,0]
[null,29,0,0,{"$f":"IF(E895=0,0,E895)","v":0},0,0,0,0,0,0,0,0,0,0,{"$f":"IF(P895=4,1,IF(P895=3,2,IF(P895=2,3,IF(P895=1,4,0))))","v":0},0,0,0,0,0,0,0,0]
[null,30,0,0,{"$f":"IF(E896=0,0,E896)","v":0},0,0,0,0,0,0,0,0,0,0,{"$f":"IF(P896=4,1,IF(P896=3,2,IF(P896=2,3,IF(P896=1,4,0))))","v":0},0,0,0,0,0,0,0,0]
[null,31,0,0,{"$f":"IF(E897=0,0,E897)","v":0},0,0,0,0,0,0,0,0,0,0,{"$f":"IF(P897=4,1,IF(P897=3,2,IF(P897=2,3,IF(P897=1,4,0))))","v":0},0,0,0,0,0,0,0,0]
[null,32,0,0,{"$f":"IF(E898=0,0,E898)","v":0},0,0,0,0,0,0,0,0,0,0,{"$f":"IF(P898=4,1,IF(P898=3,2,IF(P898=2,3,IF(P898=1,4,0))))","v":0},0,0,0,0,0,0,0,0]
[null,33,0,0,{"$f":"IF(E899=0,0,E899)","v":0},0,0,0,0,0,0,0,0,0,0,{"$f":"IF(P899=4,1,IF(P899=3,2,IF(P899=2,3,IF(P899=1,4,0))))","v":0},0,0,0,0,0,0,0,0]
[null,34,0,0,{"$f":"IF(E900=0,0,E900)","v":0},0,0,0,0,0,0,0,0,0,0,{"$f":"IF(P900=4,1,IF(P900=3,2,IF(P900=2,3,IF(P900=1,4,0))))","v":0},0,0,0,0,0,0,0,0]
[null,35,0,0,{"$f":"IF(E901=0,0,E901)","v":0},0,0,0,0,0,0,0,0,0,0,{"$f":"IF(P901=4,1,IF(P901=3,2,IF(P901=2,3,IF(P901=1,4,0))))","v":0},0,0,0,0,0,0,0,0]
[null,36,0,0,{"$f":"IF(E902=0,0,E902)","v":0},0,0,0,0,0,0,0,0,0,0,{"$f":"IF(P902=4,1,IF(P902=3,2,IF(P902=2,3,IF(P902=1,4,0))))","v":0},0,0,0,0,0,0,0,0]
[null,37,0,0,{"$f":"IF(E903=0,0,E903)","v":0},0,0,0,0,0,0,0,0,0,0,{"$f":"IF(P903=4,1,IF(P903=3,2,IF(P903=2,3,IF(P903=1,4,0))))","v":0},0,0,0,0,0,0,0,0]
[null,38,0,0,{"$f":"IF(E904=0,0,E904)","v":0},0,0,0,0,0,0,0,0,0,0,{"$f":"IF(P904=4,1,IF(P904=3,2,IF(P904=2,3,IF(P904=1,4,0))))","v":0},0,0,0,0,0,0,0,0]
[null,39,0,0,{"$f":"IF(E905=0,0,E905)","v":0},0,0,0,0,0,0,0,0,0,0,{"$f":"IF(P905=4,1,IF(P905=3,2,IF(P905=2,3,IF(P905=1,4,0))))","v":0},0,0,0,0,0,0,0,0]
[null,40,0,0,{"$f":"IF(E906=0,0,E906)","v":0},0,0,0,0,0,0,0,0,0,0,{"$f":"IF(P906=4,1,IF(P906=3,2,IF(P906=2,3,IF(P906=1,4,0))))","v":0},0,0,0,0,0,0,0,0]
[null,41,0,0,{"$f":"IF(E907=0,0,E907)","v":0},0,0,0,0,0,0,0,0,0,0,{"$f":"IF(P907=4,1,IF(P907=3,2,IF(P907=2,3,IF(P907=1,4,0))))","v":0},0,0,0,0,0,0,0,0]
[null,42,0,0,{"$f":"IF(E908=0,0,E908)","v":0},0,0,0,0,0,0,0,0,0,0,{"$f":"IF(P908=4,1,IF(P908=3,2,IF(P908=2,3,IF(P908=1,4,0))))","v":0},0,0,0,0,0,0,0,0]
[null,43,0,0,{"$f":"IF(E909=0,0,E909)","v":0},0,0,0,0,0,0,0,0,0,0,{"$f":"IF(P909=4,1,IF(P909=3,2,IF(P909=2,3,IF(P909=1,4,0))))","v":0},0,0,0,0,0,0,0,0]
[null,44,0,0,{"$f":"IF(E910=0,0,E910)","v":0},0,0,0,0,0,0,0,0,0,0,{"$f":"IF(P910=4,1,IF(P910=3,2,IF(P910=2,3,IF(P910=1,4,0))))","v":0},0,0,0,0,0,0,0,0]
[null,45,0,0,{"$f":"IF(E911=0,0,E911)","v":0},0,0,0,0,0,0,0,0,0,0,{"$f":"IF(P911=4,1,IF(P911=3,2,IF(P911=2,3,IF(P911=1,4,0))))","v":0},0,0,0,0,0,0,0,0]
[null,46,0,0,{"$f":"IF(E912=0,0,E912)","v":0},0,0,0,0,0,0,0,0,0,0,{"$f":"IF(P912=4,1,IF(P912=3,2,IF(P912=2,3,IF(P912=1,4,0))))","v":0},0,0,0,0,0,0,0,0]
[null,47,0,0,{"$f":"IF(E913=0,0,E913)","v":0},0,0,0,0,0,0,0,0,0,0,{"$f":"IF(P913=4,1,IF(P913=3,2,IF(P913=2,3,IF(P913=1,4,0))))","v":0},0,0,0,0,0,0,0,0]
[null,48,0,0,{"$f":"IF(E914=0,0,E914)","v":0},0,0,0,0,0,0,0,0,0,0,{"$f":"IF(P914=4,1,IF(P914=3,2,IF(P914=2,3,IF(P914=1,4,0))))","v":0},0,0,0,0,0,0,0,0]
[null,49,0,0,{"$f":"IF(E915=0,0,E915)","v":0},0,0,0,0,0,0,0,0,0,0,{"$f":"IF(P915=4,1,IF(P915=3,2,IF(P915=2,3,IF(P915=1,4,0))))","v":0},0,0,0,0,0,0,0,0]
[null,50,0,0,{"$f":"IF(E916=0,0,E916)","v":0},0,0,0,0,0,0,0,0,0,0,{"$f":"IF(P916=4,1,IF(P916=3,2,IF(P916=2,3,IF(P916=1,4,0))))","v":0},0,0,0,0,0,0,0,0]
[null,51,0,0,{"$f":"IF(E917=0,0,E917)","v":0},0,0,0,0,0,0,0,0,0,0,{"$f":"IF(P917=4,1,IF(P917=3,2,IF(P917=2,3,IF(P917=1,4,0))))","v":0},0,0,0,0,0,0,0,0]
[null,52,0,0,{"$f":"IF(E918=0,0,E918)","v":0},0,0,0,0,0,0,0,0,0,0,{"$f":"IF(P918=4,1,IF(P918=3,2,IF(P918=2,3,IF(P918=1,4,0))))","v":0},0,0,0,0,0,0,0,0]
[null,53,0,0,{"$f":"IF(E919=0,0,E919)","v":0},0,0,0,0,0,0,0,0,0,0,{"$f":"IF(P919=4,1,IF(P919=3,2,IF(P919=2,3,IF(P919=1,4,0))))","v":0},0,0,0,0,0,0,0,0]
[null,54,0,0,{"$f":"IF(E920=0,0,E920)","v":0},0,0,0,0,0,0,0,0,0,0,{"$f":"IF(P920=4,1,IF(P920=3,2,IF(P920=2,3,IF(P920=1,4,0))))","v":0},0,0,0,0,0,0,0,0]
[null,55,0,0,{"$f":"IF(E921=0,0,E921)","v":0},0,0,0,0,0,0,0,0,0,0,{"$f":"IF(P921=4,1,IF(P921=3,2,IF(P921=2,3,IF(P921=1,4,0))))","v":0},0,0,0,0,0,0,0,0]
[null,56,0,0,{"$f":"IF(E922=0,0,E922)","v":0},0,0,0,0,0,0,0,0,0,0,{"$f":"IF(P922=4,1,IF(P922=3,2,IF(P922=2,3,IF(P922=1,4,0))))","v":0},0,0,0,0,0,0,0,0]
[null,57,0,0,{"$f":"IF(E923=0,0,E923)","v":0},0,0,0,0,0,0,0,0,0,0,{"$f":"IF(P923=4,1,IF(P923=3,2,IF(P923=2,3,IF(P923=1,4,0))))","v":0},0,0,0,0,0,0,0,0]
[null,58,0,0,{"$f":"IF(E924=0,0,E924)","v":0},0,0,0,0,0,0,0,0,0,0,{"$f":"IF(P924=4,1,IF(P924=3,2,IF(P924=2,3,IF(P924=1,4,0))))","v":0},0,0,0,0,0,0,0,0]
[null,59,0,0,{"$f":"IF(E925=0,0,E925)","v":0},0,0,0,0,0,0,0,0,0,0,{"$f":"IF(P925=4,1,IF(P925=3,2,IF(P925=2,3,IF(P925=1,4,0))))","v":0},0,0,0,0,0,0,0,0]
[null,60,0,0,{"$f":"IF(E926=0,0,E926)","v":0},0,0,0,0,0,0,0,0,0,0,{"$f":"IF(P926=4,1,IF(P926=3,2,IF(P926=2,3,IF(P926=1,4,0))))","v":0},0,0,0,0,0,0,0,0]
["７組",1,0,0,{"$f":"IF(E927=0,0,E927)","v":0},0,0,0,0,0,0,0,0,0,0,{"$f":"IF(P927=4,1,IF(P927=3,2,IF(P927=2,3,IF(P927=1,4,0))))","v":0},0,0,0,0,0,0,0,0]
[null,2,0,0,{"$f":"IF(E928=0,0,E928)","v":0},0,0,0,0,0,0,0,0,0,0,{"$f":"IF(P928=4,1,IF(P928=3,2,IF(P928=2,3,IF(P928=1,4,0))))","v":0},0,0,0,0,0,0,0,0]
[null,3,0,0,{"$f":"IF(E929=0,0,E929)","v":0},0,0,0,0,0,0,0,0,0,0,{"$f":"IF(P929=4,1,IF(P929=3,2,IF(P929=2,3,IF(P929=1,4,0))))","v":0},0,0,0,0,0,0,0,0]
[null,4,0,0,{"$f":"IF(E930=0,0,E930)","v":0},0,0,0,0,0,0,0,0,0,0,{"$f":"IF(P930=4,1,IF(P930=3,2,IF(P930=2,3,IF(P930=1,4,0))))","v":0},0,0,0,0,0,0,0,0]
[null,5,0,0,{"$f":"IF(E931=0,0,E931)","v":0},0,0,0,0,0,0,0,0,0,0,{"$f":"IF(P931=4,1,IF(P931=3,2,IF(P931=2,3,IF(P931=1,4,0))))","v":0},0,0,0,0,0,0,0,0]
[null,6,0,0,{"$f":"IF(E932=0,0,E932)","v":0},0,0,0,0,0,0,0,0,0,0,{"$f":"IF(P932=4,1,IF(P932=3,2,IF(P932=2,3,IF(P932=1,4,0))))","v":0},0,0,0,0,0,0,0,0]
[null,7,0,0,{"$f":"IF(E933=0,0,E933)","v":0},0,0,0,0,0,0,0,0,0,0,{"$f":"IF(P933=4,1,IF(P933=3,2,IF(P933=2,3,IF(P933=1,4,0))))","v":0},0,0,0,0,0,0,0,0]
[null,8,0,0,{"$f":"IF(E934=0,0,E934)","v":0},0,0,0,0,0,0,0,0,0,0,{"$f":"IF(P934=4,1,IF(P934=3,2,IF(P934=2,3,IF(P934=1,4,0))))","v":0},0,0,0,0,0,0,0,0]
[null,9,0,0,{"$f":"IF(E935=0,0,E935)","v":0},0,0,0,0,0,0,0,0,0,0,{"$f":"IF(P935=4,1,IF(P935=3,2,IF(P935=2,3,IF(P935=1,4,0))))","v":0},0,0,0,0,0,0,0,0]
[null,10,0,0,{"$f":"IF(E936=0,0,E936)","v":0},0,0,0,0,0,0,0,0,0,0,{"$f":"IF(P936=4,1,IF(P936=3,2,IF(P936=2,3,IF(P936=1,4,0))))","v":0},0,0,0,0,0,0,0,0]
[null,11,0,0,{"$f":"IF(E937=0,0,E937)","v":0},0,0,0,0,0,0,0,0,0,0,{"$f":"IF(P937=4,1,IF(P937=3,2,IF(P937=2,3,IF(P937=1,4,0))))","v":0},0,0,0,0,0,0,0,0]
[null,12,0,0,{"$f":"IF(E938=0,0,E938)","v":0},0,0,0,0,0,0,0,0,0,0,{"$f":"IF(P938=4,1,IF(P938=3,2,IF(P938=2,3,IF(P938=1,4,0))))","v":0},0,0,0,0,0,0,0,0]
[null,13,0,0,{"$f":"IF(E939=0,0,E939)","v":0},0,0,0,0,0,0,0,0,0,0,{"$f":"IF(P939=4,1,IF(P939=3,2,IF(P939=2,3,IF(P939=1,4,0))))","v":0},0,0,0,0,0,0,0,0]
[null,14,0,0,{"$f":"IF(E940=0,0,E940)","v":0},0,0,0,0,0,0,0,0,0,0,{"$f":"IF(P940=4,1,IF(P940=3,2,IF(P940=2,3,IF(P940=1,4,0))))","v":0},0,0,0,0,0,0,0,0]
[null,15,0,0,{"$f":"IF(E941=0,0,E941)","v":0},0,0,0,0,0,0,0,0,0,0,{"$f":"IF(P941=4,1,IF(P941=3,2,IF(P941=2,3,IF(P941=1,4,0))))","v":0},0,0,0,0,0,0,0,0]
[null,16,0,0,{"$f":"IF(E942=0,0,E942)","v":0},0,0,0,0,0,0,0,0,0,0,{"$f":"IF(P942=4,1,IF(P942=3,2,IF(P942=2,3,IF(P942=1,4,0))))","v":0},0,0,0,0,0,0,0,0]
[null,17,0,0,{"$f":"IF(E943=0,0,E943)","v":0},0,0,0,0,0,0,0,0,0,0,{"$f":"IF(P943=4,1,IF(P943=3,2,IF(P943=2,3,IF(P943=1,4,0))))","v":0},0,0,0,0,0,0,0,0]
[null,18,0,0,{"$f":"IF(E944=0,0,E944)","v":0},0,0,0,0,0,0,0,0,0,0,{"$f":"IF(P944=4,1,IF(P944=3,2,IF(P944=2,3,IF(P944=1,4,0))))","v":0},0,0,0,0,0,0,0,0]
[null,19,0,0,{"$f":"IF(E945=0,0,E945)","v":0},0,0,0,0,0,0,0,0,0,0,{"$f":"IF(P945=4,1,IF(P945=3,2,IF(P945=2,3,IF(P945=1,4,0))))","v":0},0,0,0,0,0,0,0,0]
[null,20,0,0,{"$f":"IF(E946=0,0,E946)","v":0},0,0,0,0,0,0,0,0,0,0,{"$f":"IF(P946=4,1,IF(P946=3,2,IF(P946=2,3,IF(P946=1,4,0))))","v":0},0,0,0,0,0,0,0,0]
[null,21,0,0,{"$f":"IF(E947=0,0,E947)","v":0},0,0,0,0,0,0,0,0,0,0,{"$f":"IF(P947=4,1,IF(P947=3,2,IF(P947=2,3,IF(P947=1,4,0))))","v":0},0,0,0,0,0,0,0,0]
[null,22,0,0,{"$f":"IF(E948=0,0,E948)","v":0},0,0,0,0,0,0,0,0,0,0,{"$f":"IF(P948=4,1,IF(P948=3,2,IF(P948=2,3,IF(P948=1,4,0))))","v":0},0,0,0,0,0,0,0,0]
[null,23,0,0,{"$f":"IF(E949=0,0,E949)","v":0},0,0,0,0,0,0,0,0,0,0,{"$f":"IF(P949=4,1,IF(P949=3,2,IF(P949=2,3,IF(P949=1,4,0))))","v":0},0,0,0,0,0,0,0,0]
[null,24,0,0,{"$f":"IF(E950=0,0,E950)","v":0},0,0,0,0,0,0,0,0,0,0,{"$f":"IF(P950=4,1,IF(P950=3,2,IF(P950=2,3,IF(P950=1,4,0))))","v":0},0,0,0,0,0,0,0,0]
[null,25,0,0,{"$f":"IF(E951=0,0,E951)","v":0},0,0,0,0,0,0,0,0,0,0,{"$f":"IF(P951=4,1,IF(P951=3,2,IF(P951=2,3,IF(P951=1,4,0))))","v":0},0,0,0,0,0,0,0,0]
[null,26,{"$f":"C952","v":0},{"$f":"IF(D952=\"男\",1,IF(D952=\"女\",2,0))","v":0},{"$f":"IF(E952=0,0,E952)","v":0},0,0,0,0,0,0,0,0,0,0,{"$f":"IF(P952=4,1,IF(P952=3,2,IF(P952=2,3,IF(P952=1,4,0))))","v":0},0,0,0,0,0,0,0,0]
[null,27,0,0,{"$f":"IF(E953=0,0,E953)","v":0},0,0,0,0,0,0,0,0,0,0,{"$f":"IF(P953=4,1,IF(P953=3,2,IF(P953=2,3,IF(P953=1,4,0))))","v":0},0,0,0,0,0,0,0,0]
[null,28,0,0,{"$f":"IF(E954=0,0,E954)","v":0},0,0,0,0,0,0,0,0,0,0,{"$f":"IF(P954=4,1,IF(P954=3,2,IF(P954=2,3,IF(P954=1,4,0))))","v":0},0,0,0,0,0,0,0,0]
[null,29,0,0,{"$f":"IF(E955=0,0,E955)","v":0},0,0,0,0,0,0,0,0,0,0,{"$f":"IF(P955=4,1,IF(P955=3,2,IF(P955=2,3,IF(P955=1,4,0))))","v":0},0,0,0,0,0,0,0,0]
[null,30,0,0,{"$f":"IF(E956=0,0,E956)","v":0},0,0,0,0,0,0,0,0,0,0,{"$f":"IF(P956=4,1,IF(P956=3,2,IF(P956=2,3,IF(P956=1,4,0))))","v":0},0,0,0,0,0,0,0,0]
[null,31,0,0,{"$f":"IF(E957=0,0,E957)","v":0},0,0,0,0,0,0,0,0,0,0,{"$f":"IF(P957=4,1,IF(P957=3,2,IF(P957=2,3,IF(P957=1,4,0))))","v":0},0,0,0,0,0,0,0,0]
[null,32,0,0,{"$f":"IF(E958=0,0,E958)","v":0},0,0,0,0,0,0,0,0,0,0,{"$f":"IF(P958=4,1,IF(P958=3,2,IF(P958=2,3,IF(P958=1,4,0))))","v":0},0,0,0,0,0,0,0,0]
[null,33,0,0,{"$f":"IF(E959=0,0,E959)","v":0},0,0,0,0,0,0,0,0,0,0,{"$f":"IF(P959=4,1,IF(P959=3,2,IF(P959=2,3,IF(P959=1,4,0))))","v":0},0,0,0,0,0,0,0,0]
[null,34,0,0,{"$f":"IF(E960=0,0,E960)","v":0},0,0,0,0,0,0,0,0,0,0,{"$f":"IF(P960=4,1,IF(P960=3,2,IF(P960=2,3,IF(P960=1,4,0))))","v":0},0,0,0,0,0,0,0,0]
[null,35,0,0,{"$f":"IF(E961=0,0,E961)","v":0},0,0,0,0,0,0,0,0,0,0,{"$f":"IF(P961=4,1,IF(P961=3,2,IF(P961=2,3,IF(P961=1,4,0))))","v":0},0,0,0,0,0,0,0,0]
[null,36,0,0,{"$f":"IF(E962=0,0,E962)","v":0},0,0,0,0,0,0,0,0,0,0,{"$f":"IF(P962=4,1,IF(P962=3,2,IF(P962=2,3,IF(P962=1,4,0))))","v":0},0,0,0,0,0,0,0,0]
[null,37,0,0,{"$f":"IF(E963=0,0,E963)","v":0},0,0,0,0,0,0,0,0,0,0,{"$f":"IF(P963=4,1,IF(P963=3,2,IF(P963=2,3,IF(P963=1,4,0))))","v":0},0,0,0,0,0,0,0,0]
[null,38,0,0,{"$f":"IF(E964=0,0,E964)","v":0},0,0,0,0,0,0,0,0,0,0,{"$f":"IF(P964=4,1,IF(P964=3,2,IF(P964=2,3,IF(P964=1,4,0))))","v":0},0,0,0,0,0,0,0,0]
[null,39,0,0,{"$f":"IF(E965=0,0,E965)","v":0},0,0,0,0,0,0,0,0,0,0,{"$f":"IF(P965=4,1,IF(P965=3,2,IF(P965=2,3,IF(P965=1,4,0))))","v":0},0,0,0,0,0,0,0,0]
[null,40,0,0,{"$f":"IF(E966=0,0,E966)","v":0},0,0,0,0,0,0,0,0,0,0,{"$f":"IF(P966=4,1,IF(P966=3,2,IF(P966=2,3,IF(P966=1,4,0))))","v":0},0,0,0,0,0,0,0,0]
[null,41,0,0,{"$f":"IF(E967=0,0,E967)","v":0},0,0,0,0,0,0,0,0,0,0,{"$f":"IF(P967=4,1,IF(P967=3,2,IF(P967=2,3,IF(P967=1,4,0))))","v":0},0,0,0,0,0,0,0,0]
[null,42,0,0,{"$f":"IF(E968=0,0,E968)","v":0},0,0,0,0,0,0,0,0,0,0,{"$f":"IF(P968=4,1,IF(P968=3,2,IF(P968=2,3,IF(P968=1,4,0))))","v":0},0,0,0,0,0,0,0,0]
[null,43,0,0,{"$f":"IF(E969=0,0,E969)","v":0},0,0,0,0,0,0,0,0,0,0,{"$f":"IF(P969=4,1,IF(P969=3,2,IF(P969=2,3,IF(P969=1,4,0))))","v":0},0,0,0,0,0,0,0,0]
[null,44,0,0,{"$f":"IF(E970=0,0,E970)","v":0},0,0,0,0,0,0,0,0,0,0,{"$f":"IF(P970=4,1,IF(P970=3,2,IF(P970=2,3,IF(P970=1,4,0))))","v":0},0,0,0,0,0,0,0,0]
[null,45,0,0,{"$f":"IF(E971=0,0,E971)","v":0},0,0,0,0,0,0,0,0,0,0,{"$f":"IF(P971=4,1,IF(P971=3,2,IF(P971=2,3,IF(P971=1,4,0))))","v":0},0,0,0,0,0,0,0,0]
[null,46,0,0,{"$f":"IF(E972=0,0,E972)","v":0},0,0,0,0,0,0,0,0,0,0,{"$f":"IF(P972=4,1,IF(P972=3,2,IF(P972=2,3,IF(P972=1,4,0))))","v":0},0,0,0,0,0,0,0,0]
[null,47,0,0,{"$f":"IF(E973=0,0,E973)","v":0},0,0,0,0,0,0,0,0,0,0,{"$f":"IF(P973=4,1,IF(P973=3,2,IF(P973=2,3,IF(P973=1,4,0))))","v":0},0,0,0,0,0,0,0,0]
[null,48,0,0,{"$f":"IF(E974=0,0,E974)","v":0},0,0,0,0,0,0,0,0,0,0,{"$f":"IF(P974=4,1,IF(P974=3,2,IF(P974=2,3,IF(P974=1,4,0))))","v":0},0,0,0,0,0,0,0,0]
[null,49,0,0,{"$f":"IF(E975=0,0,E975)","v":0},0,0,0,0,0,0,0,0,0,0,{"$f":"IF(P975=4,1,IF(P975=3,2,IF(P975=2,3,IF(P975=1,4,0))))","v":0},0,0,0,0,0,0,0,0]
[null,50,0,0,{"$f":"IF(E976=0,0,E976)","v":0},0,0,0,0,0,0,0,0,0,0,{"$f":"IF(P976=4,1,IF(P976=3,2,IF(P976=2,3,IF(P976=1,4,0))))","v":0},0,0,0,0,0,0,0,0]
[null,51,0,0,{"$f":"IF(E977=0,0,E977)","v":0},0,0,0,0,0,0,0,0,0,0,{"$f":"IF(P977=4,1,IF(P977=3,2,IF(P977=2,3,IF(P977=1,4,0))))","v":0},0,0,0,0,0,0,0,0]
[null,52,0,0,{"$f":"IF(E978=0,0,E978)","v":0},0,0,0,0,0,0,0,0,0,0,{"$f":"IF(P978=4,1,IF(P978=3,2,IF(P978=2,3,IF(P978=1,4,0))))","v":0},0,0,0,0,0,0,0,0]
[null,53,0,0,{"$f":"IF(E979=0,0,E979)","v":0},0,0,0,0,0,0,0,0,0,0,{"$f":"IF(P979=4,1,IF(P979=3,2,IF(P979=2,3,IF(P979=1,4,0))))","v":0},0,0,0,0,0,0,0,0]
[null,54,0,0,{"$f":"IF(E980=0,0,E980)","v":0},0,0,0,0,0,0,0,0,0,0,{"$f":"IF(P980=4,1,IF(P980=3,2,IF(P980=2,3,IF(P980=1,4,0))))","v":0},0,0,0,0,0,0,0,0]
[null,55,0,0,{"$f":"IF(E981=0,0,E981)","v":0},0,0,0,0,0,0,0,0,0,0,{"$f":"IF(P981=4,1,IF(P981=3,2,IF(P981=2,3,IF(P981=1,4,0))))","v":0},0,0,0,0,0,0,0,0]
[null,56,0,0,{"$f":"IF(E982=0,0,E982)","v":0},0,0,0,0,0,0,0,0,0,0,{"$f":"IF(P982=4,1,IF(P982=3,2,IF(P982=2,3,IF(P982=1,4,0))))","v":0},0,0,0,0,0,0,0,0]
[null,57,0,0,{"$f":"IF(E983=0,0,E983)","v":0},0,0,0,0,0,0,0,0,0,0,{"$f":"IF(P983=4,1,IF(P983=3,2,IF(P983=2,3,IF(P983=1,4,0))))","v":0},0,0,0,0,0,0,0,0]
[null,58,0,0,{"$f":"IF(E984=0,0,E984)","v":0},0,0,0,0,0,0,0,0,0,0,{"$f":"IF(P984=4,1,IF(P984=3,2,IF(P984=2,3,IF(P984=1,4,0))))","v":0},0,0,0,0,0,0,0,0]
[null,59,0,0,{"$f":"IF(E985=0,0,E985)","v":0},0,0,0,0,0,0,0,0,0,0,{"$f":"IF(P985=4,1,IF(P985=3,2,IF(P985=2,3,IF(P985=1,4,0))))","v":0},0,0,0,0,0,0,0,0]
[null,60,0,0,{"$f":"IF(E986=0,0,E986)","v":0},0,0,0,0,0,0,0,0,0,0,{"$f":"IF(P986=4,1,IF(P986=3,2,IF(P986=2,3,IF(P986=1,4,0))))","v":0},0,0,0,0,0,0,0,0]
["８組",1,0,0,{"$f":"IF(E987=0,0,E987)","v":0},0,0,0,0,0,0,0,0,0,0,{"$f":"IF(P987=4,1,IF(P987=3,2,IF(P987=2,3,IF(P987=1,4,0))))","v":0},0,0,0,0,0,0,0,0]
[null,2,0,0,{"$f":"IF(E988=0,0,E988)","v":0},0,0,0,0,0,0,0,0,0,0,{"$f":"IF(P988=4,1,IF(P988=3,2,IF(P988=2,3,IF(P988=1,4,0))))","v":0},0,0,0,0,0,0,0,0]
[null,3,0,0,{"$f":"IF(E989=0,0,E989)","v":0},0,0,0,0,0,0,0,0,0,0,{"$f":"IF(P989=4,1,IF(P989=3,2,IF(P989=2,3,IF(P989=1,4,0))))","v":0},0,0,0,0,0,0,0,0]
[null,4,0,0,{"$f":"IF(E990=0,0,E990)","v":0},0,0,0,0,0,0,0,0,0,0,{"$f":"IF(P990=4,1,IF(P990=3,2,IF(P990=2,3,IF(P990=1,4,0))))","v":0},0,0,0,0,0,0,0,0]
[null,5,0,0,{"$f":"IF(E991=0,0,E991)","v":0},0,0,0,0,0,0,0,0,0,0,{"$f":"IF(P991=4,1,IF(P991=3,2,IF(P991=2,3,IF(P991=1,4,0))))","v":0},0,0,0,0,0,0,0,0]
[null,6,0,0,{"$f":"IF(E992=0,0,E992)","v":0},0,0,0,0,0,0,0,0,0,0,{"$f":"IF(P992=4,1,IF(P992=3,2,IF(P992=2,3,IF(P992=1,4,0))))","v":0},0,0,0,0,0,0,0,0]
[null,7,0,0,{"$f":"IF(E993=0,0,E993)","v":0},0,0,0,0,0,0,0,0,0,0,{"$f":"IF(P993=4,1,IF(P993=3,2,IF(P993=2,3,IF(P993=1,4,0))))","v":0},0,0,0,0,0,0,0,0]
[null,8,0,0,{"$f":"IF(E994=0,0,E994)","v":0},0,0,0,0,0,0,0,0,0,0,{"$f":"IF(P994=4,1,IF(P994=3,2,IF(P994=2,3,IF(P994=1,4,0))))","v":0},0,0,0,0,0,0,0,0]
[null,9,0,0,{"$f":"IF(E995=0,0,E995)","v":0},0,0,0,0,0,0,0,0,0,0,{"$f":"IF(P995=4,1,IF(P995=3,2,IF(P995=2,3,IF(P995=1,4,0))))","v":0},0,0,0,0,0,0,0,0]
[null,10,0,0,{"$f":"IF(E996=0,0,E996)","v":0},0,0,0,0,0,0,0,0,0,0,{"$f":"IF(P996=4,1,IF(P996=3,2,IF(P996=2,3,IF(P996=1,4,0))))","v":0},0,0,0,0,0,0,0,0]
[null,11,0,0,{"$f":"IF(E997=0,0,E997)","v":0},0,0,0,0,0,0,0,0,0,0,{"$f":"IF(P997=4,1,IF(P997=3,2,IF(P997=2,3,IF(P997=1,4,0))))","v":0},0,0,0,0,0,0,0,0]
[null,12,0,0,{"$f":"IF(E998=0,0,E998)","v":0},0,0,0,0,0,0,0,0,0,0,{"$f":"IF(P998=4,1,IF(P998=3,2,IF(P998=2,3,IF(P998=1,4,0))))","v":0},0,0,0,0,0,0,0,0]
[null,13,0,0,{"$f":"IF(E999=0,0,E999)","v":0},0,0,0,0,0,0,0,0,0,0,{"$f":"IF(P999=4,1,IF(P999=3,2,IF(P999=2,3,IF(P999=1,4,0))))","v":0},0,0,0,0,0,0,0,0]
[null,14,0,0,{"$f":"IF(E1000=0,0,E1000)","v":0},0,0,0,0,0,0,0,0,0,0,{"$f":"IF(P1000=4,1,IF(P1000=3,2,IF(P1000=2,3,IF(P1000=1,4,0))))","v":0},0,0,0,0,0,0,0,0]
[null,15,0,0,{"$f":"IF(E1001=0,0,E1001)","v":0},0,0,0,0,0,0,0,0,0,0,{"$f":"IF(P1001=4,1,IF(P1001=3,2,IF(P1001=2,3,IF(P1001=1,4,0))))","v":0},0,0,0,0,0,0,0,0]
[null,16,0,0,{"$f":"IF(E1002=0,0,E1002)","v":0},0,0,0,0,0,0,0,0,0,0,{"$f":"IF(P1002=4,1,IF(P1002=3,2,IF(P1002=2,3,IF(P1002=1,4,0))))","v":0},0,0,0,0,0,0,0,0]
[null,17,0,0,{"$f":"IF(E1003=0,0,E1003)","v":0},0,0,0,0,0,0,0,0,0,0,{"$f":"IF(P1003=4,1,IF(P1003=3,2,IF(P1003=2,3,IF(P1003=1,4,0))))","v":0},0,0,0,0,0,0,0,0]
[null,18,0,0,{"$f":"IF(E1004=0,0,E1004)","v":0},0,0,0,0,0,0,0,0,0,0,{"$f":"IF(P1004=4,1,IF(P1004=3,2,IF(P1004=2,3,IF(P1004=1,4,0))))","v":0},0,0,0,0,0,0,0,0]
[null,19,0,0,{"$f":"IF(E1005=0,0,E1005)","v":0},0,0,0,0,0,0,0,0,0,0,{"$f":"IF(P1005=4,1,IF(P1005=3,2,IF(P1005=2,3,IF(P1005=1,4,0))))","v":0},0,0,0,0,0,0,0,0]
[null,20,0,0,{"$f":"IF(E1006=0,0,E1006)","v":0},0,0,0,0,0,0,0,0,0,0,{"$f":"IF(P1006=4,1,IF(P1006=3,2,IF(P1006=2,3,IF(P1006=1,4,0))))","v":0},0,0,0,0,0,0,0,0]
[null,21,0,0,{"$f":"IF(E1007=0,0,E1007)","v":0},0,0,0,0,0,0,0,0,0,0,{"$f":"IF(P1007=4,1,IF(P1007=3,2,IF(P1007=2,3,IF(P1007=1,4,0))))","v":0},0,0,0,0,0,0,0,0]
[null,22,0,0,{"$f":"IF(E1008=0,0,E1008)","v":0},0,0,0,0,0,0,0,0,0,0,{"$f":"IF(P1008=4,1,IF(P1008=3,2,IF(P1008=2,3,IF(P1008=1,4,0))))","v":0},0,0,0,0,0,0,0,0]
[null,23,0,0,{"$f":"IF(E1009=0,0,E1009)","v":0},0,0,0,0,0,0,0,0,0,0,{"$f":"IF(P1009=4,1,IF(P1009=3,2,IF(P1009=2,3,IF(P1009=1,4,0))))","v":0},0,0,0,0,0,0,0,0]
[null,24,0,0,{"$f":"IF(E1010=0,0,E1010)","v":0},0,0,0,0,0,0,0,0,0,0,{"$f":"IF(P1010=4,1,IF(P1010=3,2,IF(P1010=2,3,IF(P1010=1,4,0))))","v":0},0,0,0,0,0,0,0,0]
[null,25,0,0,{"$f":"IF(E1011=0,0,E1011)","v":0},0,0,0,0,0,0,0,0,0,0,{"$f":"IF(P1011=4,1,IF(P1011=3,2,IF(P1011=2,3,IF(P1011=1,4,0))))","v":0},0,0,0,0,0,0,0,0]
[null,26,0,0,{"$f":"IF(E1012=0,0,E1012)","v":0},0,0,0,0,0,0,0,0,0,0,{"$f":"IF(P1012=4,1,IF(P1012=3,2,IF(P1012=2,3,IF(P1012=1,4,0))))","v":0},0,0,0,0,0,0,0,0]
[null,27,0,0,{"$f":"IF(E1013=0,0,E1013)","v":0},0,0,0,0,0,0,0,0,0,0,{"$f":"IF(P1013=4,1,IF(P1013=3,2,IF(P1013=2,3,IF(P1013=1,4,0))))","v":0},0,0,0,0,0,0,0,0]
[null,28,0,0,{"$f":"IF(E1014=0,0,E1014)","v":0},0,0,0,0,0,0,0,0,0,0,{"$f":"IF(P1014=4,1,IF(P1014=3,2,IF(P1014=2,3,IF(P1014=1,4,0))))","v":0},0,0,0,0,0,0,0,0]
[null,29,0,0,{"$f":"IF(E1015=0,0,E1015)","v":0},0,0,0,0,0,0,0,0,0,0,{"$f":"IF(P1015=4,1,IF(P1015=3,2,IF(P1015=2,3,IF(P1015=1,4,0))))","v":0},0,0,0,0,0,0,0,0]
[null,30,{"$f":"C1016","v":0},{"$f":"IF(D1016=\"男\",1,IF(D1016=\"女\",2,0))","v":0},{"$f":"IF(E1016=0,0,E1016)","v":0},0,0,0,0,0,0,0,0,0,0,{"$f":"IF(P1016=4,1,IF(P1016=3,2,IF(P1016=2,3,IF(P1016=1,4,0))))","v":0},0,0,0,0,0,0,0,0]
[null,31,0,0,{"$f":"IF(E1017=0,0,E1017)","v":0},0,0,0,0,0,0,0,0,0,0,{"$f":"IF(P1017=4,1,IF(P1017=3,2,IF(P1017=2,3,IF(P1017=1,4,0))))","v":0},0,0,0,0,0,0,0,0]
[null,32,0,0,{"$f":"IF(E1018=0,0,E1018)","v":0},0,0,0,0,0,0,0,0,0,0,{"$f":"IF(P1018=4,1,IF(P1018=3,2,IF(P1018=2,3,IF(P1018=1,4,0))))","v":0},0,0,0,0,0,0,0,0]
[null,33,0,0,{"$f":"IF(E1019=0,0,E1019)","v":0},0,0,0,0,0,0,0,0,0,0,{"$f":"IF(P1019=4,1,IF(P1019=3,2,IF(P1019=2,3,IF(P1019=1,4,0))))","v":0},0,0,0,0,0,0,0,0]
[null,34,0,0,{"$f":"IF(E1020=0,0,E1020)","v":0},0,0,0,0,0,0,0,0,0,0,{"$f":"IF(P1020=4,1,IF(P1020=3,2,IF(P1020=2,3,IF(P1020=1,4,0))))","v":0},0,0,0,0,0,0,0,0]
[null,35,0,0,{"$f":"IF(E1021=0,0,E1021)","v":0},0,0,0,0,0,0,0,0,0,0,{"$f":"IF(P1021=4,1,IF(P1021=3,2,IF(P1021=2,3,IF(P1021=1,4,0))))","v":0},0,0,0,0,0,0,0,0]
[null,36,0,0,{"$f":"IF(E1022=0,0,E1022)","v":0},0,0,0,0,0,0,0,0,0,0,{"$f":"IF(P1022=4,1,IF(P1022=3,2,IF(P1022=2,3,IF(P1022=1,4,0))))","v":0},0,0,0,0,0,0,0,0]
[null,37,0,0,{"$f":"IF(E1023=0,0,E1023)","v":0},0,0,0,0,0,0,0,0,0,0,{"$f":"IF(P1023=4,1,IF(P1023=3,2,IF(P1023=2,3,IF(P1023=1,4,0))))","v":0},0,0,0,0,0,0,0,0]
[null,38,0,0,{"$f":"IF(E1024=0,0,E1024)","v":0},0,0,0,0,0,0,0,0,0,0,{"$f":"IF(P1024=4,1,IF(P1024=3,2,IF(P1024=2,3,IF(P1024=1,4,0))))","v":0},0,0,0,0,0,0,0,0]
[null,39,0,0,{"$f":"IF(E1025=0,0,E1025)","v":0},0,0,0,0,0,0,0,0,0,0,{"$f":"IF(P1025=4,1,IF(P1025=3,2,IF(P1025=2,3,IF(P1025=1,4,0))))","v":0},0,0,0,0,0,0,0,0]
[null,40,0,0,{"$f":"IF(E1026=0,0,E1026)","v":0},0,0,0,0,0,0,0,0,0,0,{"$f":"IF(P1026=4,1,IF(P1026=3,2,IF(P1026=2,3,IF(P1026=1,4,0))))","v":0},0,0,0,0,0,0,0,0]
[null,41,0,0,{"$f":"IF(E1027=0,0,E1027)","v":0},0,0,0,0,0,0,0,0,0,0,{"$f":"IF(P1027=4,1,IF(P1027=3,2,IF(P1027=2,3,IF(P1027=1,4,0))))","v":0},0,0,0,0,0,0,0,0]
[null,42,0,0,{"$f":"IF(E1028=0,0,E1028)","v":0},0,0,0,0,0,0,0,0,0,0,{"$f":"IF(P1028=4,1,IF(P1028=3,2,IF(P1028=2,3,IF(P1028=1,4,0))))","v":0},0,0,0,0,0,0,0,0]
[null,43,0,0,{"$f":"IF(E1029=0,0,E1029)","v":0},0,0,0,0,0,0,0,0,0,0,{"$f":"IF(P1029=4,1,IF(P1029=3,2,IF(P1029=2,3,IF(P1029=1,4,0))))","v":0},0,0,0,0,0,0,0,0]
[null,44,0,0,{"$f":"IF(E1030=0,0,E1030)","v":0},0,0,0,0,0,0,0,0,0,0,{"$f":"IF(P1030=4,1,IF(P1030=3,2,IF(P1030=2,3,IF(P1030=1,4,0))))","v":0},0,0,0,0,0,0,0,0]
[null,45,0,0,{"$f":"IF(E1031=0,0,E1031)","v":0},0,0,0,0,0,0,0,0,0,0,{"$f":"IF(P1031=4,1,IF(P1031=3,2,IF(P1031=2,3,IF(P1031=1,4,0))))","v":0},0,0,0,0,0,0,0,0]
[null,46,0,0,{"$f":"IF(E1032=0,0,E1032)","v":0},0,0,0,0,0,0,0,0,0,0,{"$f":"IF(P1032=4,1,IF(P1032=3,2,IF(P1032=2,3,IF(P1032=1,4,0))))","v":0},0,0,0,0,0,0,0,0]
[null,47,0,0,{"$f":"IF(E1033=0,0,E1033)","v":0},0,0,0,0,0,0,0,0,0,0,{"$f":"IF(P1033=4,1,IF(P1033=3,2,IF(P1033=2,3,IF(P1033=1,4,0))))","v":0},0,0,0,0,0,0,0,0]
[null,48,0,0,{"$f":"IF(E1034=0,0,E1034)","v":0},0,0,0,0,0,0,0,0,0,0,{"$f":"IF(P1034=4,1,IF(P1034=3,2,IF(P1034=2,3,IF(P1034=1,4,0))))","v":0},0,0,0,0,0,0,0,0]
[null,49,0,0,{"$f":"IF(E1035=0,0,E1035)","v":0},0,0,0,0,0,0,0,0,0,0,{"$f":"IF(P1035=4,1,IF(P1035=3,2,IF(P1035=2,3,IF(P1035=1,4,0))))","v":0},0,0,0,0,0,0,0,0]
[null,50,0,0,{"$f":"IF(E1036=0,0,E1036)","v":0},0,0,0,0,0,0,0,0,0,0,{"$f":"IF(P1036=4,1,IF(P1036=3,2,IF(P1036=2,3,IF(P1036=1,4,0))))","v":0},0,0,0,0,0,0,0,0]
[null,51,0,0,{"$f":"IF(E1037=0,0,E1037)","v":0},0,0,0,0,0,0,0,0,0,0,{"$f":"IF(P1037=4,1,IF(P1037=3,2,IF(P1037=2,3,IF(P1037=1,4,0))))","v":0},0,0,0,0,0,0,0,0]
[null,52,0,0,{"$f":"IF(E1038=0,0,E1038)","v":0},0,0,0,0,0,0,0,0,0,0,{"$f":"IF(P1038=4,1,IF(P1038=3,2,IF(P1038=2,3,IF(P1038=1,4,0))))","v":0},0,0,0,0,0,0,0,0]
[null,53,0,0,{"$f":"IF(E1039=0,0,E1039)","v":0},0,0,0,0,0,0,0,0,0,0,{"$f":"IF(P1039=4,1,IF(P1039=3,2,IF(P1039=2,3,IF(P1039=1,4,0))))","v":0},0,0,0,0,0,0,0,0]
[null,54,0,0,{"$f":"IF(E1040=0,0,E1040)","v":0},0,0,0,0,0,0,0,0,0,0,{"$f":"IF(P1040=4,1,IF(P1040=3,2,IF(P1040=2,3,IF(P1040=1,4,0))))","v":0},0,0,0,0,0,0,0,0]
[null,55,0,0,{"$f":"IF(E1041=0,0,E1041)","v":0},0,0,0,0,0,0,0,0,0,0,{"$f":"IF(P1041=4,1,IF(P1041=3,2,IF(P1041=2,3,IF(P1041=1,4,0))))","v":0},0,0,0,0,0,0,0,0]
[null,56,0,0,{"$f":"IF(E1042=0,0,E1042)","v":0},0,0,0,0,0,0,0,0,0,0,{"$f":"IF(P1042=4,1,IF(P1042=3,2,IF(P1042=2,3,IF(P1042=1,4,0))))","v":0},0,0,0,0,0,0,0,0]
[null,57,0,0,{"$f":"IF(E1043=0,0,E1043)","v":0},0,0,0,0,0,0,0,0,0,0,{"$f":"IF(P1043=4,1,IF(P1043=3,2,IF(P1043=2,3,IF(P1043=1,4,0))))","v":0},0,0,0,0,0,0,0,0]
[null,58,0,0,{"$f":"IF(E1044=0,0,E1044)","v":0},0,0,0,0,0,0,0,0,0,0,{"$f":"IF(P1044=4,1,IF(P1044=3,2,IF(P1044=2,3,IF(P1044=1,4,0))))","v":0},0,0,0,0,0,0,0,0]
[null,59,0,0,{"$f":"IF(E1045=0,0,E1045)","v":0},0,0,0,0,0,0,0,0,0,0,{"$f":"IF(P1045=4,1,IF(P1045=3,2,IF(P1045=2,3,IF(P1045=1,4,0))))","v":0},0,0,0,0,0,0,0,0]
[null,60,0,0,{"$f":"IF(E1046=0,0,E1046)","v":0},0,0,0,0,0,0,0,0,0,0,{"$f":"IF(P1046=4,1,IF(P1046=3,2,IF(P1046=2,3,IF(P1046=1,4,0))))","v":0},0,0,0,0,0,0,0,0]
["９組",1,0,0,{"$f":"IF(E1047=0,0,E1047)","v":0},0,0,0,0,0,0,0,0,0,0,{"$f":"IF(P1047=4,1,IF(P1047=3,2,IF(P1047=2,3,IF(P1047=1,4,0))))","v":0},0,0,0,0,0,0,0,0]
[null,2,0,0,{"$f":"IF(E1048=0,0,E1048)","v":0},0,0,0,0,0,0,0,0,0,0,{"$f":"IF(P1048=4,1,IF(P1048=3,2,IF(P1048=2,3,IF(P1048=1,4,0))))","v":0},0,0,0,0,0,0,0,0]
[null,3,0,0,{"$f":"IF(E1049=0,0,E1049)","v":0},0,0,0,0,0,0,0,0,0,0,{"$f":"IF(P1049=4,1,IF(P1049=3,2,IF(P1049=2,3,IF(P1049=1,4,0))))","v":0},0,0,0,0,0,0,0,0]
[null,4,0,0,{"$f":"IF(E1050=0,0,E1050)","v":0},0,0,0,0,0,0,0,0,0,0,{"$f":"IF(P1050=4,1,IF(P1050=3,2,IF(P1050=2,3,IF(P1050=1,4,0))))","v":0},0,0,0,0,0,0,0,0]
[null,5,0,0,{"$f":"IF(E1051=0,0,E1051)","v":0},0,0,0,0,0,0,0,0,0,0,{"$f":"IF(P1051=4,1,IF(P1051=3,2,IF(P1051=2,3,IF(P1051=1,4,0))))","v":0},0,0,0,0,0,0,0,0]
[null,6,0,0,{"$f":"IF(E1052=0,0,E1052)","v":0},0,0,0,0,0,0,0,0,0,0,{"$f":"IF(P1052=4,1,IF(P1052=3,2,IF(P1052=2,3,IF(P1052=1,4,0))))","v":0},0,0,0,0,0,0,0,0]
[null,7,0,0,{"$f":"IF(E1053=0,0,E1053)","v":0},0,0,0,0,0,0,0,0,0,0,{"$f":"IF(P1053=4,1,IF(P1053=3,2,IF(P1053=2,3,IF(P1053=1,4,0))))","v":0},0,0,0,0,0,0,0,0]
[null,8,0,0,{"$f":"IF(E1054=0,0,E1054)","v":0},0,0,0,0,0,0,0,0,0,0,{"$f":"IF(P1054=4,1,IF(P1054=3,2,IF(P1054=2,3,IF(P1054=1,4,0))))","v":0},0,0,0,0,0,0,0,0]
[null,9,0,0,{"$f":"IF(E1055=0,0,E1055)","v":0},0,0,0,0,0,0,0,0,0,0,{"$f":"IF(P1055=4,1,IF(P1055=3,2,IF(P1055=2,3,IF(P1055=1,4,0))))","v":0},0,0,0,0,0,0,0,0]
[null,10,0,0,{"$f":"IF(E1056=0,0,E1056)","v":0},0,0,0,0,0,0,0,0,0,0,{"$f":"IF(P1056=4,1,IF(P1056=3,2,IF(P1056=2,3,IF(P1056=1,4,0))))","v":0},0,0,0,0,0,0,0,0]
[null,11,0,0,{"$f":"IF(E1057=0,0,E1057)","v":0},0,0,0,0,0,0,0,0,0,0,{"$f":"IF(P1057=4,1,IF(P1057=3,2,IF(P1057=2,3,IF(P1057=1,4,0))))","v":0},0,0,0,0,0,0,0,0]
[null,12,0,0,{"$f":"IF(E1058=0,0,E1058)","v":0},0,0,0,0,0,0,0,0,0,0,{"$f":"IF(P1058=4,1,IF(P1058=3,2,IF(P1058=2,3,IF(P1058=1,4,0))))","v":0},0,0,0,0,0,0,0,0]
[null,13,0,0,{"$f":"IF(E1059=0,0,E1059)","v":0},0,0,0,0,0,0,0,0,0,0,{"$f":"IF(P1059=4,1,IF(P1059=3,2,IF(P1059=2,3,IF(P1059=1,4,0))))","v":0},0,0,0,0,0,0,0,0]
[null,14,0,0,{"$f":"IF(E1060=0,0,E1060)","v":0},0,0,0,0,0,0,0,0,0,0,{"$f":"IF(P1060=4,1,IF(P1060=3,2,IF(P1060=2,3,IF(P1060=1,4,0))))","v":0},0,0,0,0,0,0,0,0]
[null,15,0,0,{"$f":"IF(E1061=0,0,E1061)","v":0},0,0,0,0,0,0,0,0,0,0,{"$f":"IF(P1061=4,1,IF(P1061=3,2,IF(P1061=2,3,IF(P1061=1,4,0))))","v":0},0,0,0,0,0,0,0,0]
[null,16,0,0,{"$f":"IF(E1062=0,0,E1062)","v":0},0,0,0,0,0,0,0,0,0,0,{"$f":"IF(P1062=4,1,IF(P1062=3,2,IF(P1062=2,3,IF(P1062=1,4,0))))","v":0},0,0,0,0,0,0,0,0]
[null,17,0,0,{"$f":"IF(E1063=0,0,E1063)","v":0},0,0,0,0,0,0,0,0,0,0,{"$f":"IF(P1063=4,1,IF(P1063=3,2,IF(P1063=2,3,IF(P1063=1,4,0))))","v":0},0,0,0,0,0,0,0,0]
[null,18,0,0,{"$f":"IF(E1064=0,0,E1064)","v":0},0,0,0,0,0,0,0,0,0,0,{"$f":"IF(P1064=4,1,IF(P1064=3,2,IF(P1064=2,3,IF(P1064=1,4,0))))","v":0},0,0,0,0,0,0,0,0]
[null,19,0,0,{"$f":"IF(E1065=0,0,E1065)","v":0},0,0,0,0,0,0,0,0,0,0,{"$f":"IF(P1065=4,1,IF(P1065=3,2,IF(P1065=2,3,IF(P1065=1,4,0))))","v":0},0,0,0,0,0,0,0,0]
[null,20,0,0,{"$f":"IF(E1066=0,0,E1066)","v":0},0,0,0,0,0,0,0,0,0,0,{"$f":"IF(P1066=4,1,IF(P1066=3,2,IF(P1066=2,3,IF(P1066=1,4,0))))","v":0},0,0,0,0,0,0,0,0]
[null,21,0,0,{"$f":"IF(E1067=0,0,E1067)","v":0},0,0,0,0,0,0,0,0,0,0,{"$f":"IF(P1067=4,1,IF(P1067=3,2,IF(P1067=2,3,IF(P1067=1,4,0))))","v":0},0,0,0,0,0,0,0,0]
[null,22,0,0,{"$f":"IF(E1068=0,0,E1068)","v":0},0,0,0,0,0,0,0,0,0,0,{"$f":"IF(P1068=4,1,IF(P1068=3,2,IF(P1068=2,3,IF(P1068=1,4,0))))","v":0},0,0,0,0,0,0,0,0]
[null,23,0,0,{"$f":"IF(E1069=0,0,E1069)","v":0},0,0,0,0,0,0,0,0,0,0,{"$f":"IF(P1069=4,1,IF(P1069=3,2,IF(P1069=2,3,IF(P1069=1,4,0))))","v":0},0,0,0,0,0,0,0,0]
[null,24,0,0,{"$f":"IF(E1070=0,0,E1070)","v":0},0,0,0,0,0,0,0,0,0,0,{"$f":"IF(P1070=4,1,IF(P1070=3,2,IF(P1070=2,3,IF(P1070=1,4,0))))","v":0},0,0,0,0,0,0,0,0]
[null,25,0,0,{"$f":"IF(E1071=0,0,E1071)","v":0},0,0,0,0,0,0,0,0,0,0,{"$f":"IF(P1071=4,1,IF(P1071=3,2,IF(P1071=2,3,IF(P1071=1,4,0))))","v":0},0,0,0,0,0,0,0,0]
[null,26,0,0,{"$f":"IF(E1072=0,0,E1072)","v":0},0,0,0,0,0,0,0,0,0,0,{"$f":"IF(P1072=4,1,IF(P1072=3,2,IF(P1072=2,3,IF(P1072=1,4,0))))","v":0},0,0,0,0,0,0,0,0]
[null,27,0,0,{"$f":"IF(E1073=0,0,E1073)","v":0},0,0,0,0,0,0,0,0,0,0,{"$f":"IF(P1073=4,1,IF(P1073=3,2,IF(P1073=2,3,IF(P1073=1,4,0))))","v":0},0,0,0,0,0,0,0,0]
[null,28,0,0,{"$f":"IF(E1074=0,0,E1074)","v":0},0,0,0,0,0,0,0,0,0,0,{"$f":"IF(P1074=4,1,IF(P1074=3,2,IF(P1074=2,3,IF(P1074=1,4,0))))","v":0},0,0,0,0,0,0,0,0]
[null,29,0,0,{"$f":"IF(E1075=0,0,E1075)","v":0},0,0,0,0,0,0,0,0,0,0,{"$f":"IF(P1075=4,1,IF(P1075=3,2,IF(P1075=2,3,IF(P1075=1,4,0))))","v":0},0,0,0,0,0,0,0,0]
[null,30,0,0,{"$f":"IF(E1076=0,0,E1076)","v":0},0,0,0,0,0,0,0,0,0,0,{"$f":"IF(P1076=4,1,IF(P1076=3,2,IF(P1076=2,3,IF(P1076=1,4,0))))","v":0},0,0,0,0,0,0,0,0]
[null,31,0,0,{"$f":"IF(E1077=0,0,E1077)","v":0},0,0,0,0,0,0,0,0,0,0,{"$f":"IF(P1077=4,1,IF(P1077=3,2,IF(P1077=2,3,IF(P1077=1,4,0))))","v":0},0,0,0,0,0,0,0,0]
[null,32,0,0,{"$f":"IF(E1078=0,0,E1078)","v":0},0,0,0,0,0,0,0,0,0,0,{"$f":"IF(P1078=4,1,IF(P1078=3,2,IF(P1078=2,3,IF(P1078=1,4,0))))","v":0},0,0,0,0,0,0,0,0]
[null,33,0,0,{"$f":"IF(E1079=0,0,E1079)","v":0},0,0,0,0,0,0,0,0,0,0,{"$f":"IF(P1079=4,1,IF(P1079=3,2,IF(P1079=2,3,IF(P1079=1,4,0))))","v":0},0,0,0,0,0,0,0,0]
[null,34,{"$f":"C1080","v":0},{"$f":"IF(D1080=\"男\",1,IF(D1080=\"女\",2,0))","v":0},{"$f":"IF(E1080=0,0,E1080)","v":0},0,0,0,0,0,0,0,0,0,0,{"$f":"IF(P1080=4,1,IF(P1080=3,2,IF(P1080=2,3,IF(P1080=1,4,0))))","v":0},0,0,0,0,0,0,0,0]
[null,35,0,0,{"$f":"IF(E1081=0,0,E1081)","v":0},0,0,0,0,0,0,0,0,0,0,{"$f":"IF(P1081=4,1,IF(P1081=3,2,IF(P1081=2,3,IF(P1081=1,4,0))))","v":0},0,0,0,0,0,0,0,0]
[null,36,0,0,{"$f":"IF(E1082=0,0,E1082)","v":0},0,0,0,0,0,0,0,0,0,0,{"$f":"IF(P1082=4,1,IF(P1082=3,2,IF(P1082=2,3,IF(P1082=1,4,0))))","v":0},0,0,0,0,0,0,0,0]
[null,37,0,0,{"$f":"IF(E1083=0,0,E1083)","v":0},0,0,0,0,0,0,0,0,0,0,{"$f":"IF(P1083=4,1,IF(P1083=3,2,IF(P1083=2,3,IF(P1083=1,4,0))))","v":0},0,0,0,0,0,0,0,0]
[null,38,0,0,{"$f":"IF(E1084=0,0,E1084)","v":0},0,0,0,0,0,0,0,0,0,0,{"$f":"IF(P1084=4,1,IF(P1084=3,2,IF(P1084=2,3,IF(P1084=1,4,0))))","v":0},0,0,0,0,0,0,0,0]
[null,39,0,0,{"$f":"IF(E1085=0,0,E1085)","v":0},0,0,0,0,0,0,0,0,0,0,{"$f":"IF(P1085=4,1,IF(P1085=3,2,IF(P1085=2,3,IF(P1085=1,4,0))))","v":0},0,0,0,0,0,0,0,0]
[null,40,0,0,{"$f":"IF(E1086=0,0,E1086)","v":0},0,0,0,0,0,0,0,0,0,0,{"$f":"IF(P1086=4,1,IF(P1086=3,2,IF(P1086=2,3,IF(P1086=1,4,0))))","v":0},0,0,0,0,0,0,0,0]
[null,41,0,0,{"$f":"IF(E1087=0,0,E1087)","v":0},0,0,0,0,0,0,0,0,0,0,{"$f":"IF(P1087=4,1,IF(P1087=3,2,IF(P1087=2,3,IF(P1087=1,4,0))))","v":0},0,0,0,0,0,0,0,0]
[null,42,0,0,{"$f":"IF(E1088=0,0,E1088)","v":0},0,0,0,0,0,0,0,0,0,0,{"$f":"IF(P1088=4,1,IF(P1088=3,2,IF(P1088=2,3,IF(P1088=1,4,0))))","v":0},0,0,0,0,0,0,0,0]
[null,43,0,0,{"$f":"IF(E1089=0,0,E1089)","v":0},0,0,0,0,0,0,0,0,0,0,{"$f":"IF(P1089=4,1,IF(P1089=3,2,IF(P1089=2,3,IF(P1089=1,4,0))))","v":0},0,0,0,0,0,0,0,0]
[null,44,0,0,{"$f":"IF(E1090=0,0,E1090)","v":0},0,0,0,0,0,0,0,0,0,0,{"$f":"IF(P1090=4,1,IF(P1090=3,2,IF(P1090=2,3,IF(P1090=1,4,0))))","v":0},0,0,0,0,0,0,0,0]
[null,45,0,0,{"$f":"IF(E1091=0,0,E1091)","v":0},0,0,0,0,0,0,0,0,0,0,{"$f":"IF(P1091=4,1,IF(P1091=3,2,IF(P1091=2,3,IF(P1091=1,4,0))))","v":0},0,0,0,0,0,0,0,0]
[null,46,0,0,{"$f":"IF(E1092=0,0,E1092)","v":0},0,0,0,0,0,0,0,0,0,0,{"$f":"IF(P1092=4,1,IF(P1092=3,2,IF(P1092=2,3,IF(P1092=1,4,0))))","v":0},0,0,0,0,0,0,0,0]
[null,47,0,0,{"$f":"IF(E1093=0,0,E1093)","v":0},0,0,0,0,0,0,0,0,0,0,{"$f":"IF(P1093=4,1,IF(P1093=3,2,IF(P1093=2,3,IF(P1093=1,4,0))))","v":0},0,0,0,0,0,0,0,0]
[null,48,0,0,{"$f":"IF(E1094=0,0,E1094)","v":0},0,0,0,0,0,0,0,0,0,0,{"$f":"IF(P1094=4,1,IF(P1094=3,2,IF(P1094=2,3,IF(P1094=1,4,0))))","v":0},0,0,0,0,0,0,0,0]
[null,49,0,0,{"$f":"IF(E1095=0,0,E1095)","v":0},0,0,0,0,0,0,0,0,0,0,{"$f":"IF(P1095=4,1,IF(P1095=3,2,IF(P1095=2,3,IF(P1095=1,4,0))))","v":0},0,0,0,0,0,0,0,0]
[null,50,0,0,{"$f":"IF(E1096=0,0,E1096)","v":0},0,0,0,0,0,0,0,0,0,0,{"$f":"IF(P1096=4,1,IF(P1096=3,2,IF(P1096=2,3,IF(P1096=1,4,0))))","v":0},0,0,0,0,0,0,0,0]
[null,51,0,0,{"$f":"IF(E1097=0,0,E1097)","v":0},0,0,0,0,0,0,0,0,0,0,{"$f":"IF(P1097=4,1,IF(P1097=3,2,IF(P1097=2,3,IF(P1097=1,4,0))))","v":0},0,0,0,0,0,0,0,0]
[null,52,0,0,{"$f":"IF(E1098=0,0,E1098)","v":0},0,0,0,0,0,0,0,0,0,0,{"$f":"IF(P1098=4,1,IF(P1098=3,2,IF(P1098=2,3,IF(P1098=1,4,0))))","v":0},0,0,0,0,0,0,0,0]
[null,53,0,0,{"$f":"IF(E1099=0,0,E1099)","v":0},0,0,0,0,0,0,0,0,0,0,{"$f":"IF(P1099=4,1,IF(P1099=3,2,IF(P1099=2,3,IF(P1099=1,4,0))))","v":0},0,0,0,0,0,0,0,0]
[null,54,0,0,{"$f":"IF(E1100=0,0,E1100)","v":0},0,0,0,0,0,0,0,0,0,0,{"$f":"IF(P1100=4,1,IF(P1100=3,2,IF(P1100=2,3,IF(P1100=1,4,0))))","v":0},0,0,0,0,0,0,0,0]
[null,55,0,0,{"$f":"IF(E1101=0,0,E1101)","v":0},0,0,0,0,0,0,0,0,0,0,{"$f":"IF(P1101=4,1,IF(P1101=3,2,IF(P1101=2,3,IF(P1101=1,4,0))))","v":0},0,0,0,0,0,0,0,0]
[null,56,0,0,{"$f":"IF(E1102=0,0,E1102)","v":0},0,0,0,0,0,0,0,0,0,0,{"$f":"IF(P1102=4,1,IF(P1102=3,2,IF(P1102=2,3,IF(P1102=1,4,0))))","v":0},0,0,0,0,0,0,0,0]
[null,57,0,0,{"$f":"IF(E1103=0,0,E1103)","v":0},0,0,0,0,0,0,0,0,0,0,{"$f":"IF(P1103=4,1,IF(P1103=3,2,IF(P1103=2,3,IF(P1103=1,4,0))))","v":0},0,0,0,0,0,0,0,0]
[null,58,0,0,{"$f":"IF(E1104=0,0,E1104)","v":0},0,0,0,0,0,0,0,0,0,0,{"$f":"IF(P1104=4,1,IF(P1104=3,2,IF(P1104=2,3,IF(P1104=1,4,0))))","v":0},0,0,0,0,0,0,0,0]
[null,59,0,0,{"$f":"IF(E1105=0,0,E1105)","v":0},0,0,0,0,0,0,0,0,0,0,{"$f":"IF(P1105=4,1,IF(P1105=3,2,IF(P1105=2,3,IF(P1105=1,4,0))))","v":0},0,0,0,0,0,0,0,0]
[null,60,0,0,{"$f":"IF(E1106=0,0,E1106)","v":0},0,0,0,0,0,0,0,0,0,0,{"$f":"IF(P1106=4,1,IF(P1106=3,2,IF(P1106=2,3,IF(P1106=1,4,0))))","v":0},0,0,0,0,0,0,0,0]
[null,"④ の数",null,null,{"$f":"COUNTIF(E$6:E$545,4)","v":0},0,0,0,0,0,0,0,0,0,0,0,0,0,0,0,0,0,0,0]
[null,"③ の数",null,null,{"$f":"COUNTIF(E$6:E$545,3)","v":0},0,0,0,0,0,0,0,0,0,0,0,0,0,0,0,0,0,0,0]
[null,"② の数",null,null,{"$f":"COUNTIF(E$6:E$545,2)","v":0},0,0,0,0,0,0,0,0,0,0,0,0,0,0,0,0,0,0,0]
[null,"① の数",null,null,{"$f":"COUNTIF(E$6:E$545,1)","v":0},0,0,0,0,0,0,0,0,0,0,0,0,0,0,0,0,0,0,0]
[null,"合計",null,null,{"$f":"SUM(E546:E549)","v":0},{"$f":"SUM(F546:F549)","v":0},0,0,{"$f":"SUM(I546:I549)","v":0},0,0,0,0,0,0,0,0,0,0,0,0,0,0,0]
[null,"男子平均",null,{"$f":"COUNTIF($D$486:$D$545,1)","v":0},null,null,null,null,"平均",{"$f":"(J546*4+J547*3+J548*2+J549*1)/J550","v":{"$error":"#DIV/0!"}},{"$f":"(K546*4+K547*3+K548*2+K549*1)/K550","v":{"$error":"#DIV/0!"}},{"$error":"#DIV/0!"},{"$error":"#DIV/0!"},{"$error":"#DIV/0!"},{"$error":"#DIV/0!"},{"$error":"#DIV/0!"},{"$error":"#DIV/0!"},{"$error":"#DIV/0!"},{"$error":"#DIV/0!"},{"$error":"#DIV/0!"},{"$error":"#DIV/0!"},{"$error":"#DIV/0!"},{"$error":"#DIV/0!"},{"$f":"(X546*4+X547*3+X548*2+X549*1)/X550","v":{"$error":"#DIV/0!"}}]
[null,"女子平均",null,{"$f":"COUNTIF($D$486:$D$545,2)","v":0}]
[null,"全体平均",null,{"$f":"SUM(D551:D552)","v":0}]
[null,null,null,"↑"]
[null,null,null,"ここだけ人数"]
[]
[]
[]
[]
[]
[]
[null,"１回目　集計表",null,null,"各クラスのデーターをコピーして貼り付けてください。"]
[null,1,2,3,30,31,32,33,34,35,36,37,38,39,40,41,42,43,44,45,46,47,48,49]
[null,"番号","氏名",null,1,2,3,4,5,6,7,8,9,10,11,12,13,14,15,16,17,18,19,20]
[null,null,null,"性別","ＳＮＳの１週間当たりの利用日数","平日にＳＮＳを利用する時間","ＳＮＳを使い始めてからの経験年月","ＳＮＳでメッセージのやり取りをするグループの数","普段、利用しているＳＮＳのメンバー","個人情報は出さないようにしている。","相手が不愉快な気持ちになるような内容は書かないようにしている。","メッセージを送る前に問題がないか確認をするようにしている。","長時間にならないようにメッセージのやり取りをしている。","メッセージのやり取りで嫌な気持ちになったときは、直接、会話で気持ちを伝えるようにしている。","友達とのやり取りで困ったときは親や先生に相談するようにしている。","友達とメッセージのやり取りをすることで友達の気持ちを確かめることができる。","友達とメッセージのやり取りをすることで、友達とのつながりをもてる。","友達とメッセージのやり取りをすることで、寂しさをすぐにまぎらわすことができる。","メッセージがきたらすぐに返事をする。","友達から送られてくるメッセージをチェックする。","メッセージのやり取りをなかなか終わらせられない。","自分が送信したメッセージに対する反応がない。","メッセージの送信後，「あの伝え方でよかったのだろうか」と悩む。","知らないところで自分のことについてメッセージのやり取りをしているのではないかと心配になる。"]
[]
["1組",1]
[null,2]
[null,3]
[null,4]
[null,5]
[null,6]
[null,7]
[null,8]
[null,9]
[null,10]
[null,11]
[null,12]
[null,13]
[null,14]
[null,15]
[null,16]
[null,17]
[null,18]
[null,19]
[null,20]
[null,21]
[null,22]
[null,23]
[null,24]
[null,25]
[null,26]
[null,27]
[null,28]
[null,29]
[null,30]
[null,31]
[null,32]
[null,33]
[null,34]
[null,35]
[null,36]
[null,37]
[null,38]
[null,39]
[null,40]
[null,41]
[null,42]
[null,43]
[null,44]
[null,45]
[null,46]
[null,47]
[null,48]
[null,49]
[null,50]
[null,51]
[null,52]
[null,53]
[null,54]
[null,55]
[null,56]
[null,57]
[null,58]
[null,59]
[null,60]
["２組",1]
[null,2]
[null,3]
[null,4]
[null,5]
[null,6]
[null,7]
[null,8]
[null,9]
[null,10]
[null,11]
[null,12]
[null,13]
[null,14]
[null,15]
[null,16]
[null,17]
[null,18]
[null,19]
[null,20]
[null,21]
[null,22]
[null,23]
[null,24]
[null,25]
[null,26]
[null,27]
[null,28]
[null,29]
[null,30]
[null,31]
[null,32]
[null,33]
[null,34]
[null,35]
[null,36]
[null,37]
[null,38]
[null,39]
[null,40]
[null,41]
[null,42]
[null,43]
[null,44]
[null,45]
[null,46]
[null,47]
[null,48]
[null,49]
[null,50]
[null,51]
[null,52]
[null,53]
[null,54]
[null,55]
[null,56]
[null,57]
[null,58]
[null,59]
[null,60]
["３組",1]
[null,2]
[null,3]
[null,4]
[null,5]
[null,6]
[null,7]
[null,8]
[null,9]
[null,10]
[null,11]
[null,12]
[null,13]
[null,14]
[null,15]
[null,16]
[null,17]
[null,18]
[null,19]
[null,20]
[null,21]
[null,22]
[null,23]
[null,24]
[null,25]
[null,26]
[null,27]
[null,28]
[null,29]
[null,30]
[null,31]
[null,32]
[null,33]
[null,34]
[null,35]
[null,36]
[null,37]
[null,38]
[null,39]
[null,40]
[null,41]
[null,42]
[null,43]
[null,44]
[null,45]
[null,46]
[null,47]
[null,48]
[null,49]
[null,50]
[null,51]
[null,52]
[null,53]
[null,54]
[null,55]
[null,56]
[null,57]
[null,58]
[null,59]
[null,60]
["４組",1]
[null,2]
[null,3]
[null,4]
[null,5]
[null,6]
[null,7]
[null,8]
[null,9]
[null,10]
[null,11]
[null,12]
[null,13]
[null,14]
[null,15]
[null,16]
[null,17]
[null,18]
[null,19]
[null,20]
[null,21]
[null,22]
[null,23]
[null,24]
[null,25]
[null,26]
[null,27]
[null,28]
[null,29]
[null,30]
[null,31]
[null,32]
[null,33]
[null,34]
[null,35]
[null,36]
[null,37]
[null,38]
[null,39]
[null,40]
[null,41]
[null,42]
[null,43]
[null,44]
[null,45]
[null,46]
[null,47]
[null,48]
[null,49]
[null,50]
[null,51]
[null,52]
[null,53]
[null,54]
[null,55]
[null,56]
[null,57]
[null,58]
[null,59]
[null,60]
["５組",1]
[null,2]
[null,3]
[null,4]
[null,5]
[null,6]
[null,7]
[null,8]
[null,9]
[null,10]
[null,11]
[null,12]
[null,13]
[null,14]
[null,15]
[null,16]
[null,17]
[null,18]
[null,19]
[null,20]
[null,21]
[null,22]
[null,23]
[null,24]
[null,25]
[null,26]
[null,27]
[null,28]
[null,29]
[null,30]
[null,31]
[null,32]
[null,33]
[null,34]
[null,35]
[null,36]
[null,37]
[null,38]
[null,39]
[null,40]
[null,41]
[null,42]
[null,43]
[null,44]
[null,45]
[null,46]
[null,47]
[null,48]
[null,49]
[null,50]
[null,51]
[null,52]
[null,53]
[null,54]
[null,55]
[null,56]
[null,57]
[null,58]
[null,59]
[null,60]
["６組",1]
[null,2]
[null,3]
[null,4]
[null,5]
[null,6]
[null,7]
[null,8]
[null,9]
[null,10]
[null,11]
[null,12]
[null,13]
[null,14]
[null,15]
[null,16]
[null,17]
[null,18]
[null,19]
[null,20]
[null,21]
[null,22]
[null,23]
[null,24]
[null,25]
[null,26]
[null,27]
[null,28]
[null,29]
[null,30]
[null,31]
[null,32]
[null,33]
[null,34]
[null,35]
[null,36]
[null,37]
[null,38]
[null,39]
[null,40]
[null,41]
[null,42]
[null,43]
[null,44]
[null,45]
[null,46]
[null,47]
[null,48]
[null,49]
[null,50]
[null,51]
[null,52]
[null,53]
[null,54]
[null,55]
[null,56]
[null,57]
[null,58]
[null,59]
[null,60]
["７組",1]
[null,2]
[null,3]
[null,4]
[null,5]
[null,6]
[null,7]
[null,8]
[null,9]
[null,10]
[null,11]
[null,12]
[null,13]
[null,14]
[null,15]
[null,16]
[null,17]
[null,18]
[null,19]
[null,20]
[null,21]
[null,22]
[null,23]
[null,24]
[null,25]
[null,26]
[null,27]
[null,28]
[null,29]
[null,30]
[null,31]
[null,32]
[null,33]
[null,34]
[null,35]
[null,36]
[null,37]
[null,38]
[null,39]
[null,40]
[null,41]
[null,42]
[null,43]
[null,44]
[null,45]
[null,46]
[null,47]
[null,48]
[null,49]
[null,50]
[null,51]
[null,52]
[null,53]
[null,54]
[null,55]
[null,56]
[null,57]
[null,58]
[null,59]
[null,60]
["８組",1]
[null,2]
[null,3]
[null,4]
[null,5]
[null,6]
[null,7]
[null,8]
[null,9]
[null,10]
[null,11]
[null,12]
[null,13]
[null,14]
[null,15]
[null,16]
[null,17]
[null,18]
[null,19]
[null,20]
[null,21]
[null,22]
[null,23]
[null,24]
[null,25]
[null,26]
[null,27]
[null,28]
[null,29]
[null,30]
[null,31]
[null,32]
[null,33]
[null,34]
[null,35]
[null,36]
[null,37]
[null,38]
[null,39]
[null,40]
[null,41]
[null,42]
[null,43]
[null,44]
[null,45]
[null,46]
[null,47]
[null,48]
[null,49]
[null,50]
[null,51]
[null,52]
[null,53]
[null,54]
[null,55]
[null,56]
[null,57]
[null,58]
[null,59]
[null,60]
["９組",1]
[null,2]
[null,3]
[null,4]
[null,5]
[null,6]
[null,7]
[null,8]
[null,9]
[null,10]
[null,11]
[null,12]
[null,13]
[null,14]
[null,15]
[null,16]
[null,17]
[null,18]
[null,19]
[null,20]
[null,21]
[null,22]
[null,23]
[null,24]
[null,25]
[null,26]
[null,27]
[null,28]
[null,29]
[null,30]
[null,31]
[null,32]
[null,33]
[null,34]
[null,35]
[null,36]
[null,37]
[null,38]
[null,39]
[null,40]
[null,41]
[null,42]
[null,43]
[null,44]
[null,45]
[null,46]
[null,47]
[null,48]
[null,49]
[null,50]
[null,51]
[null,52]
[null,53]
[null,54]
[null,55]
[null,56]
[null,57]
[null,58]
[null,59]
[null,60]

{"sheet":"2回目　集計表","index":2,"n_rows":1106,"n_cols":24,"rows_kept":1106,"cut":false,"hidden":false,"merged":[[65,0,124,0],[3,14,4,14],[3,15,4,15],[3,16,4,16],[3,17,4,17],[3,8,4,8],[3,9,4,9],[3,10,4,10],[3,11,4,11],[3,12,4,12],[3,13,4,13],[2,1,4,1],[2,2,4,2],[3,4,4,4],[3,5,4,5],[3,6,4,6],[3,20,4,20],[3,21,4,21],[3,22,4,22],[3,23,4,23],[5,0,64,0],[3,18,4,18],[3,19,4,19],[3,7,4,7],[549,1,549,2],[125,0,184,0],[185,0,244,0],[245,0,304,0],[305,0,364,0],[365,0,424,0],[425,0,484,0],[485,0,544,0],[545,1,545,2],[546,1,546,2],[547,1,547,2],[548,1,548,2],[550,1,550,2],[551,1,551,2],[552,1,552,2],[561,1,561,3],[561,4,561,23],[564,17,565,17],[564,18,565,18],[564,7,565,7],[564,8,565,8],[564,9,565,9],[564,10,565,10],[564,11,565,11],[564,12,565,12],[566,0,625,0],[564,13,565,13],[564,14,565,14],[564,15,565,15],[564,16,565,16],[563,1,565,1],[563,2,565,2],[564,4,565,4],[564,5,565,5],[564,6,565,6],[564,19,565,19],[564,20,565,20],[564,21,565,21],[564,22,565,22],[564,23,565,23],[986,0,1045,0],[1046,0,1105,0],[626,0,685,0],[686,0,745,0],[746,0,805,0],[806,0,865,0],[866,0,925,0],[926,0,985,0]]}
[]
[null,1,2,3,4,5,6,7,8,9,10,11,12,13,14,15,16,17,18,19,20,21,22,23]
[null,"番号","氏名",4,1,2,3,4,5,6,7,8,9,10,11,12,13,14,15,16,17,18,19,20]
[null,null,null,"性別\n\n男１\n女２","ＳＮＳの１週間当たりの利用日数","平日にＳＮＳを利用する時間","ＳＮＳを使い始めてからの経験年月","ＳＮＳでメッセージのやり取りをする友達の人数","ＳＮＳでメッセージのやり取りをするグループの数","個人情報は出さないようにしている。","相手が不愉快な気持ちになるような内容は書かないようにしている。","メッセージを送る前に問題がないか確認をするようにしている。","長時間にならないようにメッセージのやり取りをしている。","メッセージのやり取りで嫌な気持ちになったときは、直接、会話で気持ちを伝えるようにしている。","友達とのやり取りで困ったときは親や先生に相談するようにしている。","友達とメッセージのやり取りをすることで友達の気持ちを確かめることができる。","友達とメッセージのやり取りをすることで、友達とのつながりをもてる。","友達とメッセージのやり取りをすることで、寂しさをすぐにまぎらわすことができる。","メッセージがきたらすぐに返事をする。","友達から送られてくるメッセージをチェックする。","メッセージのやり取りをなかなか終わらせられない。","自分が送信したメッセージに対する反応がない。","メッセージの送信後，「あの伝え方でよかったのだろうか」と悩む。","知らないところで自分のことについてメッセージのやり取りをしているのではないかと心配になる。"]
[]
["1組",1,{"$f":"C567","v":0},{"$f":"IF(D567=\"男\",1,IF(D567=\"女\",2,0))","v":0},{"$f":"IF(E567=0,0,E567)","v":0},0,0,0,0,0,0,0,0,0,0,{"$f":"IF(P567=4,1,IF(P567=3,2,IF(P567=2,3,IF(P567=1,4,0))))","v":0},0,0,0,0,0,0,0,0]
[null,2,{"$f":"C568","v":0},{"$f":"IF(D568=\"男\",1,IF(D568=\"女\",2,0))","v":0},0,0,0,0,0,0,0,0,0,0,0,0,0,0,0,0,0,0,0,0]
[null,3,0,0,0,0,0,0,0,0,0,0,0,0,0,0,0,0,0,0,0,0,0,0]
[null,4,0,0,0,0,0,0,0,0,0,0,0,0,0,0,0,0,0,0,0,0,0,0]
[null,5,0,0,0,0,0,0,0,0,0,0,0,0,0,0,0,0,0,0,0,0,0,0]
[null,6,0,0,0,0,0,0,0,0,0,0,0,0,0,0,0,0,0,0,0,0,0,0]
[null,7,0,0,0,0,0,0,0,0,0,0,0,0,0,0,0,0,0,0,0,0,0,0]
[null,8,0,0,0,0,0,0,0,0,0,0,0,0,0,0,0,0,0,0,0,0,0,0]
[null,9,0,0,0,0,0,0,0,0,0,0,0,0,0,0,0,0,0,0,0,0,0,0]
[null,10,0,0,0,0,0,0,0,0,0,0,0,0,0,0,0,0,0,0,0,0,0,0]
[null,11,0,0,0,0,0,0,0,0,0,0,0,0,0,0,0,0,0,0,0,0,0,0]
[null,12,0,0,0,0,0,0,0,0,0,0,0,0,0,0,0,0,0,0,0,0,0,0]
[null,13,0,0,0,0,0,0,0,0,0,0,0,0,0,0,0,0,0,0,0,0,0,0]
[null,14,0,0,0,0,0,0,0,0,0,0,0,0,0,0,0,0,0,0,0,0,0,0]
[null,15,0,0,0,0,0,0,0,0,0,0,0,0,0,0,0,0,0,0,0,0,0,0]
[null,16,0,0,0,0,0,0,0,0,0,0,0,0,0,0,0,0,0,0,0,0,0,0]
[null,17,0,0,{"$f":"IF(E583=0,0,E583)","v":0},0,0,0,0,0,0,0,0,0,0,{"$f":"IF(P583=4,1,IF(P583=3,2,IF(P583=2,3,IF(P583=1,4,0))))","v":0},0,0,0,0,0,0,0,0]
[null,18,0,0,0,0,0,0,0,0,0,0,0,0,0,0,0,0,0,0,0,0,0,0]
[null,19,0,0,0,0,0,0,0,0,0,0,0,0,0,0,0,0,0,0,0,0,0,0]
[null,20,0,0,0,0,0,0,0,0,0,0,0,0,0,0,0,0,0,0,0,0,0,0]
[null,21,0,0,0,0,0,0,0,0,0,0,0,0,0,0,0,0,0,0,0,0,0,0]
[null,22,0,0,0,0,0,0,0,0,0,0,0,0,0,0,0,0,0,0,0,0,0,0]
[null,23,0,0,0,0,0,0,0,0,0,0,0,0,0,0,0,0,0,0,0,0,0,0]
[null,24,0,0,0,0,0,0,0,0,0,0,0,0,0,0,0,0,0,0,0,0,0,0]
[null,25,0,0,0,0,0,0,0,0,0,0,0,0,0,0,0,0,0,0,0,0,0,0]
[null,26,0,0,0,0,0,0,0,0,0,0,0,0,0,0,0,0,0,0,0,0,0,0]
[null,27,0,0,0,0,0,0,0,0,0,0,0,0,0,0,0,0,0,0,0,0,0,0]
[null,28,0,0,0,0,0,0,0,0,0,0,0,0,0,0,0,0,0,0,0,0,0,0]
[null,29,0,0,0,0,0,0,0,0,0,0,0,0,0,0,0,0,0,0,0,0,0,0]
[null,30,0,0,0,0,0,0,0,0,0,0,0,0,0,0,0,0,0,0,0,0,0,0]
[null,31,0,0,0,0,0,0,0,0,0,0,0,0,0,0,0,0,0,0,0,0,0,0]
[null,32,0,0,0,0,0,0,0,0,0,0,0,0,0,0,0,0,0,0,0,0,0,0]
[null,33,0,0,{"$f":"IF(E599=0,0,E599)","v":0},0,0,0,0,0,0,0,0,0,0,{"$f":"IF(P599=4,1,IF(P599=3,2,IF(P599=2,3,IF(P599=1,4,0))))","v":0},0,0,0,0,0,0,0,0]
[null,34,0,0,0,0,0,0,0,0,0,0,0,0,0,0,0,0,0,0,0,0,0,0]
[null,35,0,0,0,0,0,0,0,0,0,0,0,0,0,0,0,0,0,0,0,0,0,0]
[null,36,0,0,0,0,0,0,0,0,0,0,0,0,0,0,0,0,0,0,0,0,0,0]
[null,37,0,0,0,0,0,0,0,0,0,0,0,0,0,0,0,0,0,0,0,0,0,0]
[null,38,0,0,0,0,0,0,0,0,0,0,0,0,0,0,0,0,0,0,0,0,0,0]
[null,39,0,0,0,0,0,0,0,0,0,0,0,0,0,0,0,0,0,0,0,0,0,0]
[null,40,0,0,0,0,0,0,0,0,0,0,0,0,0,0,0,0,0,0,0,0,0,0]
[null,41,0,0,0,0,0,0,0,0,0,0,0,0,0,0,0,0,0,0,0,0,0,0]
[null,42,0,0,0,0,0,0,0,0,0,0,0,0,0,0,0,0,0,0,0,0,0,0]
[null,43,0,0,0,0,0,0,0,0,0,0,0,0,0,0,0,0,0,0,0,0,0,0]
[null,44,0,0,0,0,0,0,0,0,0,0,0,0,0,0,0,0,0,0,0,0,0,0]
[null,45,0,0,0,0,0,0,0,0,0,0,0,0,0,0,0,0,0,0,0,0,0,0]
[null,46,0,0,0,0,0,0,0,0,0,0,0,0,0,0,0,0,0,0,0,0,0,0]
[null,47,0,0,0,0,0,0,0,0,0,0,0,0,0,0,0,0,0,0,0,0,0,0]
[null,48,0,0,0,0,0,0,0,0,0,0,0,0,0,0,0,0,0,0,0,0,0,0]
[null,49,0,0,{"$f":"IF(E615=0,0,E615)","v":0},0,0,0,0,0,0,0,0,0,0,{"$f":"IF(P615=4,1,IF(P615=3,2,IF(P615=2,3,IF(P615=1,4,0))))","v":0},0,0,0,0,0,0,0,0]
[null,50,0,0,0,0,0,0,0,0,0,0,0,0,0,0,0,0,0,0,0,0,0,0]
[null,51,0,0,0,0,0,0,0,0,0,0,0,0,0,0,0,0,0,0,0,0,0,0]
[null,52,0,0,0,0,0,0,0,0,0,0,0,0,0,0,0,0,0,0,0,0,0,0]
[null,53,0,0,0,0,0,0,0,0,0,0,0,0,0,0,0,0,0,0,0,0,0,0]
[null,54,0,0,0,0,0,0,0,0,0,0,0,0,0,0,0,0,0,0,0,0,0,0]
[null,55,0,0,0,0,0,0,0,0,0,0,0,0,0,0,0,0,0,0,0,0,0,0]
[null,56,0,0,0,0,0,0,0,0,0,0,0,0,0,0,0,0,0,0,0,0,0,0]
[null,57,0,0,0,0,0,0,0,0,0,0,0,0,0,0,0,0,0,0,0,0,0,0]
[null,58,0,0,0,0,0,0,0,0,0,0,0,0,0,0,0,0,0,0,0,0,0,0]
[null,59,0,0,0,0,0,0,0,0,0,0,0,0,0,0,0,0,0,0,0,0,0,0]
[null,60,0,0,0,0,0,0,0,0,0,0,0,0,0,0,0,0,0,0,0,0,0,0]
["２組",1,0,0,0,0,0,0,0,0,0,0,0,0,0,0,0,0,0,0,0,0,0,0]
[null,2,0,0,0,0,0,0,0,0,0,0,0,0,0,0,0,0,0,0,0,0,0,0]
[null,3,0,0,0,0,0,0,0,0,0,0,0,0,0,0,0,0,0,0,0,0,0,0]
[null,4,0,0,0,0,0,0,0,0,0,0,0,0,0,0,0,0,0,0,0,0,0,0]
[null,5,0,0,{"$f":"IF(E631=0,0,E631)","v":0},0,0,0,0,0,0,0,0,0,0,{"$f":"IF(P631=4,1,IF(P631=3,2,IF(P631=2,3,IF(P631=1,4,0))))","v":0},0,0,0,0,0,0,0,0]
[null,6,{"$f":"C632","v":0},{"$f":"IF(D632=\"男\",1,IF(D632=\"女\",2,0))","v":0},0,0,0,0,0,0,0,0,0,0,0,0,0,0,0,0,0,0,0,0]
[null,7,0,0,0,0,0,0,0,0,0,0,0,0,0,0,0,0,0,0,0,0,0,0]
[null,8,0,0,0,0,0,0,0,0,0,0,0,0,0,0,0,0,0,0,0,0,0,0]
[null,9,0,0,0,0,0,0,0,0,0,0,0,0,0,0,0,0,0,0,0,0,0,0]
[null,10,0,0,0,0,0,0,0,0,0,0,0,0,0,0,0,0,0,0,0,0,0,0]
[null,11,0,0,0,0,0,0,0,0,0,0,0,0,0,0,0,0,0,0,0,0,0,0]
[null,12,0,0,0,0,0,0,0,0,0,0,0,0,0,0,0,0,0,0,0,0,0,0]
[null,13,0,0,0,0,0,0,0,0,0,0,0,0,0,0,0,0,0,0,0,0,0,0]
[null,14,0,0,0,0,0,0,0,0,0,0,0,0,0,0,0,0,0,0,0,0,0,0]
[null,15,0,0,0,0,0,0,0,0,0,0,0,0,0,0,0,0,0,0,0,0,0,0]
[null,16,0,0,0,0,0,0,0,0,0,0,0,0,0,0,0,0,0,0,0,0,0,0]
[null,17,0,0,0,0,0,0,0,0,0,0,0,0,0,0,0,0,0,0,0,0,0,0]
[null,18,0,0,0,0,0,0,0,0,0,0,0,0,0,0,0,0,0,0,0,0,0,0]
[null,19,0,0,0,0,0,0,0,0,0,0,0,0,0,0,0,0,0,0,0,0,0,0]
[null,20,0,0,0,0,0,0,0,0,0,0,0,0,0,0,0,0,0,0,0,0,0,0]
[null,21,0,0,{"$f":"IF(E647=0,0,E647)","v":0},0,0,0,0,0,0,0,0,0,0,{"$f":"IF(P647=4,1,IF(P647=3,2,IF(P647=2,3,IF(P647=1,4,0))))","v":0},0,0,0,0,0,0,0,0]
[null,22,0,0,0,0,0,0,0,0,0,0,0,0,0,0,0,0,0,0,0,0,0,0]
[null,23,0,0,0,0,0,0,0,0,0,0,0,0,0,0,0,0,0,0,0,0,0,0]
[null,24,0,0,0,0,0,0,0,0,0,0,0,0,0,0,0,0,0,0,0,0,0,0]
[null,25,0,0,0,0,0,0,0,0,0,0,0,0,0,0,0,0,0,0,0,0,0,0]
[null,26,0,0,0,0,0,0,0,0,0,0,0,0,0,0,0,0,0,0,0,0,0,0]
[null,27,0,0,0,0,0,0,0,0,0,0,0,0,0,0,0,0,0,0,0,0,0,0]
[null,28,0,0,0,0,0,0,0,0,0,0,0,0,0,0,0,0,0,0,0,0,0,0]
[null,29,0,0,0,0,0,0,0,0,0,0,0,0,0,0,0,0,0,0,0,0,0,0]
[null,30,0,0,0,0,0,0,0,0,0,0,0,0,0,0,0,0,0,0,0,0,0,0]
[null,31,0,0,0,0,0,0,0,0,0,0,0,0,0,0,0,0,0,0,0,0,0,0]
[null,32,0,0,0,0,0,0,0,0,0,0,0,0,0,0,0,0,0,0,0,0,0,0]
[null,33,0,0,0,0,0,0,0,0,0,0,0,0,0,0,0,0,0,0,0,0,0,0]
[null,34,0,0,0,0,0,0,0,0,0,0,0,0,0,0,0,0,0,0,0,0,0,0]
[null,35,0,0,0,0,0,0,0,0,0,0,0,0,0,0,0,0,0,0,0,0,0,0]
[null,36,0,0,0,0,0,0,0,0,0,0,0,0,0,0,0,0,0,0,0,0,0,0]
[null,37,0,0,{"$f":"IF(E663=0,0,E663)","v":0},0,0,0,0,0,0,0,0,0,0,{"$f":"IF(P663=4,1,IF(P663=3,2,IF(P663=2,3,IF(P663=1,4,0))))","v":0},0,0,0,0,0,0,0,0]
[null,38,0,0,0,0,0,0,0,0,0,0,0,0,0,0,0,0,0,0,0,0,0,0]
[null,39,0,0,0,0,0,0,0,0,0,0,0,0,0,0,0,0,0,0,0,0,0,0]
[null,40,0,0,0,0,0,0,0,0,0,0,0,0,0,0,0,0,0,0,0,0,0,0]
[null,41,0,0,0,0,0,0,0,0,0,0,0,0,0,0,0,0,0,0,0,0,0,0]
[null,42,0,0,0,0,0,0,0,0,0,0,0,0,0,0,0,0,0,0,0,0,0,0]
[null,43,0,0,0,0,0,0,0,0,0,0,0,0,0,0,0,0,0,0,0,0,0,0]
[null,44,0,0,0,0,0,0,0,0,0,0,0,0,0,0,0,0,0,0,0,0,0,0]
[null,45,0,0,0,0,0,0,0,0,0,0,0,0,0,0,0,0,0,0,0,0,0,0]
[null,46,0,0,0,0,0,0,0,0,0,0,0,0,0,0,0,0,0,0,0,0,0,0]
[null,47,0,0,0,0,0,0,0,0,0,0,0,0,0,0,0,0,0,0,0,0,0,0]
[null,48,0,0,0,0,0,0,0,0,0,0,0,0,0,0,0,0,0,0,0,0,0,0]
[null,49,0,0,0,0,0,0,0,0,0,0,0,0,0,0,0,0,0,0,0,0,0,0]
[null,50,0,0,0,0,0,0,0,0,0,0,0,0,0,0,0,0,0,0,0,0,0,0]
[null,51,0,0,0,0,0,0,0,0,0,0,0,0,0,0,0,0,0,0,0,0,0,0]
[null,52,0,0,0,0,0,0,0,0,0,0,0,0,0,0,0,0,0,0,0,0,0,0]
[null,53,0,0,{"$f":"IF(E679=0,0,E679)","v":0},0,0,0,0,0,0,0,0,0,0,{"$f":"IF(P679=4,1,IF(P679=3,2,IF(P679=2,3,IF(P679=1,4,0))))","v":0},0,0,0,0,0,0,0,0]
[null,54,0,0,0,0,0,0,0,0,0,0,0,0,0,0,0,0,0,0,0,0,0,0]
[null,55,0,0,0,0,0,0,0,0,0,0,0,0,0,0,0,0,0,0,0,0,0,0]
[null,56,0,0,0,0,0,0,0,0,0,0,0,0,0,0,0,0,0,0,0,0,0,0]
[null,57,0,0,0,0,0,0,0,0,0,0,0,0,0,0,0,0,0,0,0,0,0,0]
[null,58,0,0,0,0,0,0,0,0,0,0,0,0,0,0,0,0,0,0,0,0,0,0]
[null,59,0,0,0,0,0,0,0,0,0,0,0,0,0,0,0,0,0,0,0,0,0,0]
[null,60,0,0,0,0,0,0,0,0,0,0,0,0,0,0,0,0,0,0,0,0,0,0]
["３組",1,0,0,0,0,0,0,0,0,0,0,0,0,0,0,0,0,0,0,0,0,0,0]
[null,2,0,0,0,0,0,0,0,0,0,0,0,0,0,0,0,0,0,0,0,0,0,0]
[null,3,0,0,0,0,0,0,0,0,0,0,0,0,0,0,0,0,0,0,0,0,0,0]
[null,4,0,0,0,0,0,0,0,0,0,0,0,0,0,0,0,0,0,0,0,0,0,0]
[null,5,0,0,0,0,0,0,0,0,0,0,0,0,0,0,0,0,0,0,0,0,0,0]
[null,6,0,0,0,0,0,0,0,0,0,0,0,0,0,0,0,0,0,0,0,0,0,0]
[null,7,0,0,0,0,0,0,0,0,0,0,0,0,0,0,0,0,0,0,0,0,0,0]
[null,8,0,0,0,0,0,0,0,0,0,0,0,0,0,0,0,0,0,0,0,0,0,0]
[null,9,0,0,{"$f":"IF(E695=0,0,E695)","v":0},0,0,0,0,0,0,0,0,0,0,{"$f":"IF(P695=4,1,IF(P695=3,2,IF(P695=2,3,IF(P695=1,4,0))))","v":0},0,0,0,0,0,0,0,0]
[null,10,{"$f":"C696","v":0},{"$f":"IF(D696=\"男\",1,IF(D696=\"女\",2,0))","v":0},0,0,0,0,0,0,0,0,0,0,0,0,0,0,0,0,0,0,0,0]
[null,11,0,0,0,0,0,0,0,0,0,0,0,0,0,0,0,0,0,0,0,0,0,0]
[null,12,0,0,0,0,0,0,0,0,0,0,0,0,0,0,0,0,0,0,0,0,0,0]
[null,13,0,0,0,0,0,0,0,0,0,0,0,0,0,0,0,0,0,0,0,0,0,0]
[null,14,0,0,0,0,0,0,0,0,0,0,0,0,0,0,0,0,0,0,0,0,0,0]
[null,15,0,0,0,0,0,0,0,0,0,0,0,0,0,0,0,0,0,0,0,0,0,0]
[null,16,0,0,0,0,0,0,0,0,0,0,0,0,0,0,0,0,0,0,0,0,0,0]
[null,17,0,0,0,0,0,0,0,0,0,0,0,0,0,0,0,0,0,0,0,0,0,0]
[null,18,0,0,0,0,0,0,0,0,0,0,0,0,0,0,0,0,0,0,0,0,0,0]
[null,19,0,0,0,0,0,0,0,0,0,0,0,0,0,0,0,0,0,0,0,0,0,0]
[null,20,0,0,0,0,0,0,0,0,0,0,0,0,0,0,0,0,0,0,0,0,0,0]
[null,21,0,0,0,0,0,0,0,0,0,0,0,0,0,0,0,0,0,0,0,0,0,0]
[null,22,0,0,0,0,0,0,0,0,0,0,0,0,0,0,0,0,0,0,0,0,0,0]
[null,23,0,0,0,0,0,0,0,0,0,0,0,0,0,0,0,0,0,0,0,0,0,0]
[null,24,0,0,0,0,0,0,0,0,0,0,0,0,0,0,0,0,0,0,0,0,0,0]
[null,25,0,0,{"$f":"IF(E711=0,0,E711)","v":0},0,0,0,0,0,0,0,0,0,0,{"$f":"IF(P711=4,1,IF(P711=3,2,IF(P711=2,3,IF(P711=1,4,0))))","v":0},0,0,0,0,0,0,0,0]
[null,26,0,0,0,0,0,0,0,0,0,0,0,0,0,0,0,0,0,0,0,0,0,0]
[null,27,0,0,0,0,0,0,0,0,0,0,0,0,0,0,0,0,0,0,0,0,0,0]
[null,28,0,0,0,0,0,0,0,0,0,0,0,0,0,0,0,0,0,0,0,0,0,0]
[null,29,0,0,0,0,0,0,0,0,0,0,0,0,0,0,0,0,0,0,0,0,0,0]
[null,30,0,0,0,0,0,0,0,0,0,0,0,0,0,0,0,0,0,0,0,0,0,0]
[null,31,0,0,0,0,0,0,0,0,0,0,0,0,0,0,0,0,0,0,0,0,0,0]
[null,32,0,0,0,0,0,0,0,0,0,0,0,0,0,0,0,0,0,0,0,0,0,0]
[null,33,0,0,0,0,0,0,0,0,0,0,0,0,0,0,0,0,0,0,0,0,0,0]
[null,34,0,0,0,0,0,0,0,0,0,0,0,0,0,0,0,0,0,0,0,0,0,0]
[null,35,0,0,0,0,0,0,0,0,0,0,0,0,0,0,0,0,0,0,0,0,0,0]
[null,36,0,0,0,0,0,0,0,0,0,0,0,0,0,0,0,0,0,0,0,0,0,0]
[null,37,0,0,0,0,0,0,0,0,0,0,0,0,0,0,0,0,0,0,0,0,0,0]
[null,38,0,0,0,0,0,0,0,0,0,0,0,0,0,0,0,0,0,0,0,0,0,0]
[null,39,0,0,0,0,0,0,0,0,0,0,0,0,0,0,0,0,0,0,0,0,0,0]
[null,40,0,0,0,0,0,0,0,0,0,0,0,0,0,0,0,0,0,0,0,0,0,0]
[null,41,0,0,{"$f":"IF(E727=0,0,E727)","v":0},0,0,0,0,0,0,0,0,0,0,{"$f":"IF(P727=4,1,IF(P727=3,2,IF(P727=2,3,IF(P727=1,4,0))))","v":0},0,0,0,0,0,0,0,0]
[null,42,0,0,0,0,0,0,0,0,0,0,0,0,0,0,0,0,0,0,0,0,0,0]
[null,43,0,0,0,0,0,0,0,0,0,0,0,0,0,0,0,0,0,0,0,0,0,0]
[null,44,0,0,0,0,0,0,0,0,0,0,0,0,0,0,0,0,0,0,0,0,0,0]
[null,45,0,0,0,0,0,0,0,0,0,0,0,0,0,0,0,0,0,0,0,0,0,0]
[null,46,0,0,0,0,0,0,0,0,0,0,0,0,0,0,0,0,0,0,0,0,0,0]
[null,47,0,0,0,0,0,0,0,0,0,0,0,0,0,0,0,0,0,0,0,0,0,0]
[null,48,0,0,0,0,0,0,0,0,0,0,0,0,0,0,0,0,0,0,0,0,0,0]
[null,49,0,0,0,0,0,0,0,0,0,0,0,0,0,0,0,0,0,0,0,0,0,0]
[null,50,0,0,0,0,0,0,0,0,0,0,0,0,0,0,0,0,0,0,0,0,0,0]
[null,51,0,0,0,0,0,0,0,0,0,0,0,0,0,0,0,0,0,0,0,0,0,0]
[null,52,0,0,0,0,0,0,0,0,0,0,0,0,0,0,0,0,0,0,0,0,0,0]
[null,53,0,0,0,0,0,0,0,0,0,0,0,0,0,0,0,0,0,0,0,0,0,0]
[null,54,0,0,0,0,0,0,0,0,0,0,0,0,0,0,0,0,0,0,0,0,0,0]
[null,55,0,0,0,0,0,0,0,0,0,0,0,0,0,0,0,0,0,0,0,0,0,0]
[null,56,0,0,0,0,0,0,0,0,0,0,0,0,0,0,0,0,0,0,0,0,0,0]
[null,57,0,0,{"$f":"IF(E743=0,0,E743)","v":0},0,0,0,0,0,0,0,0,0,0,{"$f":"IF(P743=4,1,IF(P743=3,2,IF(P743=2,3,IF(P743=1,4,0))))","v":0},0,0,0,0,0,0,0,0]
[null,58,0,0,0,0,0,0,0,0,0,0,0,0,0,0,0,0,0,0,0,0,0,0]
[null,59,0,0,0,0,0,0,0,0,0,0,0,0,0,0,0,0,0,0,0,0,0,0]
[null,60,0,0,0,0,0,0,0,0,0,0,0,0,0,0,0,0,0,0,0,0,0,0]
["４組",1,0,0,0,0,0,0,0,0,0,0,0,0,0,0,0,0,0,0,0,0,0,0]
[null,2,0,0,0,0,0,0,0,0,0,0,0,0,0,0,0,0,0,0,0,0,0,0]
[null,3,0,0,0,0,0,0,0,0,0,0,0,0,0,0,0,0,0,0,0,0,0,0]
[null,4,0,0,0,0,0,0,0,0,0,0,0,0,0,0,0,0,0,0,0,0,0,0]
[null,5,0,0,0,0,0,0,0,0,0,0,0,0,0,0,0,0,0,0,0,0,0,0]
[null,6,0,0,0,0,0,0,0,0,0,0,0,0,0,0,0,0,0,0,0,0,0,0]
[null,7,0,0,0,0,0,0,0,0,0,0,0,0,0,0,0,0,0,0,0,0,0,0]
[null,8,0,0,0,0,0,0,0,0,0,0,0,0,0,0,0,0,0,0,0,0,0,0]
[null,9,0,0,0,0,0,0,0,0,0,0,0,0,0,0,0,0,0,0,0,0,0,0]
[null,10,0,0,0,0,0,0,0,0,0,0,0,0,0,0,0,0,0,0,0,0,0,0]
[null,11,0,0,0,0,0,0,0,0,0,0,0,0,0,0,0,0,0,0,0,0,0,0]
[null,12,0,0,0,0,0,0,0,0,0,0,0,0,0,0,0,0,0,0,0,0,0,0]
[null,13,0,0,{"$f":"IF(E759=0,0,E759)","v":0},0,0,0,0,0,0,0,0,0,0,{"$f":"IF(P759=4,1,IF(P759=3,2,IF(P759=2,3,IF(P759=1,4,0))))","v":0},0,0,0,0,0,0,0,0]
[null,14,{"$f":"C760","v":0},{"$f":"IF(D760=\"男\",1,IF(D760=\"女\",2,0))","v":0},0,0,0,0,0,0,0,0,0,0,0,0,0,0,0,0,0,0,0,0]
[null,15,0,0,0,0,0,0,0,0,0,0,0,0,0,0,0,0,0,0,0,0,0,0]
[null,16,0,0,0,0,0,0,0,0,0,0,0,0,0,0,0,0,0,0,0,0,0,0]
[null,17,0,0,0,0,0,0,0,0,0,0,0,0,0,0,0,0,0,0,0,0,0,0]
[null,18,0,0,0,0,0,0,0,0,0,0,0,0,0,0,0,0,0,0,0,0,0,0]
[null,19,0,0,0,0,0,0,0,0,0,0,0,0,0,0,0,0,0,0,0,0,0,0]
[null,20,0,0,0,0,0,0,0,0,0,0,0,0,0,0,0,0,0,0,0,0,0,0]
[null,21,0,0,0,0,0,0,0,0,0,0,0,0,0,0,0,0,0,0,0,0,0,0]
[null,22,0,0,0,0,0,0,0,0,0,0,0,0,0,0,0,0,0,0,0,0,0,0]
[null,23,0,0,0,0,0,0,0,0,0,0,0,0,0,0,0,0,0,0,0,0,0,0]
[null,24,0,0,0,0,0,0,0,0,0,0,0,0,0,0,0,0,0,0,0,0,0,0]
[null,25,0,0,0,0,0,0,0,0,0,0,0,0,0,0,0,0,0,0,0,0,0,0]
[null,26,0,0,0,0,0,0,0,0,0,0,0,0,0,0,0,0,0,0,0,0,0,0]
[null,27,0,0,0,0,0,0,0,0,0,0,0,0,0,0,0,0,0,0,0,0,0,0]
[null,28,0,0,0,0,0,0,0,0,0,0,0,0,0,0,0,0,0,0,0,0,0,0]
[null,29,0,0,{"$f":"IF(E775=0,0,E775)","v":0},0,0,0,0,0,0,0,0,0,0,{"$f":"IF(P775=4,1,IF(P775=3,2,IF(P775=2,3,IF(P775=1,4,0))))","v":0},0,0,0,0,0,0,0,0]
[null,30,0,0,0,0,0,0,0,0,0,0,0,0,0,0,0,0,0,0,0,0,0,0]
[null,31,0,0,0,0,0,0,0,0,0,0,0,0,0,0,0,0,0,0,0,0,0,0]
[null,32,0,0,0,0,0,0,0,0,0,0,0,0,0,0,0,0,0,0,0,0,0,0]
[null,33,0,0,0,0,0,0,0,0,0,0,0,0,0,0,0,0,0,0,0,0,0,0]
[null,34,0,0,0,0,0,0,0,0,0,0,0,0,0,0,0,0,0,0,0,0,0,0]
[null,35,0,0,0,0,0,0,0,0,0,0,0,0,0,0,0,0,0,0,0,0,0,0]
[null,36,0,0,0,0,0,0,0,0,0,0,0,0,0,0,0,0,0,0,0,0,0,0]
[null,37,0,0,0,0,0,0,0,0,0,0,0,0,0,0,0,0,0,0,0,0,0,0]
[null,38,0,0,0,0,0,0,0,0,0,0,0,0,0,0,0,0,0,0,0,0,0,0]
[null,39,0,0,0,0,0,0,0,0,0,0,0,0,0,0,0,0,0,0,0,0,0,0]
[null,40,0,0,0,0,0,0,0,0,0,0,0,0,0,0,0,0,0,0,0,0,0,0]
[null,41,0,0,0,0,0,0,0,0,0,0,0,0,0,0,0,0,0,0,0,0,0,0]
[null,42,0,0,0,0,0,0,0,0,0,0,0,0,0,0,0,0,0,0,0,0,0,0]
[null,43,0,0,0,0,0,0,0,0,0,0,0,0,0,0,0,0,0,0,0,0,0,0]
[null,44,0,0,0,0,0,0,0,0,0,0,0,0,0,0,0,0,0,0,0,0,0,0]
[null,45,0,0,{"$f":"IF(E791=0,0,E791)","v":0},0,0,0,0,0,0,0,0,0,0,{"$f":"IF(P791=4,1,IF(P791=3,2,IF(P791=2,3,IF(P791=1,4,0))))","v":0},0,0,0,0,0,0,0,0]
[null,46,0,0,0,0,0,0,0,0,0,0,0,0,0,0,0,0,0,0,0,0,0,0]
[null,47,0,0,0,0,0,0,0,0,0,0,0,0,0,0,0,0,0,0,0,0,0,0]
[null,48,0,0,0,0,0,0,0,0,0,0,0,0,0,0,0,0,0,0,0,0,0,0]
[null,49,0,0,0,0,0,0,0,0,0,0,0,0,0,0,0,0,0,0,0,0,0,0]
[null,50,0,0,0,0,0,0,0,0,0,0,0,0,0,0,0,0,0,0,0,0,0,0]
[null,51,0,0,0,0,0,0,0,0,0,0,0,0,0,0,0,0,0,0,0,0,0,0]
[null,52,0,0,0,0,0,0,0,0,0,0,0,0,0,0,0,0,0,0,0,0,0,0]
[null,53,0,0,0,0,0,0,0,0,0,0,0,0,0,0,0,0,0,0,0,0,0,0]
[null,54,0,0,0,0,0,0,0,0,0,0,0,0,0,0,0,0,0,0,0,0,0,0]
[null,55,0,0,0,0,0,0,0,0,0,0,0,0,0,0,0,0,0,0,0,0,0,0]
[null,56,0,0,0,0,0,0,0,0,0,0,0,0,0,0,0,0,0,0,0,0,0,0]
[null,57,0,0,0,0,0,0,0,0,0,0,0,0,0,0,0,0,0,0,0,0,0,0]
[null,58,0,0,0,0,0,0,0,0,0,0,0,0,0,0,0,0,0,0,0,0,0,0]
[null,59,0,0,0,0,0,0,0,0,0,0,0,0,0,0,0,0,0,0,0,0,0,0]
[null,60,0,0,0,0,0,0,0,0,0,0,0,0,0,0,0,0,0,0,0,0,0,0]
["５組",1,0,0,{"$f":"IF(E807=0,0,E807)","v":0},0,0,0,0,0,0,0,0,0,0,{"$f":"IF(P807=4,1,IF(P807=3,2,IF(P807=2,3,IF(P807=1,4,0))))","v":0},0,0,0,0,0,0,0,0]
[null,2,0,0,0,0,0,0,0,0,0,0,0,0,0,0,0,0,0,0,0,0,0,0]
[null,3,0,0,0,0,0,0,0,0,0,0,0,0,0,0,0,0,0,0,0,0,0,0]
[null,4,0,0,0,0,0,0,0,0,0,0,0,0,0,0,0,0,0,0,0,0,0,0]
[null,5,0,0,0,0,0,0,0,0,0,0,0,0,0,0,0,0,0,0,0,0,0,0]
[null,6,0,0,0,0,0,0,0,0,0,0,0,0,0,0,0,0,0,0,0,0,0,0]
[null,7,0,0,0,0,0,0,0,0,0,0,0,0,0,0,0,0,0,0,0,0,0,0]
[null,8,0,0,0,0,0,0,0,0,0,0,0,0,0,0,0,0,0,0,0,0,0,0]
[null,9,0,0,0,0,0,0,0,0,0,0,0,0,0,0,0,0,0,0,0,0,0,0]
[null,10,0,0,0,0,0,0,0,0,0,0,0,0,0,0,0,0,0,0,0,0,0,0]
[null,11,0,0,0,0,0,0,0,0,0,0,0,0,0,0,0,0,0,0,0,0,0,0]
[null,12,0,0,0,0,0,0,0,0,0,0,0,0,0,0,0,0,0,0,0,0,0,0]
[null,13,0,0,0,0,0,0,0,0,0,0,0,0,0,0,0,0,0,0,0,0,0,0]
[null,14,0,0,0,0,0,0,0,0,0,0,0,0,0,0,0,0,0,0,0,0,0,0]
[null,15,0,0,0,0,0,0,0,0,0,0,0,0,0,0,0,0,0,0,0,0,0,0]
[null,16,0,0,0,0,0,0,0,0,0,0,0,0,0,0,0,0,0,0,0,0,0,0]
[null,17,0,0,{"$f":"IF(E823=0,0,E823)","v":0},0,0,0,0,0,0,0,0,0,0,{"$f":"IF(P823=4,1,IF(P823=3,2,IF(P823=2,3,IF(P823=1,4,0))))","v":0},0,0,0,0,0,0,0,0]
[null,18,{"$f":"C824","v":0},{"$f":"IF(D824=\"男\",1,IF(D824=\"女\",2,0))","v":0},0,0,0,0,0,0,0,0,0,0,0,0,0,0,0,0,0,0,0,0]
[null,19,0,0,0,0,0,0,0,0,0,0,0,0,0,0,0,0,0,0,0,0,0,0]
[null,20,0,0,0,0,0,0,0,0,0,0,0,0,0,0,0,0,0,0,0,0,0,0]
[null,21,0,0,0,0,0,0,0,0,0,0,0,0,0,0,0,0,0,0,0,0,0,0]
[null,22,0,0,0,0,0,0,0,0,0,0,0,0,0,0,0,0,0,0,0,0,0,0]
[null,23,0,0,0,0,0,0,0,0,0,0,0,0,0,0,0,0,0,0,0,0,0,0]
[null,24,0,0,0,0,0,0,0,0,0,0,0,0,0,0,0,0,0,0,0,0,0,0]
[null,25,0,0,0,0,0,0,0,0,0,0,0,0,0,0,0,0,0,0,0,0,0,0]
[null,26,0,0,0,0,0,0,0,0,0,0,0,0,0,0,0,0,0,0,0,0,0,0]
[null,27,0,0,0,0,0,0,0,0,0,0,0,0,0,0,0,0,0,0,0,0,0,0]
[null,28,0,0,0,0,0,0,0,0,0,0,0,0,0,0,0,0,0,0,0,0,0,0]
[null,29,0,0,0,0,0,0,0,0,0,0,0,0,0,0,0,0,0,0,0,0,0,0]
[null,30,0,0,0,0,0,0,0,0,0,0,0,0,0,0,0,0,0,0,0,0,0,0]
[null,31,0,0,0,0,0,0,0,0,0,0,0,0,0,0,0,0,0,0,0,0,0,0]
[null,32,0,0,0,0,0,0,0,0,0,0,0,0,0,0,0,0,0,0,0,0,0,0]
[null,33,0,0,{"$f":"IF(E839=0,0,E839)","v":0},0,0,0,0,0,0,0,0,0,0,{"$f":"IF(P839=4,1,IF(P839=3,2,IF(P839=2,3,IF(P839=1,4,0))))","v":0},0,0,0,0,0,0,0,0]
[null,34,0,0,0,0,0,0,0,0,0,0,0,0,0,0,0,0,0,0,0,0,0,0]
[null,35,0,0,0,0,0,0,0,0,0,0,0,0,0,0,0,0,0,0,0,0,0,0]
[null,36,0,0,0,0,0,0,0,0,0,0,0,0,0,0,0,0,0,0,0,0,0,0]
[null,37,0,0,0,0,0,0,0,0,0,0,0,0,0,0,0,0,0,0,0,0,0,0]
[null,38,0,0,0,0,0,0,0,0,0,0,0,0,0,0,0,0,0,0,0,0,0,0]
[null,39,0,0,0,0,0,0,0,0,0,0,0,0,0,0,0,0,0,0,0,0,0,0]
[null,40,0,0,0,0,0,0,0,0,0,0,0,0,0,0,0,0,0,0,0,0,0,0]
[null,41,0,0,0,0,0,0,0,0,0,0,0,0,0,0,0,0,0,0,0,0,0,0]
[null,42,0,0,0,0,0,0,0,0,0,0,0,0,0,0,0,0,0,0,0,0,0,0]
[null,43,0,0,0,0,0,0,0,0,0,0,0,0,0,0,0,0,0,0,0,0,0,0]
[null,44,0,0,0,0,0,0,0,0,0,0,0,0,0,0,0,0,0,0,0,0,0,0]
[null,45,0,0,0,0,0,0,0,0,0,0,0,0,0,0,0,0,0,0,0,0,0,0]
[null,46,0,0,0,0,0,0,0,0,0,0,0,0,0,0,0,0,0,0,0,0,0,0]
[null,47,0,0,0,0,0,0,0,0,0,0,0,0,0,0,0,0,0,0,0,0,0,0]
[null,48,0,0,0,0,0,0,0,0,0,0,0,0,0,0,0,0,0,0,0,0,0,0]
[null,49,0,0,{"$f":"IF(E855=0,0,E855)","v":0},0,0,0,0,0,0,0,0,0,0,{"$f":"IF(P855=4,1,IF(P855=3,2,IF(P855=2,3,IF(P855=1,4,0))))","v":0},0,0,0,0,0,0,0,0]
[null,50,0,0,0,0,0,0,0,0,0,0,0,0,0,0,0,0,0,0,0,0,0,0]
[null,51,0,0,0,0,0,0,0,0,0,0,0,0,0,0,0,0,0,0,0,0,0,0]
[null,52,0,0,0,0,0,0,0,0,0,0,0,0,0,0,0,0,0,0,0,0,0,0]
[null,53,0,0,0,0,0,0,0,0,0,0,0,0,0,0,0,0,0,0,0,0,0,0]
[null,54,0,0,0,0,0,0,0,0,0,0,0,0,0,0,0,0,0,0,0,0,0,0]
[null,55,0,0,0,0,0,0,0,0,0,0,0,0,0,0,0,0,0,0,0,0,0,0]
[null,56,0,0,0,0,0,0,0,0,0,0,0,0,0,0,0,0,0,0,0,0,0,0]
[null,57,0,0,0,0,0,0,0,0,0,0,0,0,0,0,0,0,0,0,0,0,0,0]
[null,58,0,0,0,0,0,0,0,0,0,0,0,0,0,0,0,0,0,0,0,0,0,0]
[null,59,0,0,0,0,0,0,0,0,0,0,0,0,0,0,0,0,0,0,0,0,0,0]
[null,60,0,0,0,0,0,0,0,0,0,0,0,0,0,0,0,0,0,0,0,0,0,0]
["６組",1,0,0,0,0,0,0,0,0,0,0,0,0,0,0,0,0,0,0,0,0,0,0]
[null,2,0,0,0,0,0,0,0,0,0,0,0,0,0,0,0,0,0,0,0,0,0,0]
[null,3,0,0,0,0,0,0,0,0,0,0,0,0,0,0,0,0,0,0,0,0,0,0]
[null,4,0,0,0,0,0,0,0,0,0,0,0,0,0,0,0,0,0,0,0,0,0,0]
[null,5,0,0,{"$f":"IF(E871=0,0,E871)","v":0},0,0,0,0,0,0,0,0,0,0,{"$f":"IF(P871=4,1,IF(P871=3,2,IF(P871=2,3,IF(P871=1,4,0))))","v":0},0,0,0,0,0,0,0,0]
[null,6,0,0,0,0,0,0,0,0,0,0,0,0,0,0,0,0,0,0,0,0,0,0]
[null,7,0,0,0,0,0,0,0,0,0,0,0,0,0,0,0,0,0,0,0,0,0,0]
[null,8,0,0,0,0,0,0,0,0,0,0,0,0,0,0,0,0,0,0,0,0,0,0]
[null,9,0,0,0,0,0,0,0,0,0,0,0,0,0,0,0,0,0,0,0,0,0,0]
[null,10,0,0,0,0,0,0,0,0,0,0,0,0,0,0,0,0,0,0,0,0,0,0]
[null,11,0,0,0,0,0,0,0,0,0,0,0,0,0,0,0,0,0,0,0,0,0,0]
[null,12,0,0,0,0,0,0,0,0,0,0,0,0,0,0,0,0,0,0,0,0,0,0]
[null,13,0,0,0,0,0,0,0,0,0,0,0,0,0,0,0,0,0,0,0,0,0,0]
[null,14,0,0,0,0,0,0,0,0,0,0,0,0,0,0,0,0,0,0,0,0,0,0]
[null,15,0,0,0,0,0,0,0,0,0,0,0,0,0,0,0,0,0,0,0,0,0,0]
[null,16,0,0,0,0,0,0,0,0,0,0,0,0,0,0,0,0,0,0,0,0,0,0]
[null,17,0,0,0,0,0,0,0,0,0,0,0,0,0,0,0,0,0,0,0,0,0,0]
[null,18,0,0,0,0,0,0,0,0,0,0,0,0,0,0,0,0,0,0,0,0,0,0]
[null,19,0,0,0,0,0,0,0,0,0,0,0,0,0,0,0,0,0,0,0,0,0,0]
[null,20,0,0,0,0,0,0,0,0,0,0,0,0,0,0,0,0,0,0,0,0,0,0]
[null,21,0,0,{"$f":"IF(E887=0,0,E887)","v":0},0,0,0,0,0,0,0,0,0,0,{"$f":"IF(P887=4,1,IF(P887=3,2,IF(P887=2,3,IF(P887=1,4,0))))","v":0},0,0,0,0,0,0,0,0]
[null,22,{"$f":"C888","v":0},{"$f":"IF(D888=\"男\",1,IF(D888=\"女\",2,0))","v":0},0,0,0,0,0,0,0,0,0,0,0,0,0,0,0,0,0,0,0,0]
[null,23,0,0,0,0,0,0,0,0,0,0,0,0,0,0,0,0,0,0,0,0,0,0]
[null,24,0,0,0,0,0,0,0,0,0,0,0,0,0,0,0,0,0,0,0,0,0,0]
[null,25,0,0,0,0,0,0,0,0,0,0,0,0,0,0,0,0,0,0,0,0,0,0]
[null,26,0,0,0,0,0,0,0,0,0,0,0,0,0,0,0,0,0,0,0,0,0,0]
[null,27,0,0,0,0,0,0,0,0,0,0,0,0,0,0,0,0,0,0,0,0,0,0]
[null,28,0,0,0,0,0,0,0,0,0,0,0,0,0,0,0,0,0,0,0,0,0,0]
[null,29,0,0,0,0,0,0,0,0,0,0,0,0,0,0,0,0,0,0,0,0,0,0]
[null,30,0,0,0,0,0,0,0,0,0,0,0,0,0,0,0,0,0,0,0,0,0,0]
[null,31,0,0,0,0,0,0,0,0,0,0,0,0,0,0,0,0,0,0,0,0,0,0]
[null,32,0,0,0,0,0,0,0,0,0,0,0,0,0,0,0,0,0,0,0,0,0,0]
[null,33,0,0,0,0,0,0,0,0,0,0,0,0,0,0,0,0,0,0,0,0,0,0]
[null,34,0,0,0,0,0,0,0,0,0,0,0,0,0,0,0,0,0,0,0,0,0,0]
[null,35,0,0,0,0,0,0,0,0,0,0,0,0,0,0,0,0,0,0,0,0,0,0]
[null,36,0,0,0,0,0,0,0,0,0,0,0,0,0,0,0,0,0,0,0,0,0,0]
[null,37,0,0,{"$f":"IF(E903=0,0,E903)","v":0},0,0,0,0,0,0,0,0,0,0,{"$f":"IF(P903=4,1,IF(P903=3,2,IF(P903=2,3,IF(P903=1,4,0))))","v":0},0,0,0,0,0,0,0,0]
[null,38,0,0,0,0,0,0,0,0,0,0,0,0,0,0,0,0,0,0,0,0,0,0]
[null,39,0,0,0,0,0,0,0,0,0,0,0,0,0,0,0,0,0,0,0,0,0,0]
[null,40,0,0,0,0,0,0,0,0,0,0,0,0,0,0,0,0,0,0,0,0,0,0]
[null,41,0,0,0,0,0,0,0,0,0,0,0,0,0,0,0,0,0,0,0,0,0,0]
[null,42,0,0,0,0,0,0,0,0,0,0,0,0,0,0,0,0,0,0,0,0,0,0]
[null,43,0,0,0,0,0,0,0,0,0,0,0,0,0,0,0,0,0,0,0,0,0,0]
[null,44,0,0,0,0,0,0,0,0,0,0,0,0,0,0,0,0,0,0,0,0,0,0]
[null,45,0,0,0,0,0,0,0,0,0,0,0,0,0,0,0,0,0,0,0,0,0,0]
[null,46,0,0,0,0,0,0,0,0,0,0,0,0,0,0,0,0,0,0,0,0,0,0]
[null,47,0,0,0,0,0,0,0,0,0,0,0,0,0,0,0,0,0,0,0,0,0,0]
[null,48,0,0,0,0,0,0,0,0,0,0,0,0,0,0,0,0,0,0,0,0,0,0]
[null,49,0,0,0,0,0,0,0,0,0,0,0,0,0,0,0,0,0,0,0,0,0,0]
[null,50,0,0,0,0,0,0,0,0,0,0,0,0,0,0,0,0,0,0,0,0,0,0]
[null,51,0,0,0,0,0,0,0,0,0,0,0,0,0,0,0,0,0,0,0,0,0,0]
[null,52,0,0,0,0,0,0,0,0,0,0,0,0,0,0,0,0,0,0,0,0,0,0]
[null,53,0,0,{"$f":"IF(E919=0,0,E919)","v":0},0,0,0,0,0,0,0,0,0,0,{"$f":"IF(P919=4,1,IF(P919=3,2,IF(P919=2,3,IF(P919=1,4,0))))","v":0},0,0,0,0,0,0,0,0]
[null,54,0,0,0,0,0,0,0,0,0,0,0,0,0,0,0,0,0,0,0,0,0,0]
[null,55,0,0,0,0,0,0,0,0,0,0,0,0,0,0,0,0,0,0,0,0,0,0]
[null,56,0,0,0,0,0,0,0,0,0,0,0,0,0,0,0,0,0,0,0,0,0,0]
[null,57,0,0,0,0,0,0,0,0,0,0,0,0,0,0,0,0,0,0,0,0,0,0]
[null,58,0,0,0,0,0,0,0,0,0,0,0,0,0,0,0,0,0,0,0,0,0,0]
[null,59,0,0,0,0,0,0,0,0,0,0,0,0,0,0,0,0,0,0,0,0,0,0]
[null,60,0,0,0,0,0,0,0,0,0,0,0,0,0,0,0,0,0,0,0,0,0,0]
["７組",1,0,0,0,0,0,0,0,0,0,0,0,0,0,0,0,0,0,0,0,0,0,0]
[null,2,0,0,0,0,0,0,0,0,0,0,0,0,0,0,0,0,0,0,0,0,0,0]
[null,3,0,0,0,0,0,0,0,0,0,0,0,0,0,0,0,0,0,0,0,0,0,0]
[null,4,0,0,0,0,0,0,0,0,0,0,0,0,0,0,0,0,0,0,0,0,0,0]
[null,5,0,0,0,0,0,0,0,0,0,0,0,0,0,0,0,0,0,0,0,0,0,0]
[null,6,0,0,0,0,0,0,0,0,0,0,0,0,0,0,0,0,0,0,0,0,0,0]
[null,7,0,0,0,0,0,0,0,0,0,0,0,0,0,0,0,0,0,0,0,0,0,0]
[null,8,0,0,0,0,0,0,0,0,0,0,0,0,0,0,0,0,0,0,0,0,0,0]
[null,9,0,0,{"$f":"IF(E935=0,0,E935)","v":0},0,0,0,0,0,0,0,0,0,0,{"$f":"IF(P935=4,1,IF(P935=3,2,IF(P935=2,3,IF(P935=1,4,0))))","v":0},0,0,0,0,0,0,0,0]
[null,10,0,0,0,0,0,0,0,0,0,0,0,0,0,0,0,0,0,0,0,0,0,0]
[null,11,0,0,0,0,0,0,0,0,0,0,0,0,0,0,0,0,0,0,0,0,0,0]
[null,12,0,0,0,0,0,0,0,0,0,0,0,0,0,0,0,0,0,0,0,0,0,0]
[null,13,0,0,0,0,0,0,0,0,0,0,0,0,0,0,0,0,0,0,0,0,0,0]
[null,14,0,0,0,0,0,0,0,0,0,0,0,0,0,0,0,0,0,0,0,0,0,0]
[null,15,0,0,0,0,0,0,0,0,0,0,0,0,0,0,0,0,0,0,0,0,0,0]
[null,16,0,0,0,0,0,0,0,0,0,0,0,0,0,0,0,0,0,0,0,0,0,0]
[null,17,0,0,0,0,0,0,0,0,0,0,0,0,0,0,0,0,0,0,0,0,0,0]
[null,18,0,0,0,0,0,0,0,0,0,0,0,0,0,0,0,0,0,0,0,0,0,0]
[null,19,0,0,0,0,0,0,0,0,0,0,0,0,0,0,0,0,0,0,0,0,0,0]
[null,20,0,0,0,0,0,0,0,0,0,0,0,0,0,0,0,0,0,0,0,0,0,0]
[null,21,0,0,0,0,0,0,0,0,0,0,0,0,0,0,0,0,0,0,0,0,0,0]
[null,22,0,0,0,0,0,0,0,0,0,0,0,0,0,0,0,0,0,0,0,0,0,0]
[null,23,0,0,0,0,0,0,0,0,0,0,0,0,0,0,0,0,0,0,0,0,0,0]
[null,24,0,0,0,0,0,0,0,0,0,0,0,0,0,0,0,0,0,0,0,0,0,0]
[null,25,0,0,{"$f":"IF(E951=0,0,E951)","v":0},0,0,0,0,0,0,0,0,0,0,{"$f":"IF(P951=4,1,IF(P951=3,2,IF(P951=2,3,IF(P951=1,4,0))))","v":0},0,0,0,0,0,0,0,0]
[null,26,{"$f":"C952","v":0},{"$f":"IF(D952=\"男\",1,IF(D952=\"女\",2,0))","v":0},0,0,0,0,0,0,0,0,0,0,0,0,0,0,0,0,0,0,0,0]
[null,27,0,0,0,0,0,0,0,0,0,0,0,0,0,0,0,0,0,0,0,0,0,0]
[null,28,0,0,0,0,0,0,0,0,0,0,0,0,0,0,0,0,0,0,0,0,0,0]
[null,29,0,0,0,0,0,0,0,0,0,0,0,0,0,0,0,0,0,0,0,0,0,0]
[null,30,0,0,0,0,0,0,0,0,0,0,0,0,0,0,0,0,0,0,0,0,0,0]
[null,31,0,0,0,0,0,0,0,0,0,0,0,0,0,0,0,0,0,0,0,0,0,0]
[null,32,0,0,0,0,0,0,0,0,0,0,0,0,0,0,0,0,0,0,0,0,0,0]
[null,33,0,0,0,0,0,0,0,0,0,0,0,0,0,0,0,0,0,0,0,0,0,0]
[null,34,0,0,0,0,0,0,0,0,0,0,0,0,0,0,0,0,0,0,0,0,0,0]
[null,35,0,0,0,0,0,0,0,0,0,0,0,0,0,0,0,0,0,0,0,0,0,0]
[null,36,0,0,0,0,0,0,0,0,0,0,0,0,0,0,0,0,0,0,0,0,0,0]
[null,37,0,0,0,0,0,0,0,0,0,0,0,0,0,0,0,0,0,0,0,0,0,0]
[null,38,0,0,0,0,0,0,0,0,0,0,0,0,0,0,0,0,0,0,0,0,0,0]
[null,39,0,0,0,0,0,0,0,0,0,0,0,0,0,0,0,0,0,0,0,0,0,0]
[null,40,0,0,0,0,0,0,0,0,0,0,0,0,0,0,0,0,0,0,0,0,0,0]
[null,41,0,0,{"$f":"IF(E967=0,0,E967)","v":0},0,0,0,0,0,0,0,0,0,0,{"$f":"IF(P967=4,1,IF(P967=3,2,IF(P967=2,3,IF(P967=1,4,0))))","v":0},0,0,0,0,0,0,0,0]
[null,42,0,0,0,0,0,0,0,0,0,0,0,0,0,0,0,0,0,0,0,0,0,0]
[null,43,0,0,0,0,0,0,0,0,0,0,0,0,0,0,0,0,0,0,0,0,0,0]
[null,44,0,0,0,0,0,0,0,0,0,0,0,0,0,0,0,0,0,0,0,0,0,0]
[null,45,0,0,0,0,0,0,0,0,0,0,0,0,0,0,0,0,0,0,0,0,0,0]
[null,46,0,0,0,0,0,0,0,0,0,0,0,0,0,0,0,0,0,0,0,0,0,0]
[null,47,0,0,0,0,0,0,0,0,0,0,0,0,0,0,0,0,0,0,0,0,0,0]
[null,48,0,0,0,0,0,0,0,0,0,0,0,0,0,0,0,0,0,0,0,0,0,0]
[null,49,0,0,0,0,0,0,0,0,0,0,0,0,0,0,0,0,0,0,0,0,0,0]
[null,50,0,0,0,0,0,0,0,0,0,0,0,0,0,0,0,0,0,0,0,0,0,0]
[null,51,0,0,0,0,0,0,0,0,0,0,0,0,0,0,0,0,0,0,0,0,0,0]
[null,52,0,0,0,0,0,0,0,0,0,0,0,0,0,0,0,0,0,0,0,0,0,0]
[null,53,0,0,0,0,0,0,0,0,0,0,0,0,0,0,0,0,0,0,0,0,0,0]
[null,54,0,0,0,0,0,0,0,0,0,0,0,0,0,0,0,0,0,0,0,0,0,0]
[null,55,0,0,0,0,0,0,0,0,0,0,0,0,0,0,0,0,0,0,0,0,0,0]
[null,56,0,0,0,0,0,0,0,0,0,0,0,0,0,0,0,0,0,0,0,0,0,0]
[null,57,0,0,{"$f":"IF(E983=0,0,E983)","v":0},0,0,0,0,0,0,0,0,0,0,{"$f":"IF(P983=4,1,IF(P983=3,2,IF(P983=2,3,IF(P983=1,4,0))))","v":0},0,0,0,0,0,0,0,0]
[null,58,0,0,0,0,0,0,0,0,0,0,0,0,0,0,0,0,0,0,0,0,0,0]
[null,59,0,0,0,0,0,0,0,0,0,0,0,0,0,0,0,0,0,0,0,0,0,0]
[null,60,0,0,0,0,0,0,0,0,0,0,0,0,0,0,0,0,0,0,0,0,0,0]
["８組",1,0,0,0,0,0,0,0,0,0,0,0,0,0,0,0,0,0,0,0,0,0,0]
[null,2,0,0,0,0,0,0,0,0,0,0,0,0,0,0,0,0,0,0,0,0,0,0]
[null,3,0,0,0,0,0,0,0,0,0,0,0,0,0,0,0,0,0,0,0,0,0,0]
[null,4,0,0,0,0,0,0,0,0,0,0,0,0,0,0,0,0,0,0,0,0,0,0]
[null,5,0,0,0,0,0,0,0,0,0,0,0,0,0,0,0,0,0,0,0,0,0,0]
[null,6,0,0,0,0,0,0,0,0,0,0,0,0,0,0,0,0,0,0,0,0,0,0]
[null,7,0,0,0,0,0,0,0,0,0,0,0,0,0,0,0,0,0,0,0,0,0,0]
[null,8,0,0,0,0,0,0,0,0,0,0,0,0,0,0,0,0,0,0,0,0,0,0]
[null,9,0,0,0,0,0,0,0,0,0,0,0,0,0,0,0,0,0,0,0,0,0,0]
[null,10,0,0,0,0,0,0,0,0,0,0,0,0,0,0,0,0,0,0,0,0,0,0]
[null,11,0,0,0,0,0,0,0,0,0,0,0,0,0,0,0,0,0,0,0,0,0,0]
[null,12,0,0,0,0,0,0,0,0,0,0,0,0,0,0,0,0,0,0,0,0,0,0]
[null,13,0,0,{"$f":"IF(E999=0,0,E999)","v":0},0,0,0,0,0,0,0,0,0,0,{"$f":"IF(P999=4,1,IF(P999=3,2,IF(P999=2,3,IF(P999=1,4,0))))","v":0},0,0,0,0,0,0,0,0]
[null,14,0,0,0,0,0,0,0,0,0,0,0,0,0,0,0,0,0,0,0,0,0,0]
[null,15,0,0,0,0,0,0,0,0,0,0,0,0,0,0,0,0,0,0,0,0,0,0]
[null,16,0,0,0,0,0,0,0,0,0,0,0,0,0,0,0,0,0,0,0,0,0,0]
[null,17,0,0,0,0,0,0,0,0,0,0,0,0,0,0,0,0,0,0,0,0,0,0]
[null,18,0,0,0,0,0,0,0,0,0,0,0,0,0,0,0,0,0,0,0,0,0,0]
[null,19,0,0,0,0,0,0,0,0,0,0,0,0,0,0,0,0,0,0,0,0,0,0]
[null,20,0,0,0,0,0,0,0,0,0,0,0,0,0,0,0,0,0,0,0,0,0,0]
[null,21,0,0,0,0,0,0,0,0,0,0,0,0,0,0,0,0,0,0,0,0,0,0]
[null,22,0,0,0,0,0,0,0,0,0,0,0,0,0,0,0,0,0,0,0,0,0,0]
[null,23,0,0,0,0,0,0,0,0,0,0,0,0,0,0,0,0,0,0,0,0,0,0]
[null,24,0,0,0,0,0,0,0,0,0,0,0,0,0,0,0,0,0,0,0,0,0,0]
[null,25,0,0,0,0,0,0,0,0,0,0,0,0,0,0,0,0,0,0,0,0,0,0]
[null,26,0,0,0,0,0,0,0,0,0,0,0,0,0,0,0,0,0,0,0,0,0,0]
[null,27,0,0,0,0,0,0,0,0,0,0,0,0,0,0,0,0,0,0,0,0,0,0]
[null,28,0,0,0,0,0,0,0,0,0,0,0,0,0,0,0,0,0,0,0,0,0,0]
[null,29,0,0,{"$f":"IF(E1015=0,0,E1015)","v":0},0,0,0,0,0,0,0,0,0,0,{"$f":"IF(P1015=4,1,IF(P1015=3,2,IF(P1015=2,3,IF(P1015=1,4,0))))","v":0},0,0,0,0,0,0,0,0]
[null,30,{"$f":"C1016","v":0},{"$f":"IF(D1016=\"男\",1,IF(D1016=\"女\",2,0))","v":0},0,0,0,0,0,0,0,0,0,0,0,0,0,0,0,0,0,0,0,0]
[null,31,0,0,0,0,0,0,0,0,0,0,0,0,0,0,0,0,0,0,0,0,0,0]
[null,32,0,0,0,0,0,0,0,0,0,0,0,0,0,0,0,0,0,0,0,0,0,0]
[null,33,0,0,0,0,0,0,0,0,0,0,0,0,0,0,0,0,0,0,0,0,0,0]
[null,34,0,0,0,0,0,0,0,0,0,0,0,0,0,0,0,0,0,0,0,0,0,0]
[null,35,0,0,0,0,0,0,0,0,0,0,0,0,0,0,0,0,0,0,0,0,0,0]
[null,36,0,0,0,0,0,0,0,0,0,0,0,0,0,0,0,0,0,0,0,0,0,0]
[null,37,0,0,0,0,0,0,0,0,0,0,0,0,0,0,0,0,0,0,0,0,0,0]
[null,38,0,0,0,0,0,0,0,0,0,0,0,0,0,0,0,0,0,0,0,0,0,0]
[null,39,0,0,0,0,0,0,0,0,0,0,0,0,0,0,0,0,0,0,0,0,0,0]
[null,40,0,0,0,0,0,0,0,0,0,0,0,0,0,0,0,0,0,0,0,0,0,0]
[null,41,0,0,0,0,0,0,0,0,0,0,0,0,0,0,0,0,0,0,0,0,0,0]
[null,42,0,0,0,0,0,0,0,0,0,0,0,0,0,0,0,0,0,0,0,0,0,0]
[null,43,0,0,0,0,0,0,0,0,0,0,0,0,0,0,0,0,0,0,0,0,0,0]
[null,44,0,0,0,0,0,0,0,0,0,0,0,0,0,0,0,0,0,0,0,0,0,0]
[null,45,0,0,{"$f":"IF(E1031=0,0,E1031)","v":0},0,0,0,0,0,0,0,0,0,0,{"$f":"IF(P1031=4,1,IF(P1031=3,2,IF(P1031=2,3,IF(P1031=1,4,0))))","v":0},0,0,0,0,0,0,0,0]
[null,46,0,0,0,0,0,0,0,0,0,0,0,0,0,0,0,0,0,0,0,0,0,0]
[null,47,0,0,0,0,0,0,0,0,0,0,0,0,0,0,0,0,0,0,0,0,0,0]
[null,48,0,0,0,0,0,0,0,0,0,0,0,0,0,0,0,0,0,0,0,0,0,0]
[null,49,0,0,0,0,0,0,0,0,0,0,0,0,0,0,0,0,0,0,0,0,0,0]
[null,50,0,0,0,0,0,0,0,0,0,0,0,0,0,0,0,0,0,0,0,0,0,0]
[null,51,0,0,0,0,0,0,0,0,0,0,0,0,0,0,0,0,0,0,0,0,0,0]
[null,52,0,0,0,0,0,0,0,0,0,0,0,0,0,0,0,0,0,0,0,0,0,0]
[null,53,0,0,0,0,0,0,0,0,0,0,0,0,0,0,0,0,0,0,0,0,0,0]
[null,54,0,0,0,0,0,0,0,0,0,0,0,0,0,0,0,0,0,0,0,0,0,0]
[null,55,0,0,0,0,0,0,0,0,0,0,0,0,0,0,0,0,0,0,0,0,0,0]
[null,56,0,0,0,0,0,0,0,0,0,0,0,0,0,0,0,0,0,0,0,0,0,0]
[null,57,0,0,0,0,0,0,0,0,0,0,0,0,0,0,0,0,0,0,0,0,0,0]
[null,58,0,0,0,0,0,0,0,0,0,0,0,0,0,0,0,0,0,0,0,0,0,0]
[null,59,0,0,0,0,0,0,0,0,0,0,0,0,0,0,0,0,0,0,0,0,0,0]
[null,60,0,0,0,0,0,0,0,0,0,0,0,0,0,0,0,0,0,0,0,0,0,0]
["９組",1,0,0,{"$f":"IF(E1047=0,0,E1047)","v":0},0,0,0,0,0,0,0,0,0,0,{"$f":"IF(P1047=4,1,IF(P1047=3,2,IF(P1047=2,3,IF(P1047=1,4,0))))","v":0},0,0,0,0,0,0,0,0]
[null,2,0,0,0,0,0,0,0,0,0,0,0,0,0,0,0,0,0,0,0,0,0,0]
[null,3,0,0,0,0,0,0,0,0,0,0,0,0,0,0,0,0,0,0,0,0,0,0]
[null,4,0,0,0,0,0,0,0,0,0,0,0,0,0,0,0,0,0,0,0,0,0,0]
[null,5,0,0,0,0,0,0,0,0,0,0,0,0,0,0,0,0,0,0,0,0,0,0]
[null,6,0,0,0,0,0,0,0,0,0,0,0,0,0,0,0,0,0,0,0,0,0,0]
[null,7,0,0,0,0,0,0,0,0,0,0,0,0,0,0,0,0,0,0,0,0,0,0]
[null,8,0,0,0,0,0,0,0,0,0,0,0,0,0,0,0,0,0,0,0,0,0,0]
[null,9,0,0,0,0,0,0,0,0,0,0,0,0,0,0,0,0,0,0,0,0,0,0]
[null,10,0,0,0,0,0,0,0,0,0,0,0,0,0,0,0,0,0,0,0,0,0,0]
[null,11,0,0,0,0,0,0,0,0,0,0,0,0,0,0,0,0,0,0,0,0,0,0]
[null,12,0,0,0,0,0,0,0,0,0,0,0,0,0,0,0,0,0,0,0,0,0,0]
[null,13,0,0,0,0,0,0,0,0,0,0,0,0,0,0,0,0,0,0,0,0,0,0]
[null,14,0,0,0,0,0,0,0,0,0,0,0,0,0,0,0,0,0,0,0,0,0,0]
[null,15,0,0,0,0,0,0,0,0,0,0,0,0,0,0,0,0,0,0,0,0,0,0]
[null,16,0,0,0,0,0,0,0,0,0,0,0,0,0,0,0,0,0,0,0,0,0,0]
[null,17,0,0,{"$f":"IF(E1063=0,0,E1063)","v":0},0,0,0,0,0,0,0,0,0,0,{"$f":"IF(P1063=4,1,IF(P1063=3,2,IF(P1063=2,3,IF(P1063=1,4,0))))","v":0},0,0,0,0,0,0,0,0]
[null,18,0,0,0,0,0,0,0,0,0,0,0,0,0,0,0,0,0,0,0,0,0,0]
[null,19,0,0,0,0,0,0,0,0,0,0,0,0,0,0,0,0,0,0,0,0,0,0]
[null,20,0,0,0,0,0,0,0,0,0,0,0,0,0,0,0,0,0,0,0,0,0,0]
[null,21,0,0,0,0,0,0,0,0,0,0,0,0,0,0,0,0,0,0,0,0,0,0]
[null,22,0,0,0,0,0,0,0,0,0,0,0,0,0,0,0,0,0,0,0,0,0,0]
[null,23,0,0,0,0,0,0,0,0,0,0,0,0,0,0,0,0,0,0,0,0,0,0]
[null,24,0,0,0,0,0,0,0,0,0,0,0,0,0,0,0,0,0,0,0,0,0,0]
[null,25,0,0,0,0,0,0,0,0,0,0,0,0,0,0,0,0,0,0,0,0,0,0]
[null,26,0,0,0,0,0,0,0,0,0,0,0,0,0,0,0,0,0,0,0,0,0,0]
[null,27,0,0,0,0,0,0,0,0,0,0,0,0,0,0,0,0,0,0,0,0,0,0]
[null,28,0,0,0,0,0,0,0,0,0,0,0,0,0,0,0,0,0,0,0,0,0,0]
[null,29,0,0,0,0,0,0,0,0,0,0,0,0,0,0,0,0,0,0,0,0,0,0]
[null,30,0,0,0,0,0,0,0,0,0,0,0,0,0,0,0,0,0,0,0,0,0,0]
[null,31,0,0,0,0,0,0,0,0,0,0,0,0,0,0,0,0,0,0,0,0,0,0]
[null,32,0,0,0,0,0,0,0,0,0,0,0,0,0,0,0,0,0,0,0,0,0,0]
[null,33,0,0,{"$f":"IF(E1079=0,0,E1079)","v":0},0,0,0,0,0,0,0,0,0,0,{"$f":"IF(P1079=4,1,IF(P1079=3,2,IF(P1079=2,3,IF(P1079=1,4,0))))","v":0},0,0,0,0,0,0,0,0]
[null,34,{"$f":"C1080","v":0},{"$f":"IF(D1080=\"男\",1,IF(D1080=\"女\",2,0))","v":0},0,0,0,0,0,0,0,0,0,0,0,0,0,0,0,0,0,0,0,0]
[null,35,0,0,0,0,0,0,0,0,0,0,0,0,0,0,0,0,0,0,0,0,0,0]
[null,36,0,0,0,0,0,0,0,0,0,0,0,0,0,0,0,0,0,0,0,0,0,0]
[null,37,0,0,0,0,0,0,0,0,0,0,0,0,0,0,0,0,0,0,0,0,0,0]
[null,38,0,0,0,0,0,0,0,0,0,0,0,0,0,0,0,0,0,0,0,0,0,0]
[null,39,0,0,0,0,0,0,0,0,0,0,0,0,0,0,0,0,0,0,0,0,0,0]
[null,40,0,0,0,0,0,0,0,0,0,0,0,0,0,0,0,0,0,0,0,0,0,0]
[null,41,0,0,0,0,0,0,0,0,0,0,0,0,0,0,0,0,0,0,0,0,0,0]
[null,42,0,0,0,0,0,0,0,0,0,0,0,0,0,0,0,0,0,0,0,0,0,0]
[null,43,0,0,0,0,0,0,0,0,0,0,0,0,0,0,0,0,0,0,0,0,0,0]
[null,44,0,0,0,0,0,0,0,0,0,0,0,0,0,0,0,0,0,0,0,0,0,0]
[null,45,0,0,0,0,0,0,0,0,0,0,0,0,0,0,0,0,0,0,0,0,0,0]
[null,46,0,0,0,0,0,0,0,0,0,0,0,0,0,0,0,0,0,0,0,0,0,0]
[null,47,0,0,0,0,0,0,0,0,0,0,0,0,0,0,0,0,0,0,0,0,0,0]
[null,48,0,0,0,0,0,0,0,0,0,0,0,0,0,0,0,0,0,0,0,0,0,0]
[null,49,0,0,{"$f":"IF(E1095=0,0,E1095)","v":0},0,0,0,0,0,0,0,0,0,0,{"$f":"IF(P1095=4,1,IF(P1095=3,2,IF(P1095=2,3,IF(P1095=1,4,0))))","v":0},0,0,0,0,0,0,0,0]
[null,50,0,0,0,0,0,0,0,0,0,0,0,0,0,0,0,0,0,0,0,0,0,0]
[null,51,0,0,0,0,0,0,0,0,0,0,0,0,0,0,0,0,0,0,0,0,0,0]
[null,52,0,0,0,0,0,0,0,0,0,0,0,0,0,0,0,0,0,0,0,0,0,0]
[null,53,0,0,0,0,0,0,0,0,0,0,0,0,0,0,0,0,0,0,0,0,0,0]
[null,54,0,0,0,0,0,0,0,0,0,0,0,0,0,0,0,0,0,0,0,0,0,0]
[null,55,0,0,0,0,0,0,0,0,0,0,0,0,0,0,0,0,0,0,0,0,0,0]
[null,56,0,0,0,0,0,0,0,0,0,0,0,0,0,0,0,0,0,0,0,0,0,0]
[null,57,0,0,0,0,0,0,0,0,0,0,0,0,0,0,0,0,0,0,0,0,0,0]
[null,58,0,0,0,0,0,0,0,0,0,0,0,0,0,0,0,0,0,0,0,0,0,0]
[null,59,0,0,0,0,0,0,0,0,0,0,0,0,0,0,0,0,0,0,0,0,0,0]
[null,60,0,0,0,0,0,0,0,0,0,0,0,0,0,0,0,0,0,0,0,0,0,0]
[null,"④ の数",null,null,{"$f":"COUNTIF(E$6:E$545,4)","v":0},0,0,0,0,0,0,0,0,0,0,0,0,0,0,0,0,0,0,0]
[null,"③ の数",null,null,{"$f":"COUNTIF(E$6:E$545,3)","v":0},0,0,0,0,0,0,0,0,0,0,0,0,0,0,0,0,0,0,0]
[null,"② の数",null,null,{"$f":"COUNTIF(E$6:E$545,2)","v":0},0,0,0,0,0,0,0,0,0,0,0,0,0,0,0,0,0,0,0]
[null,"① の数",null,null,{"$f":"COUNTIF(E$6:E$545,1)","v":0},0,0,0,0,0,0,0,0,0,0,0,0,0,0,0,0,0,0,0]
[null,"合計",null,null,{"$f":"SUM(E546:E549)","v":0},{"$f":"SUM(F546:F549)","v":0},0,0,{"$f":"SUM(I546:I549)","v":0},0,0,0,0,0,0,0,0,0,0,0,0,0,0,0]
[null,"男子平均",null,{"$f":"COUNTIF($D$486:$D$545,1)","v":0},null,null,null,null,"平均",{"$f":"(J546*4+J547*3+J548*2+J549*1)/J550","v":{"$error":"#DIV/0!"}},{"$f":"(K546*4+K547*3+K548*2+K549*1)/K550","v":{"$error":"#DIV/0!"}},{"$error":"#DIV/0!"},{"$error":"#DIV/0!"},{"$error":"#DIV/0!"},{"$error":"#DIV/0!"},{"$error":"#DIV/0!"},{"$error":"#DIV/0!"},{"$error":"#DIV/0!"},{"$error":"#DIV/0!"},{"$error":"#DIV/0!"},{"$error":"#DIV/0!"},{"$error":"#DIV/0!"},{"$error":"#DIV/0!"},{"$f":"(X546*4+X547*3+X548*2+X549*1)/X550","v":{"$error":"#DIV/0!"}}]
[null,"女子平均",null,{"$f":"COUNTIF($D$486:$D$545,2)","v":0}]
[null,"全体平均",null,{"$f":"SUM(D551:D552)","v":0}]
[null,null,null,"↑"]
[null,null,null,"ここだけ人数"]
[]
[]
[]
[]
[]
[]
[null,"２回目　集計表",null,null,"各クラスのデーターをコピーして貼り付けてください。"]
[null,1,2,3,30,31,32,33,34,35,36,37,38,39,40,41,42,43,44,45,46,47,48,49]
[null,"番号","氏名",null,1,2,3,4,5,6,7,8,9,10,11,12,13,14,15,16,17,18,19,20]
[null,null,null,"性別","ＳＮＳの１週間当たりの利用日数","平日にＳＮＳを利用する時間","ＳＮＳを使い始めてからの経験年月","ＳＮＳでメッセージのやり取りをするグループの数","普段、利用しているＳＮＳのメンバー","個人情報は出さないようにしている。","相手が不愉快な気持ちになるような内容は書かないようにしている。","メッセージを送る前に問題がないか確認をするようにしている。","長時間にならないようにメッセージのやり取りをしている。","メッセージのやり取りで嫌な気持ちになったときは、直接、会話で気持ちを伝えるようにしている。","友達とのやり取りで困ったときは親や先生に相談するようにしている。","友達とメッセージのやり取りをすることで友達の気持ちを確かめることができる。","友達とメッセージのやり取りをすることで、友達とのつながりをもてる。","友達とメッセージのやり取りをすることで、寂しさをすぐにまぎらわすことができる。","メッセージがきたらすぐに返事をする。","友達から送られてくるメッセージをチェックする。","メッセージのやり取りをなかなか終わらせられない。","自分が送信したメッセージに対する反応がない。","メッセージの送信後，「あの伝え方でよかったのだろうか」と悩む。","知らないところで自分のことについてメッセージのやり取りをしているのではないかと心配になる。"]
[]
["1組",1]
[null,2]
[null,3]
[null,4]
[null,5]
[null,6]
[null,7]
[null,8]
[null,9]
[null,10]
[null,11]
[null,12]
[null,13]
[null,14]
[null,15]
[null,16]
[null,17]
[null,18]
[null,19]
[null,20]
[null,21]
[null,22]
[null,23]
[null,24]
[null,25]
[null,26]
[null,27]
[null,28]
[null,29]
[null,30]
[null,31]
[null,32]
[null,33]
[null,34]
[null,35]
[null,36]
[null,37]
[null,38]
[null,39]
[null,40]
[null,41]
[null,42]
[null,43]
[null,44]
[null,45]
[null,46]
[null,47]
[null,48]
[null,49]
[null,50]
[null,51]
[null,52]
[null,53]
[null,54]
[null,55]
[null,56]
[null,57]
[null,58]
[null,59]
[null,60]
["２組",1]
[null,2]
[null,3]
[null,4]
[null,5]
[null,6]
[null,7]
[null,8]
[null,9]
[null,10]
[null,11]
[null,12]
[null,13]
[null,14]
[null,15]
[null,16]
[null,17]
[null,18]
[null,19]
[null,20]
[null,21]
[null,22]
[null,23]
[null,24]
[null,25]
[null,26]
[null,27]
[null,28]
[null,29]
[null,30]
[null,31]
[null,32]
[null,33]
[null,34]
[null,35]
[null,36]
[null,37]
[null,38]
[null,39]
[null,40]
[null,41]
[null,42]
[null,43]
[null,44]
[null,45]
[null,46]
[null,47]
[null,48]
[null,49]
[null,50]
[null,51]
[null,52]
[null,53]
[null,54]
[null,55]
[null,56]
[null,57]
[null,58]
[null,59]
[null,60]
["３組",1]
[null,2]
[null,3]
[null,4]
[null,5]
[null,6]
[null,7]
[null,8]
[null,9]
[null,10]
[null,11]
[null,12]
[null,13]
[null,14]
[null,15]
[null,16]
[null,17]
[null,18]
[null,19]
[null,20]
[null,21]
[null,22]
[null,23]
[null,24]
[null,25]
[null,26]
[null,27]
[null,28]
[null,29]
[null,30]
[null,31]
[null,32]
[null,33]
[null,34]
[null,35]
[null,36]
[null,37]
[null,38]
[null,39]
[null,40]
[null,41]
[null,42]
[null,43]
[null,44]
[null,45]
[null,46]
[null,47]
[null,48]
[null,49]
[null,50]
[null,51]
[null,52]
[null,53]
[null,54]
[null,55]
[null,56]
[null,57]
[null,58]
[null,59]
[null,60]
["４組",1]
[null,2]
[null,3]
[null,4]
[null,5]
[null,6]
[null,7]
[null,8]
[null,9]
[null,10]
[null,11]
[null,12]
[null,13]
[null,14]
[null,15]
[null,16]
[null,17]
[null,18]
[null,19]
[null,20]
[null,21]
[null,22]
[null,23]
[null,24]
[null,25]
[null,26]
[null,27]
[null,28]
[null,29]
[null,30]
[null,31]
[null,32]
[null,33]
[null,34]
[null,35]
[null,36]
[null,37]
[null,38]
[null,39]
[null,40]
[null,41]
[null,42]
[null,43]
[null,44]
[null,45]
[null,46]
[null,47]
[null,48]
[null,49]
[null,50]
[null,51]
[null,52]
[null,53]
[null,54]
[null,55]
[null,56]
[null,57]
[null,58]
[null,59]
[null,60]
["５組",1]
[null,2]
[null,3]
[null,4]
[null,5]
[null,6]
[null,7]
[null,8]
[null,9]
[null,10]
[null,11]
[null,12]
[null,13]
[null,14]
[null,15]
[null,16]
[null,17]
[null,18]
[null,19]
[null,20]
[null,21]
[null,22]
[null,23]
[null,24]
[null,25]
[null,26]
[null,27]
[null,28]
[null,29]
[null,30]
[null,31]
[null,32]
[null,33]
[null,34]
[null,35]
[null,36]
[null,37]
[null,38]
[null,39]
[null,40]
[null,41]
[null,42]
[null,43]
[null,44]
[null,45]
[null,46]
[null,47]
[null,48]
[null,49]
[null,50]
[null,51]
[null,52]
[null,53]
[null,54]
[null,55]
[null,56]
[null,57]
[null,58]
[null,59]
[null,60]
["６組",1]
[null,2]
[null,3]
[null,4]
[null,5]
[null,6]
[null,7]
[null,8]
[null,9]
[null,10]
[null,11]
[null,12]
[null,13]
[null,14]
[null,15]
[null,16]
[null,17]
[null,18]
[null,19]
[null,20]
[null,21]
[null,22]
[null,23]
[null,24]
[null,25]
[null,26]
[null,27]
[null,28]
[null,29]
[null,30]
[null,31]
[null,32]
[null,33]
[null,34]
[null,35]
[null,36]
[null,37]
[null,38]
[null,39]
[null,40]
[null,41]
[null,42]
[null,43]
[null,44]
[null,45]
[null,46]
[null,47]
[null,48]
[null,49]
[null,50]
[null,51]
[null,52]
[null,53]
[null,54]
[null,55]
[null,56]
[null,57]
[null,58]
[null,59]
[null,60]
["７組",1]
[null,2]
[null,3]
[null,4]
[null,5]
[null,6]
[null,7]
[null,8]
[null,9]
[null,10]
[null,11]
[null,12]
[null,13]
[null,14]
[null,15]
[null,16]
[null,17]
[null,18]
[null,19]
[null,20]
[null,21]
[null,22]
[null,23]
[null,24]
[null,25]
[null,26]
[null,27]
[null,28]
[null,29]
[null,30]
[null,31]
[null,32]
[null,33]
[null,34]
[null,35]
[null,36]
[null,37]
[null,38]
[null,39]
[null,40]
[null,41]
[null,42]
[null,43]
[null,44]
[null,45]
[null,46]
[null,47]
[null,48]
[null,49]
[null,50]
[null,51]
[null,52]
[null,53]
[null,54]
[null,55]
[null,56]
[null,57]
[null,58]
[null,59]
[null,60]
["８組",1]
[null,2]
[null,3]
[null,4]
[null,5]
[null,6]
[null,7]
[null,8]
[null,9]
[null,10]
[null,11]
[null,12]
[null,13]
[null,14]
[null,15]
[null,16]
[null,17]
[null,18]
[null,19]
[null,20]
[null,21]
[null,22]
[null,23]
[null,24]
[null,25]
[null,26]
[null,27]
[null,28]
[null,29]
[null,30]
[null,31]
[null,32]
[null,33]
[null,34]
[null,35]
[null,36]
[null,37]
[null,38]
[null,39]
[null,40]
[null,41]
[null,42]
[null,43]
[null,44]
[null,45]
[null,46]
[null,47]
[null,48]
[null,49]
[null,50]
[null,51]
[null,52]
[null,53]
[null,54]
[null,55]
[null,56]
[null,57]
[null,58]
[null,59]
[null,60]
["９組",1]
[null,2]
[null,3]
[null,4]
[null,5]
[null,6]
[null,7]
[null,8]
[null,9]
[null,10]
[null,11]
[null,12]
[null,13]
[null,14]
[null,15]
[null,16]
[null,17]
[null,18]
[null,19]
[null,20]
[null,21]
[null,22]
[null,23]
[null,24]
[null,25]
[null,26]
[null,27]
[null,28]
[null,29]
[null,30]
[null,31]
[null,32]
[null,33]
[null,34]
[null,35]
[null,36]
[null,37]
[null,38]
[null,39]
[null,40]
[null,41]
[null,42]
[null,43]
[null,44]
[null,45]
[null,46]
[null,47]
[null,48]
[null,49]
[null,50]
[null,51]
[null,52]
[null,53]
[null,54]
[null,55]
[null,56]
[null,57]
[null,58]
[null,59]
[null,60]

{"sheet":"ＳＮＳ学年票","index":3,"n_rows":103,"n_cols":52,"rows_kept":103,"cut":false,"hidden":false,"merged":[[6,50,6,53],[18,41,18,42],[18,48,18,49],[24,41,24,42],[24,48,24,49],[6,48,11,49],[11,34,11,35],[12,20,12,30],[12,31,12,32],[12,34,12,35],[13,20,13,30],[13,31,13,32],[6,31,6,32],[7,31,7,32],[8,31,8,32],[6,34,6,35],[7,34,7,35],[8,34,8,35],[9,34,9,35],[6,20,6,30],[7,20,7,30],[8,20,8,30],[9,20,9,30],[9,31,9,32],[6,43,6,46],[24,1,24,2],[24,3,24,19],[30,1,30,2],[30,3,30,19],[12,1,12,2],[12,3,12,19],[18,1,18,2],[18,3,18,19],[6,1,6,2],[6,3,6,19],[11,31,11,32],[24,31,24,32],[24,34,24,35],[17,31,17,32],[17,34,17,35],[18,20,18,30],[20,20,20,30],[20,31,20,32],[20,34,20,35],[21,20,21,30],[21,31,21,32],[21,34,21,35],[18,31,18,32],[2,19,2,22],[2,23,2,24],[2,25,2,26],[2,28,2,29],[2,31,2,32],[35,2,36,12],[37,2,38,2],[77,2,78,10],[6,41,11,42],[5,34,5,35],[5,31,5,32],[13,34,13,35],[14,20,14,30],[14,31,14,32],[14,34,14,35],[15,20,15,30],[15,31,15,32],[15,34,15,35],[3,2,4,10],[4,21,4,27],[4,30,4,36],[23,31,23,32],[23,34,23,35],[24,20,24,30],[0,0,0,36],[1,5,1,6],[1,9,1,10],[1,11,1,17],[1,19,1,22],[1,23,1,24],[1,25,1,26],[1,28,1,29],[1,31,1,32],[1,1,1,2],[18,34,18,35],[19,20,19,30],[19,31,19,32],[19,34,19,35],[27,20,27,30],[27,31,27,32],[27,34,27,35],[29,31,29,32],[29,34,29,35],[25,20,25,30],[25,31,25,32],[25,34,25,35],[26,20,26,30],[26,31,26,32],[26,34,26,35],[32,20,32,30],[32,31,32,32],[32,34,32,35],[33,20,33,30],[33,31,33,32],[33,34,33,35],[30,20,30,30],[30,31,30,32],[30,34,30,35],[31,20,31,30],[31,31,31,32],[31,34,31,35],[98,28,98,30],[99,28,99,30],[100,28,100,30],[101,28,101,30],[102,28,102,30],[97,28,97,30],[97,22,97,24],[98,22,98,24],[99,22,99,24],[100,22,100,24],[101,22,101,24],[102,22,102,24],[97,25,97,27],[98,25,98,27],[99,25,99,27],[100,25,100,27],[101,25,101,27],[102,25,102,27]]}
["「ＳＮＳチェックシート」　－学年票－"]
[null,{"$f":"基礎データ!G3","v":0},null,"年",null,null,null,null,null,null,null,null,null,null,null,null,null,null,null,"１回目",null,null,null,"令和",null,{"$f":"基礎データ!H5","v":"元"},null,"年",{"$f":"基礎データ!J5","v":4},null,"月",{"$f":"基礎データ!L5","v":4},null,"日"]
[null,null,null,null,null,null,null,null,null,null,null,null,null,null,null,null,null,null,null,"２回目",null,null,null,"令和",null,{"$f":"基礎データ!H6","v":2},null,"年",{"$f":"基礎データ!J6","v":5},null,"月",{"$f":"基礎データ!L6","v":5},null,"日"]
[null,null,"【　ＳＮＳの利用実態　】"]
[]
[null,null,null,null,null,null,null,null,null,null,null,null,null,null,null,null,null,null,null,null,null,null,null,null,null,null,null,null,null,null,null,"１回目",null,null,"２回目"]
[null,"（１）",null,"ＳＮＳの１週間当たりの利用日数",null,null,null,null,null,null,null,null,null,null,null,null,null,null,null,null,"ほぼ毎日使う",null,null,null,null,null,null,null,null,null,null,{"$f":"'1回目　集計表'!$E546","v":0},null,"⇒",{"$f":"'2回目　集計表'!$E546","v":0}]
[null,null,null,null,null,null,null,null,null,null,null,null,null,null,null,null,null,null,null,null,"ときどき使う（週に３～４日くらい）",null,null,null,null,null,null,null,null,null,null,{"$f":"'1回目　集計表'!$E547","v":0},null,"⇒",{"$f":"'2回目　集計表'!$E547","v":0}]
[null,null,null,null,null,null,null,null,null,null,null,null,null,null,null,null,null,null,null,null,"あまり使わない（週に１～２日くらい）",null,null,null,null,null,null,null,null,null,null,{"$f":"'1回目　集計表'!$E548","v":0},null,"⇒",{"$f":"'2回目　集計表'!$E548","v":0}]
[null,null,null,null,null,null,null,null,null,null,null,null,null,null,null,null,null,null,null,null,"ほとんど使わない（月に数回）",null,null,null,null,null,null,null,null,null,null,{"$f":"'1回目　集計表'!$E549","v":0},null,"⇒",{"$f":"'2回目　集計表'!$E549","v":0}]
[]
[null,null,null,null,null,null,null,null,null,null,null,null,null,null,null,null,null,null,null,null,null,null,null,null,null,null,null,null,null,null,null,"１回目",null,null,"２回目"]
[null,"（２）",null,"平日にＳＮＳを利用する時間",null,null,null,null,null,null,null,null,null,null,null,null,null,null,null,null,"２時間以上",null,null,null,null,null,null,null,null,null,null,{"$f":"'1回目　集計表'!$F546","v":0},null,"⇒",{"$f":"'2回目　集計表'!$F546","v":0}]
[null,null,null,null,null,null,null,null,null,null,null,null,null,null,null,null,null,null,null,null,"１～２時間未満",null,null,null,null,null,null,null,null,null,null,{"$f":"'1回目　集計表'!$F547","v":0},null,"⇒",{"$f":"'2回目　集計表'!$F547","v":0}]
[null,null,null,null,null,null,null,null,null,null,null,null,null,null,null,null,null,null,null,null,"３０分～１時間未満",null,null,null,null,null,null,null,null,null,null,{"$f":"'1回目　集計表'!$F548","v":0},null,"⇒",{"$f":"'2回目　集計表'!$F548","v":0}]
[null,null,null,null,null,null,null,null,null,null,null,null,null,null,null,null,null,null,null,null,"３０分未満",null,null,null,null,null,null,null,null,null,null,{"$f":"'1回目　集計表'!$F549","v":0},null,"⇒",{"$f":"'2回目　集計表'!$F549","v":0}]
[]
[null,null,null,null,null,null,null,null,null,null,null,null,null,null,null,null,null,null,null,null,null,null,null,null,null,null,null,null,null,null,null,"１回目",null,null,"２回目"]
[null,"（３）",null,"ＳＮＳを使い始めてからの経験年月",null,null,null,null,null,null,null,null,null,null,null,null,null,null,null,null,"２年以上",null,null,null,null,null,null,null,null,null,null,{"$f":"'1回目　集計表'!$G546","v":0},null,"⇒",{"$f":"'2回目　集計表'!$G546","v":0}]
[null,null,null,null,null,null,null,null,null,null,null,null,null,null,null,null,null,null,null,null,"１～２年",null,null,null,null,null,null,null,null,null,null,{"$f":"'1回目　集計表'!$G547","v":0},null,"⇒",{"$f":"'2回目　集計表'!$G547","v":0}]
[null,null,null,null,null,null,null,null,null,null,null,null,null,null,null,null,null,null,null,null,"６か月～１年",null,null,null,null,null,null,null,null,null,null,{"$f":"'1回目　集計表'!$G548","v":0},null,"⇒",{"$f":"'2回目　集計表'!$G548","v":0}]
[null,null,null,null,null,null,null,null,null,null,null,null,null,null,null,null,null,null,null,null,"６か月未満",null,null,null,null,null,null,null,null,null,null,{"$f":"'1回目　集計表'!$G549","v":0},null,"⇒",{"$f":"'2回目　集計表'!$G549","v":0}]
[]
[null,null,null,null,null,null,null,null,null,null,null,null,null,null,null,null,null,null,null,null,null,null,null,null,null,null,null,null,null,null,null,"１回目",null,null,"２回目"]
[null,"（４）",null,"ＳＮＳでメッセージのやり取りをするグループの数",null,null,null,null,null,null,null,null,null,null,null,null,null,null,null,null,"21グループ以上",null,null,null,null,null,null,null,null,null,null,{"$f":"'1回目　集計表'!$H546","v":0},null,"⇒",{"$f":"'2回目　集計表'!$H546","v":0}]
[null,null,null,null,null,null,null,null,null,null,null,null,null,null,null,null,null,null,null,null,"11～20グループ",null,null,null,null,null,null,null,null,null,null,{"$f":"'1回目　集計表'!$H547","v":0},null,"⇒",{"$f":"'2回目　集計表'!$H547","v":0}]
[null,null,null,null,null,null,null,null,null,null,null,null,null,null,null,null,null,null,null,null,"１～１０グループ",null,null,null,null,null,null,null,null,null,null,{"$f":"'1回目　集計表'!$H548","v":0},null,"⇒",{"$f":"'2回目　集計表'!$H548","v":0}]
[null,null,null,null,null,null,null,null,null,null,null,null,null,null,null,null,null,null,null,null,"グループチャットはしない",null,null,null,null,null,null,null,null,null,null,{"$f":"'1回目　集計表'!$H549","v":0},null,"⇒",{"$f":"'2回目　集計表'!$H549","v":0}]
[]
[null,null,null,null,null,null,null,null,null,null,null,null,null,null,null,null,null,null,null,null,null,null,null,null,null,null,null,null,null,null,null,"１回目",null,null,"２回目"]
[null,"（５）",null,"普段，利用しているＳＮＳのメンバー",null,null,null,null,null,null,null,null,null,null,null,null,null,null,null,null,"ほとんどが学校外のメンバー",null,null,null,null,null,null,null,null,null,null,{"$f":"'1回目　集計表'!$I546","v":0},null,"⇒",{"$f":"'2回目　集計表'!$I546","v":0}]
[null,null,null,null,null,null,null,null,null,null,null,null,null,null,null,null,null,null,null,null,"学校外のメンバーが半分より多い",null,null,null,null,null,null,null,null,null,null,{"$f":"'1回目　集計表'!$I547","v":0},null,"⇒",{"$f":"'2回目　集計表'!$I547","v":0}]
[null,null,null,null,null,null,null,null,null,null,null,null,null,null,null,null,null,null,null,null,"学校内のメンバーが半分より多い",null,null,null,null,null,null,null,null,null,null,{"$f":"'1回目　集計表'!$I548","v":0},null,"⇒",{"$f":"'2回目　集計表'!$I548","v":0}]
[null,null,null,null,null,null,null,null,null,null,null,null,null,null,null,null,null,null,null,null,"ほとんどが学校内のメンバー",null,null,null,null,null,null,null,null,null,null,{"$f":"'1回目　集計表'!$I549","v":0},null,"⇒",{"$f":"'2回目　集計表'!$I549","v":0}]
[]
[null,null,"【　ＳＮＳ観点の下位項目　】"]
[]
[]
[]
[null,null,null,null,null,null,null,null,null,null,null,null,null,null,null,null,null,null,null,null,null,null,null,null,null,null,null,null,null,null,null,null,null,null,null,null,null,null,null,null,null,null,null,null,"『ＳＮＳをめぐるトラブル』への備えの意識\n"]
[null,null,null,null,null,null,null,null,null,null,null,null,null,null,null,null,null,null,null,null,null,null,null,null,null,null,null,null,null,null,null,null,null,null,null,null,null,null,null,null,null,null,null,null,"質問項目","１回目","２回目","横軸","Y軸"]
[null,null,null,null,null,null,null,null,null,null,null,null,null,null,null,null,null,null,null,null,null,null,null,null,null,null,null,null,null,null,null,null,null,null,null,null,null,null,null,null,null,null,null,null,"（６）",{"$f":"'1回目　集計表'!$J551","v":{"$error":"#DIV/0!"}},{"$f":"'2回目　集計表'!$J551","v":{"$error":"#DIV/0!"}},0,4]
[null,null,null,null,null,null,null,null,null,null,null,null,null,null,null,null,null,null,null,null,null,null,null,null,null,null,null,null,null,null,null,null,null,null,null,null,null,null,null,null,null,null,null,null,"（７）",{"$f":"'1回目　集計表'!$K551","v":{"$error":"#DIV/0!"}},{"$f":"'2回目　集計表'!$K551","v":{"$error":"#DIV/0!"}},0,3]
[null,null,null,null,null,null,null,null,null,null,null,null,null,null,null,null,null,null,null,null,null,null,null,null,null,null,null,null,null,null,null,null,null,null,null,null,null,null,null,null,null,null,null,null,"（８）",{"$f":"'1回目　集計表'!$L551","v":{"$error":"#DIV/0!"}},{"$f":"'2回目　集計表'!$L551","v":{"$error":"#DIV/0!"}},0,2]
[null,null,null,null,null,null,null,null,null,null,null,null,null,null,null,null,null,null,null,null,null,null,null,null,null,null,null,null,null,null,null,null,null,null,null,null,null,null,null,null,null,null,null,null,"（９）",{"$f":"'1回目　集計表'!$M551","v":{"$error":"#DIV/0!"}},{"$f":"'2回目　集計表'!$M551","v":{"$error":"#DIV/0!"}},0,1]
[null,null,null,null,null,null,null,null,null,null,null,null,null,null,null,null,null,null,null,null,null,null,null,null,null,null,null,null,null,null,null,null,null,null,null,null,null,null,null,null,null,null,null,null,null,{"$f":"SUM(AT42:AT45)","v":{"$error":"#DIV/0!"}},{"$f":"SUM(AU42:AU45)","v":{"$error":"#DIV/0!"}}]
[null,null,null,null,null,null,null,null,null,null,null,null,null,null,null,null,null,null,null,null,null,null,null,null,null,null,null,null,null,null,null,null,null,null,null,null,null,null,null,null,null,null,null,null,"『ＳＮＳをめぐるトラブル』への発生後の対処の意識"]
[null,null,null,null,null,null,null,null,null,null,null,null,null,null,null,null,null,null,null,null,null,null,null,null,null,null,null,null,null,null,null,null,null,null,null,null,null,null,null,null,null,null,null,null,"質問項目","１回目","2回目","横軸","Y軸"]
[null,null,null,null,null,null,null,null,null,null,null,null,null,null,null,null,null,null,null,null,null,null,null,null,null,null,null,null,null,null,null,null,null,null,null,null,null,null,null,null,null,null,null,null,"（10）",{"$f":"'1回目　集計表'!$N551","v":{"$error":"#DIV/0!"}},{"$f":"'2回目　集計表'!$N551","v":{"$error":"#DIV/0!"}},0,2]
[null,null,null,null,null,null,null,null,null,null,null,null,null,null,null,null,null,null,null,null,null,null,null,null,null,null,null,null,null,null,null,null,null,null,null,null,null,null,null,null,null,null,null,null,"（11）",{"$f":"'1回目　集計表'!$O551","v":{"$error":"#DIV/0!"}},{"$f":"'2回目　集計表'!$O551","v":{"$error":"#DIV/0!"}},0,1]
[null,null,null,null,null,null,null,null,null,null,null,null,null,null,null,null,null,null,null,null,null,null,null,null,null,null,null,null,null,null,null,null,null,null,null,null,null,null,null,null,null,null,null,null,null,{"$f":"SUM(AT49:AT50)","v":{"$error":"#DIV/0!"}},{"$f":"SUM(AU49:AU50)","v":{"$error":"#DIV/0!"}}]
[null,null,null,null,null,null,null,null,null,null,null,null,null,null,null,null,null,null,null,null,null,null,null,null,null,null,null,null,null,null,null,null,null,null,null,null,null,null,null,null,null,null,null,null,"『ＳＮＳ利用のやりとり』の親和性\n"]
[null,null,null,null,null,null,null,null,null,null,null,null,null,null,null,null,null,null,null,null,null,null,null,null,null,null,null,null,null,null,null,null,null,null,null,null,null,null,null,null,null,null,null,null,"質問項目","１回目","2回目","横軸","Y軸"]
[null,null,null,null,null,null,null,null,null,null,null,null,null,null,null,null,null,null,null,null,null,null,null,null,null,null,null,null,null,null,null,null,null,null,null,null,null,null,null,null,null,null,null,null,"（12）",{"$f":"'1回目　集計表'!$P551","v":{"$error":"#DIV/0!"}},{"$f":"'2回目　集計表'!$P551","v":{"$error":"#DIV/0!"}},0,3]
[null,null,null,null,null,null,null,null,null,null,null,null,null,null,null,null,null,null,null,null,null,null,null,null,null,null,null,null,null,null,null,null,null,null,null,null,null,null,null,null,null,null,null,null,"（13）",{"$f":"'1回目　集計表'!$Q551","v":{"$error":"#DIV/0!"}},{"$f":"'2回目　集計表'!$Q551","v":{"$error":"#DIV/0!"}},0,2]
[null,null,null,null,null,null,null,null,null,null,null,null,null,null,null,null,null,null,null,null,null,null,null,null,null,null,null,null,null,null,null,null,null,null,null,null,null,null,null,null,null,null,null,null,"（14）",{"$f":"'1回目　集計表'!$R551","v":{"$error":"#DIV/0!"}},{"$f":"'2回目　集計表'!$R551","v":{"$error":"#DIV/0!"}},0,1]
[null,null,null,null,null,null,null,null,null,null,null,null,null,null,null,null,null,null,null,null,null,null,null,null,null,null,null,null,null,null,null,null,null,null,null,null,null,null,null,null,null,null,null,null,null,{"$f":"SUM(AT54:AT56)","v":{"$error":"#DIV/0!"}},{"$f":"SUM(AU54:AU56)","v":{"$error":"#DIV/0!"}}]
[]
[null,null,null,null,null,null,null,null,null,null,null,null,null,null,null,null,null,null,null,null,null,null,null,null,null,null,null,null,null,null,null,null,null,null,null,null,null,null,null,null,null,null,null,null,"『即レス』の悩み・負担感"]
[null,null,null,null,null,null,null,null,null,null,null,null,null,null,null,null,null,null,null,null,null,null,null,null,null,null,null,null,null,null,null,null,null,null,null,null,null,null,null,null,null,null,null,null,"質問項目","１回目","2回目","横軸","Y軸"]
[null,null,null,null,null,null,null,null,null,null,null,null,null,null,null,null,null,null,null,null,null,null,null,null,null,null,null,null,null,null,null,null,null,null,null,null,null,null,null,null,null,null,null,null,"（15）",{"$f":"'1回目　集計表'!$S551","v":{"$error":"#DIV/0!"}},{"$f":"'2回目　集計表'!$S551","v":{"$error":"#DIV/0!"}},0,2]
[null,null,null,null,null,null,null,null,null,null,null,null,null,null,null,null,null,null,null,null,null,null,null,null,null,null,null,null,null,null,null,null,null,null,null,null,null,null,null,null,null,null,null,null,"（16）",{"$f":"'1回目　集計表'!$T551","v":{"$error":"#DIV/0!"}},{"$f":"'2回目　集計表'!$T551","v":{"$error":"#DIV/0!"}},0,1]
[null,null,null,null,null,null,null,null,null,null,null,null,null,null,null,null,null,null,null,null,null,null,null,null,null,null,null,null,null,null,null,null,null,null,null,null,null,null,null,null,null,null,null,null,null,{"$f":"SUM(AT61:AT62)","v":{"$error":"#DIV/0!"}},{"$f":"SUM(AU61:AU62)","v":{"$error":"#DIV/0!"}}]
[]
[null,null,null,null,null,null,null,null,null,null,null,null,null,null,null,null,null,null,null,null,null,null,null,null,null,null,null,null,null,null,null,null,null,null,null,null,null,null,null,null,null,null,null,null,"『やりとりをする相手との関係性』の悩み・負担感\n"]
[null,null,null,null,null,null,null,null,null,null,null,null,null,null,null,null,null,null,null,null,null,null,null,null,null,null,null,null,null,null,null,null,null,null,null,null,null,null,null,null,null,null,null,null,"質問項目","１回目","2回目","横軸","Y軸"]
[null,null,null,null,null,null,null,null,null,null,null,null,null,null,null,null,null,null,null,null,null,null,null,null,null,null,null,null,null,null,null,null,null,null,null,null,null,null,null,null,null,null,null,null,"（17）",{"$f":"'1回目　集計表'!$U551","v":{"$error":"#DIV/0!"}},{"$f":"'2回目　集計表'!$U551","v":{"$error":"#DIV/0!"}},0,4]
[null,null,null,null,null,null,null,null,null,null,null,null,null,null,null,null,null,null,null,null,null,null,null,null,null,null,null,null,null,null,null,null,null,null,null,null,null,null,null,null,null,null,null,null,"（18）",{"$f":"'1回目　集計表'!$V551","v":{"$error":"#DIV/0!"}},{"$f":"'2回目　集計表'!$V551","v":{"$error":"#DIV/0!"}},0,3]
[null,null,null,null,null,null,null,null,null,null,null,null,null,null,null,null,null,null,null,null,null,null,null,null,null,null,null,null,null,null,null,null,null,null,null,null,null,null,null,null,null,null,null,null,"（19）",{"$f":"'1回目　集計表'!$W551","v":{"$error":"#DIV/0!"}},{"$f":"'2回目　集計表'!$W551","v":{"$error":"#DIV/0!"}},0,2]
[null,null,null,null,null,null,null,null,null,null,null,null,null,null,null,null,null,null,null,null,null,null,null,null,null,null,null,null,null,null,null,null,null,null,null,null,null,null,null,null,null,null,null,null,"（20）",{"$f":"'1回目　集計表'!$X551","v":{"$error":"#DIV/0!"}},{"$f":"'2回目　集計表'!$X551","v":{"$error":"#DIV/0!"}},0,1]
[null,null,null,null,null,null,null,null,null,null,null,null,null,null,null,null,null,null,null,null,null,null,null,null,null,null,null,null,null,null,null,null,null,null,null,null,null,null,null,null,null,null,null,null,null,{"$f":"SUM(AT67:AT70)","v":{"$error":"#DIV/0!"}},{"$f":"SUM(AU67:AU70)","v":{"$error":"#DIV/0!"}}]
[]
[]
[]
[]
[]
[]
[null,null,"【　ＳＮＳ観点の意識　】"]
[]
[]
[]
[null,null,null,null,null,null,null,null,null,null,null,null,null,null,null,null,null,null,null,null,null,null,null,null,null,null,null,null,null,null,null,null,null,null,null,null,null,null,null,null,null,null,null,null,"１回目","２回目"]
[null,null,null,null,null,null,null,null,null,null,null,null,null,null,null,null,null,null,null,null,null,null,null,null,null,null,null,null,null,null,null,null,null,null,null,null,null,null,"『ＳＮＳをめぐるトラブル』への備えの意識",null,null,null,null,null,{"$f":"AT46/16","v":{"$error":"#DIV/0!"}},{"$f":"AU46/16","v":{"$error":"#DIV/0!"}},1,1,1,null,14,14]
[null,null,null,null,null,null,null,null,null,null,null,null,null,null,null,null,null,null,null,null,null,null,null,null,null,null,null,null,null,null,null,null,null,null,null,null,null,null,"『ＳＮＳをめぐるトラブル』への発生後の対処の意識",null,null,null,null,null,{"$f":"AT51/8","v":{"$error":"#DIV/0!"}},{"$f":"AU51/8","v":{"$error":"#DIV/0!"}},1,1,1,null,13,11]
[null,null,null,null,null,null,null,null,null,null,null,null,null,null,null,null,null,null,null,null,null,null,null,null,null,null,null,null,null,null,null,null,null,null,null,null,null,null,"『ＳＮＳ利用のやりとり』の親和性",null,null,null,null,null,{"$f":"AT57/12","v":{"$error":"#DIV/0!"}},{"$f":"AU57/12","v":{"$error":"#DIV/0!"}},1,1,1,null,13,11]
[null,null,null,null,null,null,null,null,null,null,null,null,null,null,null,null,null,null,null,null,null,null,null,null,null,null,null,null,null,null,null,null,null,null,null,null,null,null,"『即レス』の悩み・負担感",null,null,null,null,null,{"$f":"AT63/8","v":{"$error":"#DIV/0!"}},{"$f":"AU63/8","v":{"$error":"#DIV/0!"}},1,1,1,null,13,11]
[null,null,null,null,null,null,null,null,null,null,null,null,null,null,null,null,null,null,null,null,null,null,null,null,null,null,null,null,null,null,null,null,null,null,null,null,null,null,"『やりとりをする相手との関係性』の 悩み・負担感",null,null,null,null,null,{"$f":"AT71/16","v":{"$error":"#DIV/0!"}},{"$f":"AU71/16","v":{"$error":"#DIV/0!"}},1,1,1,null,15,13]
[]
[]
[]
[]
[]
[]
[]
[]
[]
[]
[null,null,null,null,null,null,null,null,null,null,null,null,null,null,null,null,null,null,null,null,null,null,"１回目",null,null,"２回目",null,null,"増減"]
[null,null,"『ＳＮＳをめぐるトラブル』への備えの意識",null,null,null,null,null,null,null,null,null,null,null,null,null,null,null,null,null,null,null,{"$f":"AS83","v":{"$error":"#DIV/0!"}},null,null,{"$f":"AT83","v":{"$error":"#DIV/0!"}},null,null,{"$f":"Z99-W99","v":{"$error":"#DIV/0!"}}]
[null,null,"『ＳＮＳをめぐるトラブル』への発生後の対処の意識",null,null,null,null,null,null,null,null,null,null,null,null,null,null,null,null,null,null,null,{"$f":"AS84","v":{"$error":"#DIV/0!"}},null,null,{"$f":"AT84","v":{"$error":"#DIV/0!"}},null,null,{"$f":"Z100-W100","v":{"$error":"#DIV/0!"}}]
[null,null,"『ＳＮＳ利用のやりとり』の親和性",null,null,null,null,null,null,null,null,null,null,null,null,null,null,null,null,null,null,null,{"$f":"AS85","v":{"$error":"#DIV/0!"}},null,null,{"$f":"AT85","v":{"$error":"#DIV/0!"}},null,null,{"$error":"#DIV/0!"}]
[null,null,"『即レス』の悩み・負担感",null,null,null,null,null,null,null,null,null,null,null,null,null,null,null,null,null,null,null,{"$f":"AS86","v":{"$error":"#DIV/0!"}},null,null,{"$f":"AT86","v":{"$error":"#DIV/0!"}},null,null,{"$error":"#DIV/0!"},null,null,null,null,null,null,null,null,null,null,null,null,null,null,null,null,null,null,null,null,null,0]
[null,null,"『やりとりをする相手との関係性』の 悩み・負担感",null,null,null,null,null,null,null,null,null,null,null,null,null,null,null,null,null,null,null,{"$f":"AS87","v":{"$error":"#DIV/0!"}},null,null,{"$f":"AT87","v":{"$error":"#DIV/0!"}},null,null,{"$error":"#DIV/0!"},null,null,null,null,null,null,null,null,null,null,null,null,null,null,null,null,null,null,null,null,null,0]

{"sheet":"ＳＮＳ学年票（度数分布表）","index":4,"n_rows":207,"n_cols":52,"rows_kept":207,"cut":false,"hidden":false,"merged":[[195,1,195,20],[61,40,62,40],[62,23,63,24],[65,40,66,40],[75,1,75,22],[75,23,75,24],[75,30,75,31],[65,1,65,22],[65,23,65,24],[65,30,65,31],[66,1,66,22],[66,23,66,24],[66,30,66,31],[70,1,70,35],[71,23,71,28],[71,30,71,35],[71,40,72,40],[72,23,73,24],[72,25,72,28],[72,30,73,31],[72,32,72,35],[64,30,64,31],[79,1,79,35],[80,23,80,28],[53,40,54,40],[55,40,56,40],[60,1,60,35],[61,23,61,28],[61,30,61,35],[125,1,125,20],[143,1,143,14],[168,1,168,11],[0,0,0,36],[41,32,41,35],[40,30,40,35],[41,25,41,28],[40,23,40,28],[39,1,39,35],[31,20,31,30],[31,31,31,32],[31,34,31,35],[32,20,32,30],[32,31,32,32],[32,34,32,35],[27,20,27,30],[27,31,27,32],[27,34,27,35],[29,31,29,32],[1,13,1,14],[1,16,1,19],[1,23,1,24],[1,26,1,27],[1,29,1,30],[18,41,18,42],[25,20,25,30],[25,31,25,32],[25,34,25,35],[21,34,21,35],[23,31,23,32],[23,34,23,35],[24,34,24,35],[4,21,4,27],[4,30,4,36],[5,31,5,32],[5,34,5,35],[2,16,2,19],[2,23,2,24],[2,26,2,27],[2,29,2,30],[14,20,14,30],[14,31,14,32],[21,20,21,30],[6,50,6,53],[7,20,7,30],[7,31,7,32],[7,34,7,35],[8,20,8,30],[8,31,8,32],[8,34,8,35],[9,20,9,30],[43,1,43,22],[24,41,24,42],[24,48,24,49],[6,41,11,42],[9,31,9,32],[9,34,9,35],[11,31,11,32],[11,34,11,35],[6,43,6,46],[6,48,11,49],[18,48,18,49],[19,20,19,30],[19,31,19,32],[19,34,19,35],[20,20,20,30],[20,31,20,32],[40,40,41,40],[42,40,43,40],[44,40,45,40],[46,40,47,40],[48,2,49,13],[51,1,51,35],[52,23,52,28],[52,30,52,35],[46,1,46,22],[45,23,45,24],[45,30,45,31],[44,23,44,24],[44,30,44,31],[44,1,44,22],[46,23,46,24],[6,1,6,2],[12,1,12,2],[12,31,12,32],[13,20,13,30],[13,31,13,32],[12,20,12,30],[30,1,30,2],[30,20,30,30],[30,31,30,32],[26,31,26,32],[6,3,6,19],[6,20,6,30],[18,1,18,2],[18,20,18,30],[18,31,18,32],[3,2,4,11],[38,1,38,18],[69,1,69,11],[6,31,6,32],[15,20,15,30],[15,31,15,32],[17,31,17,32],[12,3,12,19],[33,20,33,30],[33,31,33,32],[46,30,46,31],[53,32,53,35],[55,1,55,22],[6,34,6,35],[14,34,14,35],[15,34,15,35],[17,34,17,35],[12,34,12,35],[13,34,13,35],[56,1,56,22],[29,34,29,35],[30,34,30,35],[26,20,26,30],[20,34,20,35],[18,34,18,35],[59,1,59,14],[56,23,56,24],[56,30,56,31],[53,23,54,24],[53,25,53,28],[53,30,54,31],[18,3,18,18],[24,3,25,18],[30,3,31,18],[50,1,50,20],[24,1,24,2],[24,20,24,30],[24,31,24,32],[36,2,37,13],[33,34,33,35],[26,34,26,35],[21,31,21,32],[45,1,45,22],[41,23,42,24],[41,30,42,31],[43,23,43,24],[43,30,43,31],[93,1,93,18],[84,1,84,22],[84,23,84,24],[84,30,84,31],[84,40,85,40],[85,1,85,22],[85,23,85,24],[85,30,85,31],[86,1,86,22],[86,23,86,24],[86,30,86,31],[86,40,87,40],[91,6,91,13],[91,16,91,19],[91,23,91,24],[91,26,91,27],[91,29,91,30],[90,16,90,19],[90,23,90,24],[90,26,90,27],[90,29,90,30],[1,1,1,2],[81,23,82,24],[81,25,81,28],[81,30,82,31],[81,32,81,35],[82,40,83,40],[83,1,83,22],[83,23,83,24],[83,30,83,31],[55,23,55,24],[55,30,55,31],[73,40,74,40],[74,1,74,22],[74,23,74,24],[74,30,74,31],[62,25,62,28],[62,30,63,31],[62,32,62,35],[63,40,64,40],[64,1,64,22],[64,23,64,24],[80,30,80,35],[78,1,78,20],[80,40,81,40]]}
["「ＳＮＳチェックシート」－学年票（度数分布）－"]
[null,{"$f":"基礎データ!G3","v":0},null,"年",null,null,null,null,null,null,null,null,null,null,null,null,"１回目",null,null,null,null,"令和",null,{"$f":"基礎データ!H5","v":"元"},null,"年",{"$f":"基礎データ!J5","v":4},null,"月",{"$f":"基礎データ!L5","v":4},null,"日"]
[null,null,null,null,null,null,null,null,null,null,null,null,null,null,null,null,"２回目",null,null,null,null,"令和",null,{"$f":"基礎データ!H6","v":2},null,"年",{"$f":"基礎データ!J6","v":5},null,"月",{"$f":"基礎データ!L6","v":5},null,"日"]
[null,null,"【　ＳＮＳの利用実態　】"]
[]
[null,null,null,null,null,null,null,null,null,null,null,null,null,null,null,null,null,null,null,null,null,null,null,null,null,null,null,null,null,null,null,"１回目",null,null,"２回目"]
[null,"（１）",null,"ＳＮＳの１週間当たりの利用日数",null,null,null,null,null,null,null,null,null,null,null,null,null,null,null,null,"ほぼ毎日使う",null,null,null,null,null,null,null,null,null,null,{"$f":"'1回目　集計表'!$E546","v":0},null,"⇒",{"$f":"'2回目　集計表'!$E546","v":0}]
[null,null,null,null,null,null,null,null,null,null,null,null,null,null,null,null,null,null,null,null,"ときどき使う（週に３～４日くらい）",null,null,null,null,null,null,null,null,null,null,{"$f":"'1回目　集計表'!$E547","v":0},null,"⇒",{"$f":"'2回目　集計表'!$E547","v":0}]
[null,null,null,null,null,null,null,null,null,null,null,null,null,null,null,null,null,null,null,null,"あまり使わない（週に１～２日くらい）",null,null,null,null,null,null,null,null,null,null,{"$f":"'1回目　集計表'!$E548","v":0},null,"⇒",{"$f":"'2回目　集計表'!$E548","v":0}]
[null,null,null,null,null,null,null,null,null,null,null,null,null,null,null,null,null,null,null,null,"ほとんど使わない（月に数回）",null,null,null,null,null,null,null,null,null,null,{"$f":"'1回目　集計表'!$E549","v":0},null,"⇒",{"$f":"'2回目　集計表'!$E549","v":0}]
[]
[null,null,null,null,null,null,null,null,null,null,null,null,null,null,null,null,null,null,null,null,null,null,null,null,null,null,null,null,null,null,null,"１回目",null,null,"２回目"]
[null,"（２）",null,"平日にＳＮＳを利用する時間",null,null,null,null,null,null,null,null,null,null,null,null,null,null,null,null,{"$f":"ＳＮＳ学年票!U13","v":"２時間以上"},null,null,null,null,null,null,null,null,null,null,{"$f":"'1回目　集計表'!$F546","v":0},null,"⇒",{"$f":"'2回目　集計表'!$F546","v":0}]
[null,null,null,null,null,null,null,null,null,null,null,null,null,null,null,null,null,null,null,null,{"$f":"ＳＮＳ学年票!U14","v":"１～２時間未満"},null,null,null,null,null,null,null,null,null,null,{"$f":"'1回目　集計表'!$F547","v":0},null,"⇒",{"$f":"'2回目　集計表'!$F547","v":0}]
[null,null,null,null,null,null,null,null,null,null,null,null,null,null,null,null,null,null,null,null,{"$f":"ＳＮＳ学年票!U15","v":"３０分～１時間未満"},null,null,null,null,null,null,null,null,null,null,{"$f":"'1回目　集計表'!$F548","v":0},null,"⇒",{"$f":"'2回目　集計表'!$F548","v":0}]
[null,null,null,null,null,null,null,null,null,null,null,null,null,null,null,null,null,null,null,null,{"$f":"ＳＮＳ学年票!U16","v":"３０分未満"},null,null,null,null,null,null,null,null,null,null,{"$f":"'1回目　集計表'!$F549","v":0},null,"⇒",{"$f":"'2回目　集計表'!$F549","v":0}]
[]
[null,null,null,null,null,null,null,null,null,null,null,null,null,null,null,null,null,null,null,null,null,null,null,null,null,null,null,null,null,null,null,"１回目",null,null,"２回目"]
[null,"（３）",null,"ＳＮＳを使い始めてからの経験年月",null,null,null,null,null,null,null,null,null,null,null,null,null,null,null,null,{"$f":"ＳＮＳ学年票!U19","v":"２年以上"},null,null,null,null,null,null,null,null,null,null,{"$f":"'1回目　集計表'!$G546","v":0},null,"⇒",{"$f":"'2回目　集計表'!$G546","v":0}]
[null,null,null,null,null,null,null,null,null,null,null,null,null,null,null,null,null,null,null,null,{"$f":"ＳＮＳ学年票!U20","v":"１～２年"},null,null,null,null,null,null,null,null,null,null,{"$f":"'1回目　集計表'!$G547","v":0},null,"⇒",{"$f":"'2回目　集計表'!$G547","v":0}]
[null,null,null,null,null,null,null,null,null,null,null,null,null,null,null,null,null,null,null,null,{"$f":"ＳＮＳ学年票!U21","v":"６か月～１年"},null,null,null,null,null,null,null,null,null,null,{"$f":"'1回目　集計表'!$G548","v":0},null,"⇒",{"$f":"'2回目　集計表'!$G548","v":0}]
[null,null,null,null,null,null,null,null,null,null,null,null,null,null,null,null,null,null,null,null,{"$f":"ＳＮＳ学年票!U22","v":"６か月未満"},null,null,null,null,null,null,null,null,null,null,{"$f":"'1回目　集計表'!$G549","v":0},null,"⇒",{"$f":"'2回目　集計表'!$G549","v":0}]
[]
[null,null,null,null,null,null,null,null,null,null,null,null,null,null,null,null,null,null,null,null,null,null,null,null,null,null,null,null,null,null,null,"１回目",null,null,"２回目"]
[null,"（４）",null,"ＳＮＳでメッセージのやり取りをするグループの数",null,null,null,null,null,null,null,null,null,null,null,null,null,null,null,null,"21グループ以上",null,null,null,null,null,null,null,null,null,null,{"$f":"'1回目　集計表'!$H546","v":0},null,"⇒",{"$f":"'2回目　集計表'!$H546","v":0}]
[null,null,null,null,null,null,null,null,null,null,null,null,null,null,null,null,null,null,null,null,"11～20グループ",null,null,null,null,null,null,null,null,null,null,{"$f":"'1回目　集計表'!$H547","v":0},null,"⇒",{"$f":"'2回目　集計表'!$H547","v":0}]
[null,null,null,null,null,null,null,null,null,null,null,null,null,null,null,null,null,null,null,null,"１～１０グループ",null,null,null,null,null,null,null,null,null,null,{"$f":"'1回目　集計表'!$H548","v":0},null,"⇒",{"$f":"'2回目　集計表'!$H548","v":0}]
[null,null,null,null,null,null,null,null,null,null,null,null,null,null,null,null,null,null,null,null,"グループチャットはしない",null,null,null,null,null,null,null,null,null,null,{"$f":"'1回目　集計表'!$H549","v":0},null,"⇒",{"$f":"'2回目　集計表'!$H549","v":0}]
[]
[null,null,null,null,null,null,null,null,null,null,null,null,null,null,null,null,null,null,null,null,null,null,null,null,null,null,null,null,null,null,null,"１回目",null,null,"２回目"]
[null,"（５）",null,"普段，利用しているＳＮＳのメンバー",null,null,null,null,null,null,null,null,null,null,null,null,null,null,null,null,"ほとんどが学校外のメンバー",null,null,null,null,null,null,null,null,null,null,{"$f":"'1回目　集計表'!$I546","v":0},null,"⇒",{"$f":"'2回目　集計表'!$I546","v":0}]
[null,null,null,null,null,null,null,null,null,null,null,null,null,null,null,null,null,null,null,null,"学校外のメンバーが半分より多い",null,null,null,null,null,null,null,null,null,null,{"$f":"'1回目　集計表'!$I547","v":0},null,"⇒",{"$f":"'2回目　集計表'!$I547","v":0}]
[null,null,null,null,null,null,null,null,null,null,null,null,null,null,null,null,null,null,null,null,"学校内のメンバーが半分より多い",null,null,null,null,null,null,null,null,null,null,{"$f":"'1回目　集計表'!$I548","v":0},null,"⇒",{"$f":"'2回目　集計表'!$I548","v":0}]
[null,null,null,null,null,null,null,null,null,null,null,null,null,null,null,null,null,null,null,null,"ほとんどが学校内のメンバー",null,null,null,null,null,null,null,null,null,null,{"$f":"'1回目　集計表'!$I549","v":0},null,"⇒",{"$f":"'2回目　集計表'!$I549","v":0}]
[]
[]
[null,null,"【　ＳＮＳ観点の下位項目　】"]
[]
[null,"■『ＳＮＳをめぐるトラブル』への備えの意識"]
[null,"４とても気をつけている　３気をつけている　２あまり気をつけていない　１全く気をつけていない",null,null,null,null,null,null,null,null,null,null,null,null,null,null,null,null,null,null,null,null,null,null,null,null,null,null,null,null,null,null,null,null,null,null,null,null,null,null,null,null,"とても気をつけている","気をつけている","気をつけていない","全く気をつけていない",null,4,3,2,1]
[null,null,null,null,null,null,null,null,null,null,null,null,null,null,null,null,null,null,null,null,null,null,null,"１回目の調査",null,null,null,null,null,null,"２回目の調査",null,null,null,null,null,null,null,null,null,6,"1回目",{"$f":"AV41/$AZ41","v":{"$error":"#DIV/0!"}},{"$error":"#DIV/0!"},{"$error":"#DIV/0!"},{"$error":"#DIV/0!"},"1回目",{"$f":"'1回目　集計表'!$J$546","v":0},{"$f":"'1回目　集計表'!$J$547","v":0},{"$f":"'1回目　集計表'!$J$548","v":0},{"$f":"'1回目　集計表'!$J$549","v":0},{"$f":"SUM(AV41:AY41)","v":0}]
[null,null,null,null,null,null,null,null,null,null,null,null,null,null,null,null,null,null,null,null,null,null,null,"平均",null,"度数分布（人）",null,null,null,null,"平均",null,"度数分布（人）",null,null,null,null,null,null,null,null,"2回目",{"$error":"#DIV/0!"},{"$error":"#DIV/0!"},{"$error":"#DIV/0!"},{"$error":"#DIV/0!"},"2回目",{"$f":"'2回目　集計表'!$J$546","v":0},{"$f":"'2回目　集計表'!$J$547","v":0},{"$f":"'2回目　集計表'!$J$548","v":0},{"$f":"'2回目　集計表'!$J$549","v":0},{"$f":"SUM(AV42:AY42)","v":0}]
[null,null,null,null,null,null,null,null,null,null,null,null,null,null,null,null,null,null,null,null,null,null,null,null,null,4,3,2,1,null,null,null,4,3,2,1,null,null,null,null,7,"1回目",{"$error":"#DIV/0!"},{"$error":"#DIV/0!"},{"$error":"#DIV/0!"},{"$error":"#DIV/0!"},"1回目",{"$f":"'1回目　集計表'!$K$546","v":0},{"$f":"'1回目　集計表'!$K$547","v":0},{"$f":"'1回目　集計表'!$K$548","v":0},{"$f":"'1回目　集計表'!$K$549","v":0},0]
[null,"（６）住所や電話番号，メールアドレス，顔がうつっている\n 　 写真のことなどの情報は出さないようにしている。",null,null,null,null,null,null,null,null,null,null,null,null,null,null,null,null,null,null,null,null,null,{"$f":"'1回目　集計表'!$J551","v":{"$error":"#DIV/0!"}},null,{"$f":"AV41","v":0},{"$f":"AW41","v":0},{"$f":"AX41","v":0},{"$f":"AY41","v":0},"⇒",{"$f":"IF(ISERROR('2回目　集計表'!$J551),0,'2回目　集計表'!$J551)","v":0},null,{"$f":"AV42","v":0},{"$f":"AW42","v":0},{"$f":"AX42","v":0},{"$f":"AY42","v":0},null,null,null,null,null,"2回目",{"$error":"#DIV/0!"},{"$error":"#DIV/0!"},{"$error":"#DIV/0!"},{"$error":"#DIV/0!"},"2回目",{"$f":"'2回目　集計表'!$K$546","v":0},{"$f":"'2回目　集計表'!$K$547","v":0},{"$f":"'2回目　集計表'!$K$548","v":0},{"$f":"'2回目　集計表'!$K$549","v":0},0]
[null,"（７）相手が不愉快な気持ちになるような内容は書かないよ\n　　うに気を付けている。",null,null,null,null,null,null,null,null,null,null,null,null,null,null,null,null,null,null,null,null,null,{"$f":"'1回目　集計表'!$K551","v":{"$error":"#DIV/0!"}},null,{"$f":"AV43","v":0},{"$f":"AW43","v":0},{"$f":"AX43","v":0},{"$f":"AY43","v":0},"⇒",{"$f":"IF(ISERROR('2回目　集計表'!$K551),0,'2回目　集計表'!$K551)","v":0},null,{"$f":"AV44","v":0},{"$f":"AW44","v":0},{"$f":"AX44","v":0},{"$f":"AY44","v":0},null,null,null,null,8,"1回目",{"$error":"#DIV/0!"},{"$error":"#DIV/0!"},{"$error":"#DIV/0!"},{"$error":"#DIV/0!"},"1回目",{"$f":"'1回目　集計表'!$L$546","v":0},{"$f":"'1回目　集計表'!$L$547","v":0},{"$f":"'1回目　集計表'!$L$548","v":0},{"$f":"'1回目　集計表'!$L$549","v":0},0]
[null,"（８）メッセージを送る前に問題がないか確認をするように\n　　気を付けている。",null,null,null,null,null,null,null,null,null,null,null,null,null,null,null,null,null,null,null,null,null,{"$f":"'1回目　集計表'!$L551","v":{"$error":"#DIV/0!"}},null,{"$f":"AV45","v":0},{"$f":"AW45","v":0},{"$f":"AX45","v":0},{"$f":"AY45","v":0},"⇒",{"$f":"IF(ISERROR('2回目　集計表'!$L551),0,'2回目　集計表'!$L551)","v":0},null,{"$f":"AV46","v":0},{"$f":"AW46","v":0},{"$f":"AX46","v":0},{"$f":"AY46","v":0},null,null,null,null,null,"2回目",{"$error":"#DIV/0!"},{"$error":"#DIV/0!"},{"$error":"#DIV/0!"},{"$error":"#DIV/0!"},"2回目",{"$f":"'2回目　集計表'!$L$546","v":0},{"$f":"'2回目　集計表'!$L$547","v":0},{"$f":"'2回目　集計表'!$L$548","v":0},{"$f":"'2回目　集計表'!$L$549","v":0},0]
[null,"（９）長時間にならないようにメッセージのやり取りをする\n　　ように気を付けている。",null,null,null,null,null,null,null,null,null,null,null,null,null,null,null,null,null,null,null,null,null,{"$f":"'1回目　集計表'!$M551","v":{"$error":"#DIV/0!"}},null,{"$f":"AV47","v":0},{"$f":"AW47","v":0},{"$f":"AX47","v":0},{"$f":"AY47","v":0},"⇒",{"$f":"IF(ISERROR('2回目　集計表'!$M551),0,'2回目　集計表'!$M551)","v":0},null,{"$f":"AV48","v":0},{"$f":"AW48","v":0},{"$f":"AX48","v":0},{"$f":"AY48","v":0},null,null,null,null,9,"1回目",{"$f":"AV47/$AZ47","v":{"$error":"#DIV/0!"}},{"$error":"#DIV/0!"},{"$error":"#DIV/0!"},{"$error":"#DIV/0!"},"1回目",{"$f":"'1回目　集計表'!$M$546","v":0},{"$f":"'1回目　集計表'!$M$547","v":0},{"$f":"'1回目　集計表'!$M$548","v":0},{"$f":"'1回目　集計表'!$M$549","v":0},0]
[null,null,null,null,null,null,null,null,null,null,null,null,null,null,null,null,null,null,null,null,null,null,null,null,null,null,null,null,null,null,null,null,null,null,null,null,null,null,null,null,null,"2回目",{"$error":"#DIV/0!"},{"$error":"#DIV/0!"},{"$error":"#DIV/0!"},{"$error":"#DIV/0!"},"2回目",{"$f":"'2回目　集計表'!$M$546","v":0},{"$f":"'2回目　集計表'!$M$547","v":0},{"$f":"'2回目　集計表'!$M$548","v":0},{"$f":"'2回目　集計表'!$M$549","v":0},0]
[null,null,"【　ＳＮＳ観点の下位項目　】"]
[]
[null,"■『ＳＮＳをめぐるトラブル』への発生後の対処の意識"]
[null,"４とても気をつけている　３気をつけている　２あまり気をつけていない　１全く気をつけていない"]
[null,null,null,null,null,null,null,null,null,null,null,null,null,null,null,null,null,null,null,null,null,null,null,"１回目の調査",null,null,null,null,null,null,"２回目の調査",null,null,null,null,null,null,null,null,null,null,null,4,3,2,1,null,4,3,2,1]
[null,null,null,null,null,null,null,null,null,null,null,null,null,null,null,null,null,null,null,null,null,null,null,"平均",null,"度数分布（人）",null,null,null,null,"平均",null,"度数分布（人）",null,null,null,null,null,null,null,10,"1回目",{"$f":"AV54/$AZ54","v":{"$error":"#DIV/0!"}},{"$error":"#DIV/0!"},{"$error":"#DIV/0!"},{"$error":"#DIV/0!"},"1回目",{"$f":"'1回目　集計表'!$N$546","v":0},{"$f":"'1回目　集計表'!$N$547","v":0},{"$f":"'1回目　集計表'!$N$548","v":0},{"$f":"'1回目　集計表'!$N$549","v":0},{"$f":"SUM(AV54:AY54)","v":0}]
[null,null,null,null,null,null,null,null,null,null,null,null,null,null,null,null,null,null,null,null,null,null,null,null,null,4,3,2,1,null,null,null,4,3,2,1,null,null,null,null,null,"2回目",{"$error":"#DIV/0!"},{"$error":"#DIV/0!"},{"$error":"#DIV/0!"},{"$error":"#DIV/0!"},"2回目",{"$f":"'2回目　集計表'!$N$546","v":0},{"$f":"'2回目　集計表'!$N$547","v":0},{"$f":"'2回目　集計表'!$N$548","v":0},{"$f":"'2回目　集計表'!$N$549","v":0},{"$f":"SUM(AV55:AY55)","v":0}]
[null,"（10）メッセージのやり取りで嫌な気持ちになったときは，\n　　直接，会話で気持ちを伝えるように気を付けている。",null,null,null,null,null,null,null,null,null,null,null,null,null,null,null,null,null,null,null,null,null,{"$f":"'1回目　集計表'!$N551","v":{"$error":"#DIV/0!"}},null,{"$f":"AV54","v":0},{"$f":"AW54","v":0},{"$f":"AX54","v":0},{"$f":"AY54","v":0},"⇒",{"$f":"IF(ISERROR('2回目　集計表'!$N551),0,'2回目　集計表'!$N551)","v":0},null,{"$f":"AV55","v":0},{"$f":"AW55","v":0},{"$f":"AX55","v":0},{"$f":"AY55","v":0},null,null,null,null,11,"1回目",{"$error":"#DIV/0!"},{"$error":"#DIV/0!"},{"$error":"#DIV/0!"},{"$error":"#DIV/0!"},"1回目",{"$f":"'1回目　集計表'!$O$546","v":0},{"$f":"'1回目　集計表'!$O$547","v":0},{"$f":"'1回目　集計表'!$O$548","v":0},{"$f":"'1回目　集計表'!$O$549","v":0},{"$f":"SUM(AV56:AY56)","v":0}]
[null,"（11）友達とのやり取りで困ったときは親や先生に相談す\n　　るようにしている。",null,null,null,null,null,null,null,null,null,null,null,null,null,null,null,null,null,null,null,null,null,{"$f":"'1回目　集計表'!$O551","v":{"$error":"#DIV/0!"}},null,{"$f":"AV56","v":0},{"$f":"AW56","v":0},{"$f":"AX56","v":0},{"$f":"AY56","v":0},"⇒",{"$f":"IF(ISERROR('2回目　集計表'!$O551),0,'2回目　集計表'!$O551)","v":0},null,{"$f":"AV57","v":0},{"$f":"AW57","v":0},{"$f":"AX57","v":0},{"$f":"AY57","v":0},null,null,null,null,null,"2回目",{"$error":"#DIV/0!"},{"$error":"#DIV/0!"},{"$error":"#DIV/0!"},{"$error":"#DIV/0!"},"2回目",{"$f":"'2回目　集計表'!$O$546","v":0},{"$f":"'2回目　集計表'!$O$547","v":0},{"$f":"'2回目　集計表'!$O$548","v":0},{"$f":"'2回目　集計表'!$O$549","v":0},{"$f":"SUM(AV57:AY57)","v":0}]
[]
[]
[null,"■『ＳＮＳ利用のやり取り』の親和性"]
[null,"４全く思わない　３あまり思わない　２思う　１とても思う",null,null,null,null,null,null,null,null,null,null,null,null,null,null,null,null,null,null,null,null,null,null,null,null,null,null,null,null,null,null,null,null,null,null,null,null,null,null,null,null,4,3,2,1,null,4,3,2,1]
[null,null,null,null,null,null,null,null,null,null,null,null,null,null,null,null,null,null,null,null,null,null,null,"１回目の調査",null,null,null,null,null,null,"２回目の調査",null,null,null,null,null,null,null,null,null,12,"1回目",{"$f":"AV62/$AZ62","v":{"$error":"#DIV/0!"}},{"$error":"#DIV/0!"},{"$error":"#DIV/0!"},{"$error":"#DIV/0!"},"1回目",{"$f":"'1回目　集計表'!$P$546","v":0},{"$f":"'1回目　集計表'!$P$547","v":0},{"$f":"'1回目　集計表'!$P$548","v":0},{"$f":"'1回目　集計表'!$P$549","v":0},{"$f":"SUM(AV62:AY62)","v":0}]
[null,null,null,null,null,null,null,null,null,null,null,null,null,null,null,null,null,null,null,null,null,null,null,"平均",null,"度数分布（人）",null,null,null,null,"平均",null,"度数分布（人）",null,null,null,null,null,null,null,null,"2回目",{"$error":"#DIV/0!"},{"$error":"#DIV/0!"},{"$error":"#DIV/0!"},{"$error":"#DIV/0!"},"2回目",{"$f":"'2回目　集計表'!$P$546","v":0},{"$f":"'2回目　集計表'!$P$547","v":0},{"$f":"'2回目　集計表'!$P$548","v":0},{"$f":"'2回目　集計表'!$P$549","v":0},0]
[null,null,null,null,null,null,null,null,null,null,null,null,null,null,null,null,null,null,null,null,null,null,null,null,null,4,3,2,1,null,null,null,4,3,2,1,null,null,null,null,13,"1回目",{"$error":"#DIV/0!"},{"$error":"#DIV/0!"},{"$error":"#DIV/0!"},{"$error":"#DIV/0!"},"1回目",{"$f":"'1回目　集計表'!$Q$546","v":0},{"$f":"'1回目　集計表'!$Q$547","v":0},{"$f":"'1回目　集計表'!$Q$548","v":0},{"$f":"'1回目　集計表'!$Q$549","v":0},0]
[null,"（12）友達とメールやチャットでのやり取りを通じて，友\n　　達の気持ちを確かめることができる。",null,null,null,null,null,null,null,null,null,null,null,null,null,null,null,null,null,null,null,null,null,{"$f":"'1回目　集計表'!$P551","v":{"$error":"#DIV/0!"}},null,{"$f":"AV62","v":0},{"$f":"AW62","v":0},{"$f":"AX62","v":0},{"$f":"AY62","v":0},"⇒",{"$f":"IF(ISERROR('2回目　集計表'!$P551),0,'2回目　集計表'!$P551)","v":0},null,{"$f":"AV63","v":0},{"$f":"AW63","v":0},{"$f":"AX63","v":0},{"$f":"AY63","v":0},null,null,null,null,null,"2回目",{"$error":"#DIV/0!"},{"$error":"#DIV/0!"},{"$error":"#DIV/0!"},{"$error":"#DIV/0!"},"2回目",{"$f":"'2回目　集計表'!$Q$546","v":0},{"$f":"'2回目　集計表'!$Q$547","v":0},{"$f":"'2回目　集計表'!$Q$548","v":0},{"$f":"'2回目　集計表'!$Q$549","v":0},{"$f":"SUM(AV65:AY65)","v":0}]
[null,"（13）友達とメールやチャットでメッセージのやり取りを\n　　することで，友達とのつながりをもてる。",null,null,null,null,null,null,null,null,null,null,null,null,null,null,null,null,null,null,null,null,null,{"$f":"'1回目　集計表'!$Q551","v":{"$error":"#DIV/0!"}},null,{"$f":"AV64","v":0},{"$f":"AW64","v":0},{"$f":"AX64","v":0},{"$f":"AY64","v":0},"⇒",{"$f":"IF(ISERROR('2回目　集計表'!$Q551),0,'2回目　集計表'!$Q551)","v":0},null,{"$f":"AV65","v":0},{"$f":"AW65","v":0},{"$f":"AX65","v":0},{"$f":"AY65","v":0},null,null,null,null,14,"1回目",{"$f":"AV66/$AZ66","v":{"$error":"#DIV/0!"}},{"$error":"#DIV/0!"},{"$error":"#DIV/0!"},{"$error":"#DIV/0!"},"1回目",{"$f":"'1回目　集計表'!$R$546","v":0},{"$f":"'1回目　集計表'!$R$547","v":0},{"$f":"'1回目　集計表'!$R$548","v":0},{"$f":"'1回目　集計表'!$R$549","v":0},0]
[null,"（14）友達とメールやチャットでメッセージのやり取りを\n　　してさびしさをすぐにまぎらわすことができる。",null,null,null,null,null,null,null,null,null,null,null,null,null,null,null,null,null,null,null,null,null,{"$f":"'1回目　集計表'!$R551","v":{"$error":"#DIV/0!"}},null,{"$f":"AV66","v":0},{"$f":"AW66","v":0},{"$f":"AX66","v":0},{"$f":"AY66","v":0},"⇒",{"$f":"IF(ISERROR('2回目　集計表'!$R551),0,'2回目　集計表'!$R551)","v":0},null,{"$f":"AV67","v":0},{"$f":"AW67","v":0},{"$f":"AX67","v":0},{"$f":"AY67","v":0},null,null,null,null,null,"2回目",{"$error":"#DIV/0!"},{"$error":"#DIV/0!"},{"$error":"#DIV/0!"},{"$error":"#DIV/0!"},"2回目",{"$f":"'2回目　集計表'!$R$546","v":0},{"$f":"'2回目　集計表'!$R$547","v":0},{"$f":"'2回目　集計表'!$R$548","v":0},{"$f":"'2回目　集計表'!$R$549","v":0},0]
[]
[]
[null,"■『即レス』の悩み・負担感"]
[null,"４全く思わない　３あまり思わない　２思う　１とても思う",null,null,null,null,null,null,null,null,null,null,null,null,null,null,null,null,null,null,null,null,null,null,null,null,null,null,null,null,null,null,null,null,null,null,null,null,null,null,null,null,4,3,2,1,null,4,3,2,1]
[null,null,null,null,null,null,null,null,null,null,null,null,null,null,null,null,null,null,null,null,null,null,null,"１回目の調査",null,null,null,null,null,null,"２回目の調査",null,null,null,null,null,null,null,null,null,15,"1回目",{"$f":"AV72/$AZ72","v":{"$error":"#DIV/0!"}},{"$error":"#DIV/0!"},{"$error":"#DIV/0!"},{"$error":"#DIV/0!"},"1回目",{"$f":"'1回目　集計表'!$S$546","v":0},{"$f":"'1回目　集計表'!$S$547","v":0},{"$f":"'1回目　集計表'!$S$548","v":0},{"$f":"'1回目　集計表'!$S$549","v":0},{"$f":"SUM(AV72:AY72)","v":0}]
[null,null,null,null,null,null,null,null,null,null,null,null,null,null,null,null,null,null,null,null,null,null,null,"平均",null,"度数分布（人）",null,null,null,null,"平均",null,"度数分布（人）",null,null,null,null,null,null,null,null,"2回目",{"$error":"#DIV/0!"},{"$error":"#DIV/0!"},{"$error":"#DIV/0!"},{"$error":"#DIV/0!"},"2回目",{"$f":"'2回目　集計表'!$S$546","v":0},{"$f":"'2回目　集計表'!$S$547","v":0},{"$f":"'2回目　集計表'!$S$548","v":0},{"$f":"'2回目　集計表'!$S$549","v":0},{"$f":"SUM(AV73:AY73)","v":0}]
[null,null,null,null,null,null,null,null,null,null,null,null,null,null,null,null,null,null,null,null,null,null,null,null,null,4,3,2,1,null,null,null,4,3,2,1,null,null,null,null,16,"1回目",{"$error":"#DIV/0!"},{"$error":"#DIV/0!"},{"$error":"#DIV/0!"},{"$error":"#DIV/0!"},"1回目",{"$f":"'1回目　集計表'!$T$546","v":0},{"$f":"'1回目　集計表'!$T$547","v":0},{"$f":"'1回目　集計表'!$T$548","v":0},{"$f":"'1回目　集計表'!$T$549","v":0},{"$f":"SUM(AV74:AY74)","v":0}]
[null,"（15）メッセージがきたらすぐに返事をすることで悩んで\n　　いる。",null,null,null,null,null,null,null,null,null,null,null,null,null,null,null,null,null,null,null,null,null,{"$f":"'1回目　集計表'!$S551","v":{"$error":"#DIV/0!"}},null,{"$f":"AV72","v":0},{"$f":"AW72","v":0},{"$f":"AX72","v":0},{"$f":"AY72","v":0},"⇒",{"$f":"IF(ISERROR('2回目　集計表'!$S551),0,'2回目　集計表'!$S551)","v":0},null,{"$f":"AV73","v":0},{"$f":"AW73","v":0},{"$f":"AX73","v":0},{"$f":"AY73","v":0},null,null,null,null,null,"2回目",{"$error":"#DIV/0!"},{"$error":"#DIV/0!"},{"$error":"#DIV/0!"},{"$error":"#DIV/0!"},"2回目",{"$f":"'2回目　集計表'!$T$546","v":0},{"$f":"'2回目　集計表'!$T$547","v":0},{"$f":"'2回目　集計表'!$T$548","v":0},{"$f":"'2回目　集計表'!$T$549","v":0},{"$f":"SUM(AV75:AY75)","v":0}]
[null,"（16）友達から送られてくるメッセージをチェックするこ\n　　とで悩んでいる。",null,null,null,null,null,null,null,null,null,null,null,null,null,null,null,null,null,null,null,null,null,{"$f":"'1回目　集計表'!$T551","v":{"$error":"#DIV/0!"}},null,{"$f":"AV74","v":0},{"$f":"AW74","v":0},{"$f":"AX74","v":0},{"$f":"AY74","v":0},"⇒",{"$f":"IF(ISERROR('2回目　集計表'!$T551),0,'2回目　集計表'!$T551)","v":0},null,{"$f":"AV75","v":0},{"$f":"AW75","v":0},{"$f":"AX75","v":0},{"$f":"AY75","v":0}]
[]
[]
[null,"■『やり取りをする相手との関係性』の悩み・負担感"]
[null,"４全く思わない　３あまり思わない　２思う　１とても思う",null,null,null,null,null,null,null,null,null,null,null,null,null,null,null,null,null,null,null,null,null,null,null,null,null,null,null,null,null,null,null,null,null,null,null,null,null,null,null,null,4,3,2,1,null,4,3,2,1]
[null,null,null,null,null,null,null,null,null,null,null,null,null,null,null,null,null,null,null,null,null,null,null,"１回目の調査",null,null,null,null,null,null,"２回目の調査",null,null,null,null,null,null,null,null,null,17,"1回目",{"$f":"AV81/$AZ81","v":{"$error":"#DIV/0!"}},{"$f":"AW81/$AZ81","v":{"$error":"#DIV/0!"}},{"$f":"AX81/$AZ81","v":{"$error":"#DIV/0!"}},{"$f":"AY81/$AZ81","v":{"$error":"#DIV/0!"}},"1回目",{"$f":"'1回目　集計表'!$U$546","v":0},{"$f":"'1回目　集計表'!$U$547","v":0},{"$f":"'1回目　集計表'!$U$548","v":0},{"$f":"'1回目　集計表'!$U$549","v":0},{"$f":"SUM(AV81:AY81)","v":0}]
[null,null,null,null,null,null,null,null,null,null,null,null,null,null,null,null,null,null,null,null,null,null,null,"平均",null,"度数分布（人）",null,null,null,null,"平均",null,"度数分布（人）",null,null,null,null,null,null,null,null,"2回目",{"$error":"#DIV/0!"},{"$error":"#DIV/0!"},{"$error":"#DIV/0!"},{"$error":"#DIV/0!"},"2回目",{"$f":"'2回目　集計表'!$U$546","v":0},{"$f":"'2回目　集計表'!$U$547","v":0},{"$f":"'2回目　集計表'!$U$548","v":0},{"$f":"'2回目　集計表'!$U$549","v":0},{"$f":"SUM(AV82:AY82)","v":0}]
[null," ",null,null,null,null,null,null,null,null,null,null,null,null,null,null,null,null,null,null,null,null,null,null,null,4,3,2,1,null,null,null,4,3,2,1,null,null,null,null,18,"1回目",{"$error":"#DIV/0!"},{"$error":"#DIV/0!"},{"$error":"#DIV/0!"},{"$error":"#DIV/0!"},"1回目",{"$f":"'1回目　集計表'!$V$546","v":0},{"$f":"'1回目　集計表'!$V$547","v":0},{"$f":"'1回目　集計表'!$V$548","v":0},{"$f":"'1回目　集計表'!$V$549","v":0},0]
[null,"（17）メッセージのやり取りをなかなか終わらせられない\n　　ことで悩んでいる。",null,null,null,null,null,null,null,null,null,null,null,null,null,null,null,null,null,null,null,null,null,{"$f":"'1回目　集計表'!$U551","v":{"$error":"#DIV/0!"}},null,{"$f":"AV81","v":0},{"$f":"AW81","v":0},{"$f":"AX81","v":0},{"$f":"AY81","v":0},"⇒",{"$f":"IF(ISERROR('2回目　集計表'!$U551),0,'2回目　集計表'!$U551)","v":0},null,{"$f":"AV82","v":0},{"$f":"AW82","v":0},{"$f":"AX82","v":0},{"$f":"AY82","v":0},null,null,null,null,null,"2回目",{"$error":"#DIV/0!"},{"$error":"#DIV/0!"},{"$error":"#DIV/0!"},{"$error":"#DIV/0!"},"2回目",{"$f":"'2回目　集計表'!$V$546","v":0},{"$f":"'2回目　集計表'!$V$547","v":0},{"$f":"'2回目　集計表'!$V$548","v":0},{"$f":"'2回目　集計表'!$V$549","v":0},0]
[null,"（18）自分が送信したメッセージに対する反応がないこと\n　　で悩んでいる。",null,null,null,null,null,null,null,null,null,null,null,null,null,null,null,null,null,null,null,null,null,{"$f":"'1回目　集計表'!$V551","v":{"$error":"#DIV/0!"}},null,{"$f":"AV83","v":0},{"$f":"AW83","v":0},{"$f":"AX83","v":0},{"$f":"AY83","v":0},"⇒",{"$f":"IF(ISERROR('2回目　集計表'!$V551),0,'2回目　集計表'!$V551)","v":0},null,{"$f":"AV84","v":0},{"$f":"AW84","v":0},{"$f":"AX84","v":0},{"$f":"AY84","v":0},null,null,null,null,19,"1回目",{"$error":"#DIV/0!"},{"$error":"#DIV/0!"},{"$error":"#DIV/0!"},{"$error":"#DIV/0!"},"1回目",{"$f":"'1回目　集計表'!$W$546","v":0},{"$f":"'1回目　集計表'!$W$547","v":0},{"$f":"'1回目　集計表'!$W$548","v":0},{"$f":"'1回目　集計表'!$W$549","v":0},0]
[null,"（19）メッセージの送信後，「あの伝え方でよかったのだ\n　　ろうか」と悩んでいる。",null,null,null,null,null,null,null,null,null,null,null,null,null,null,null,null,null,null,null,null,null,{"$f":"'1回目　集計表'!$W551","v":{"$error":"#DIV/0!"}},null,{"$f":"AV85","v":0},{"$f":"AW85","v":0},{"$f":"AX85","v":0},{"$f":"AY85","v":0},"⇒",{"$f":"IF(ISERROR('2回目　集計表'!$W551),0,'2回目　集計表'!$W551)","v":0},null,{"$f":"AV86","v":0},{"$f":"AW86","v":0},{"$f":"AX86","v":0},{"$f":"AY86","v":0},null,null,null,null,null,"2回目",{"$error":"#DIV/0!"},{"$error":"#DIV/0!"},{"$error":"#DIV/0!"},{"$error":"#DIV/0!"},"2回目",{"$f":"'2回目　集計表'!$W$546","v":0},{"$f":"'2回目　集計表'!$W$547","v":0},{"$f":"'2回目　集計表'!$W$548","v":0},{"$f":"'2回目　集計表'!$W$549","v":0},0]
[null,"（20）知らないところで自分のことについてメッセージの\n　　やり取りをしているのではないかと心配になる。",null,null,null,null,null,null,null,null,null,null,null,null,null,null,null,null,null,null,null,null,null,{"$f":"'1回目　集計表'!$X551","v":{"$error":"#DIV/0!"}},null,{"$f":"AV87","v":0},{"$f":"AW87","v":0},{"$f":"AX87","v":0},{"$f":"AY87","v":0},"⇒",{"$f":"IF(ISERROR('2回目　集計表'!$X551),0,'2回目　集計表'!$X551)","v":0},null,{"$f":"AV88","v":0},{"$f":"AW88","v":0},{"$f":"AX88","v":0},{"$f":"AY88","v":0},null,null,null,null,20,"1回目",{"$error":"#DIV/0!"},{"$error":"#DIV/0!"},{"$error":"#DIV/0!"},{"$error":"#DIV/0!"},"1回目",{"$f":"'1回目　集計表'!$X$546","v":0},{"$f":"'1回目　集計表'!$X$547","v":0},{"$f":"'1回目　集計表'!$X$548","v":0},{"$f":"'1回目　集計表'!$X$549","v":0},0]
[null,null,null,null,null,null,null,null,null,null,null,null,null,null,null,null,null,null,null,null,null,null,null,null,null,null,null,null,null,null,null,null,null,null,null,null,null,null,null,null,null,"2回目",{"$error":"#DIV/0!"},{"$error":"#DIV/0!"},{"$error":"#DIV/0!"},{"$error":"#DIV/0!"},"2回目",{"$f":"'2回目　集計表'!$X$546","v":0},{"$f":"'2回目　集計表'!$X$547","v":0},{"$f":"'2回目　集計表'!$X$548","v":0},{"$f":"'2回目　集計表'!$X$549","v":0},0]
[]
[]
[null,null,null,null,null,null,null,null,null,null,null,null,null,null,null,null,"１回目",null,null,null,null,"平成",null,{"$f":"X2","v":"元"},null,"年",{"$f":"AA2","v":4},null,"月",{"$f":"AD2","v":4},null,"日"]
[null,{"$f":"B2","v":0},"年",null,null,null,"観点別グラフデータ",null,null,null,null,null,null,null,null,null,"２回目",null,null,null,null,"平成",null,{"$f":"X3","v":2},null,"年",{"$f":"AA3","v":5},null,"月",{"$f":"AD3","v":5},null,"日"]
[]
[null,"■『ＳＮＳをめぐるトラブル』への備えの意識",null,null,null,null,null,null,null,null,null,null,null,null,null,null,null,null,null,null,null,null,null,null,null,null,null,null,null,null,null,null,null,null,null,null,null,null,null,null,null,null,"とても気をつけている","気をつけている","気をつけていない","全く気をつけていない",null,4,3,2,1]
[null,null,null,null,null,null,null,null,null,null,null,null,null,null,null,null,null,null,null,null,null,null,null,null,null,null,null,null,null,null,null,null,null,null,null,null,null,null,null,null,6,"1回目",{"$f":"AV95/$AZ95","v":{"$error":"#DIV/0!"}},{"$error":"#DIV/0!"},{"$error":"#DIV/0!"},{"$error":"#DIV/0!"},"1回目",{"$f":"'1回目　集計表'!$J$546","v":0},{"$f":"'1回目　集計表'!$J$547","v":0},{"$f":"'1回目　集計表'!$J$548","v":0},{"$f":"'1回目　集計表'!$J$549","v":0},{"$f":"SUM(AV95:AY95)","v":0}]
[null,null,null,null,null,null,null,null,null,null,null,null,null,null,null,null,null,null,null,null,null,null,null,null,null,null,null,null,null,null,null,null,null,null,null,null,null,null,null,null,null,"2回目",{"$error":"#DIV/0!"},{"$error":"#DIV/0!"},{"$error":"#DIV/0!"},{"$error":"#DIV/0!"},"2回目",{"$f":"'2回目　集計表'!$J$546","v":0},{"$f":"'2回目　集計表'!$J$547","v":0},{"$f":"'2回目　集計表'!$J$548","v":0},{"$f":"'2回目　集計表'!$J$549","v":0},{"$f":"SUM(AV96:AY96)","v":0}]
[null,null,null,null,null,null,null,null,null,null,null,null,null,null,null,null,null,null,null,null,null,null,null,null,null,null,null,null,null,null,null,null,null,null,null,null,null,null,null,null,null,null,"とても気をつけている","気をつけている","気をつけていない","全く気をつけていない",null,4,3,2,1]
[null,null,null,null,null,null,null,null,null,null,null,null,null,null,null,null,null,null,null,null,null,null,null,null,null,null,null,null,null,null,null,null,null,null,null,null,null,null,null,null,7,"1回目",{"$f":"AV98/$AZ98","v":{"$error":"#DIV/0!"}},{"$error":"#DIV/0!"},{"$error":"#DIV/0!"},{"$error":"#DIV/0!"},"1回目",{"$f":"'1回目　集計表'!$K$546","v":0},{"$f":"'1回目　集計表'!$K$547","v":0},{"$f":"'1回目　集計表'!$K$548","v":0},{"$f":"'1回目　集計表'!$K$549","v":0},{"$f":"SUM(AV98:AY98)","v":0}]
[null,null,null,null,null,null,null,null,null,null,null,null,null,null,null,null,null,null,null,null,null,null,null,null,null,null,null,null,null,null,null,null,null,null,null,null,null,null,null,null,null,"2回目",{"$error":"#DIV/0!"},{"$error":"#DIV/0!"},{"$error":"#DIV/0!"},{"$error":"#DIV/0!"},"2回目",{"$f":"'2回目　集計表'!$K$546","v":0},{"$f":"'2回目　集計表'!$K$547","v":0},{"$f":"'2回目　集計表'!$K$548","v":0},{"$f":"'2回目　集計表'!$K$549","v":0},{"$f":"SUM(AV99:AY99)","v":0}]
[null,null,null,null,null,null,null,null,null,null,null,null,null,null,null,null,null,null,null,null,null,null,null,null,null,null,null,null,null,null,null,null,null,null,null,null,null,null,null,null,null,null,"とても気をつけている","気をつけている","気をつけていない","全く気をつけていない",null,4,3,2,1]
[null,null,null,null,null,null,null,null,null,null,null,null,null,null,null,null,null,null,null,null,null,null,null,null,null,null,null,null,null,null,null,null,null,null,null,null,null,null,null,null,8,"1回目",{"$f":"AV101/$AZ101","v":{"$error":"#DIV/0!"}},{"$error":"#DIV/0!"},{"$error":"#DIV/0!"},{"$error":"#DIV/0!"},"1回目",{"$f":"'1回目　集計表'!$L$546","v":0},{"$f":"'1回目　集計表'!$L$547","v":0},{"$f":"'1回目　集計表'!$L$548","v":0},{"$f":"'1回目　集計表'!$L$549","v":0},{"$f":"SUM(AV101:AY101)","v":0}]
[null,null,null,null,null,null,null,null,null,null,null,null,null,null,null,null,null,null,null,null,null,null,null,null,null,null,null,null,null,null,null,null,null,null,null,null,null,null,null,null,null,"2回目",{"$error":"#DIV/0!"},{"$error":"#DIV/0!"},{"$error":"#DIV/0!"},{"$error":"#DIV/0!"},"2回目",{"$f":"'2回目　集計表'!$L$546","v":0},{"$f":"'2回目　集計表'!$L$547","v":0},{"$f":"'2回目　集計表'!$L$548","v":0},{"$f":"'2回目　集計表'!$L$549","v":0},{"$f":"SUM(AV102:AY102)","v":0}]
[null,null,null,null,null,null,null,null,null,null,null,null,null,null,null,null,null,null,null,null,null,null,null,null,null,null,null,null,null,null,null,null,null,null,null,null,null,null,null,null,null,null,"とても気をつけている","気をつけている","気をつけていない","全く気をつけていない",null,4,3,2,1]
[null,null,null,null,null,null,null,null,null,null,null,null,null,null,null,null,null,null,null,null,null,null,null,null,null,null,null,null,null,null,null,null,null,null,null,null,null,null,null,null,9,"1回目",{"$f":"AV104/$AZ104","v":{"$error":"#DIV/0!"}},{"$error":"#DIV/0!"},{"$error":"#DIV/0!"},{"$error":"#DIV/0!"},"1回目",{"$f":"'1回目　集計表'!$M$546","v":0},{"$f":"'1回目　集計表'!$M$547","v":0},{"$f":"'1回目　集計表'!$M$548","v":0},{"$f":"'1回目　集計表'!$M$549","v":0},{"$f":"SUM(AV104:AY104)","v":0}]
[null,null,null,null,null,null,null,null,null,null,null,null,null,null,null,null,null,null,null,null,null,null,null,null,null,null,null,null,null,null,null,null,null,null,null,null,null,null,null,null,null,"2回目",{"$error":"#DIV/0!"},{"$error":"#DIV/0!"},{"$error":"#DIV/0!"},{"$error":"#DIV/0!"},"2回目",{"$f":"'2回目　集計表'!$M$546","v":0},{"$f":"'2回目　集計表'!$M$547","v":0},{"$f":"'2回目　集計表'!$M$548","v":0},{"$f":"'2回目　集計表'!$M$549","v":0},{"$f":"SUM(AV105:AY105)","v":0}]
[]
[]
[]
[]
[]
[]
[]
[]
[]
[]
[]
[]
[]
[]
[]
[]
[]
[]
[]
[]
[null,"■『ＳＮＳをめぐるトラブル』への発生後の対処の意識",null,null,null,null,null,null,null,null,null,null,null,null,null,null,null,null,null,null,null,null,null,null,null,null,null,null,null,null,null,null,null,null,null,null,null,null,null,null,null,null,"とても気をつけている","気をつけている","気をつけていない","全く気をつけていない",null,4,3,2,1]
[null,null,null,null,null,null,null,null,null,null,null,null,null,null,null,null,null,null,null,null,null,null,null,null,null,null,null,null,null,null,null,null,null,null,null,null,null,null,null,null,10,"1回目",{"$f":"AV127/$AZ127","v":{"$error":"#DIV/0!"}},{"$error":"#DIV/0!"},{"$error":"#DIV/0!"},{"$error":"#DIV/0!"},"1回目",{"$f":"'1回目　集計表'!$N$546","v":0},{"$f":"'1回目　集計表'!$N$547","v":0},{"$f":"'1回目　集計表'!$N$548","v":0},{"$f":"'1回目　集計表'!$N$549","v":0},{"$f":"SUM(AV127:AY127)","v":0}]
[null,null,null,null,null,null,null,null,null,null,null,null,null,null,null,null,null,null,null,null,null,null,null,null,null,null,null,null,null,null,null,null,null,null,null,null,null,null,null,null,null,"2回目",{"$error":"#DIV/0!"},{"$error":"#DIV/0!"},{"$error":"#DIV/0!"},{"$error":"#DIV/0!"},"2回目",{"$f":"'2回目　集計表'!$N$546","v":0},{"$f":"'2回目　集計表'!$N$547","v":0},{"$f":"'2回目　集計表'!$N$548","v":0},{"$f":"'2回目　集計表'!$N$549","v":0},{"$f":"SUM(AV128:AY128)","v":0}]
[null,null,null,null,null,null,null,null,null,null,null,null,null,null,null,null,null,null,null,null,null,null,null,null,null,null,null,null,null,null,null,null,null,null,null,null,null,null,null,null,null,null,"とても気をつけている","気をつけている","気をつけていない","全く気をつけていない"]
[null,null,null,null,null,null,null,null,null,null,null,null,null,null,null,null,null,null,null,null,null,null,null,null,null,null,null,null,null,null,null,null,null,null,null,null,null,null,null,null,11,"1回目",{"$f":"AV130/$AZ130","v":{"$error":"#DIV/0!"}},{"$error":"#DIV/0!"},{"$error":"#DIV/0!"},{"$error":"#DIV/0!"},"1回目",{"$f":"'1回目　集計表'!$O$546","v":0},{"$f":"'1回目　集計表'!$O$547","v":0},{"$f":"'1回目　集計表'!$O$548","v":0},{"$f":"'1回目　集計表'!$O$549","v":0},{"$f":"SUM(AV130:AY130)","v":0}]
[null,null,null,null,null,null,null,null,null,null,null,null,null,null,null,null,null,null,null,null,null,null,null,null,null,null,null,null,null,null,null,null,null,null,null,null,null,null,null,null,null,"2回目",{"$error":"#DIV/0!"},{"$error":"#DIV/0!"},{"$error":"#DIV/0!"},{"$error":"#DIV/0!"},"2回目",{"$f":"'2回目　集計表'!$O$546","v":0},{"$f":"'2回目　集計表'!$O$547","v":0},{"$f":"'2回目　集計表'!$O$548","v":0},{"$f":"'2回目　集計表'!$O$549","v":0},{"$f":"SUM(AV131:AY131)","v":0}]
[]
[]
[]
[]
[]
[]
[]
[]
[]
[]
[]
[]
[null,"■『ＳＮＳ利用のやり取り』の親和性"]
[null,null,null,null,null,null,null,null,null,null,null,null,null,null,null,null,null,null,null,null,null,null,null,null,null,null,null,null,null,null,null,null,null,null,null,null,null,null,null,null,null,null,"全く思わない","思わない","思う","とても思う",null,4,3,2,1]
[null,null,null,null,null,null,null,null,null,null,null,null,null,null,null,null,null,null,null,null,null,null,null,null,null,null,null,null,null,null,null,null,null,null,null,null,null,null,null,null,12,"1回目",{"$f":"AV146/$AZ146","v":{"$error":"#DIV/0!"}},{"$error":"#DIV/0!"},{"$error":"#DIV/0!"},{"$error":"#DIV/0!"},"1回目",{"$f":"'1回目　集計表'!$P$546","v":0},{"$f":"'1回目　集計表'!$P$547","v":0},{"$f":"'1回目　集計表'!$P$548","v":0},{"$f":"'1回目　集計表'!$P$549","v":0},{"$f":"SUM(AV146:AY146)","v":0}]
[null,null,null,null,null,null,null,null,null,null,null,null,null,null,null,null,null,null,null,null,null,null,null,null,null,null,null,null,null,null,null,null,null,null,null,null,null,null,null,null,null,"2回目",{"$error":"#DIV/0!"},{"$error":"#DIV/0!"},{"$error":"#DIV/0!"},{"$error":"#DIV/0!"},"2回目",{"$f":"'2回目　集計表'!$P$546","v":0},{"$f":"'2回目　集計表'!$P$547","v":0},{"$f":"'2回目　集計表'!$P$548","v":0},{"$f":"'2回目　集計表'!$P$549","v":0},{"$f":"SUM(AV147:AY147)","v":0}]
[null,null,null,null,null,null,null,null,null,null,null,null,null,null,null,null,null,null,null,null,null,null,null,null,null,null,null,null,null,null,null,null,null,null,null,null,null,null,null,null,null,null,"全く思わない","思わない","思う","とても思う"]
[null,null,null,null,null,null,null,null,null,null,null,null,null,null,null,null,null,null,null,null,null,null,null,null,null,null,null,null,null,null,null,null,null,null,null,null,null,null,null,null,13,"1回目",{"$f":"AV149/$AZ149","v":{"$error":"#DIV/0!"}},{"$error":"#DIV/0!"},{"$error":"#DIV/0!"},{"$error":"#DIV/0!"},"1回目",{"$f":"'1回目　集計表'!$Q$546","v":0},{"$f":"'1回目　集計表'!$Q$547","v":0},{"$f":"'1回目　集計表'!$Q$548","v":0},{"$f":"'1回目　集計表'!$Q$549","v":0},{"$f":"SUM(AV149:AY149)","v":0}]
[null,null,null,null,null,null,null,null,null,null,null,null,null,null,null,null,null,null,null,null,null,null,null,null,null,null,null,null,null,null,null,null,null,null,null,null,null,null,null,null,null,"2回目",{"$error":"#DIV/0!"},{"$error":"#DIV/0!"},{"$error":"#DIV/0!"},{"$error":"#DIV/0!"},"2回目",{"$f":"'2回目　集計表'!$Q$546","v":0},{"$f":"'2回目　集計表'!$Q$547","v":0},{"$f":"'2回目　集計表'!$Q$548","v":0},{"$f":"'2回目　集計表'!$Q$549","v":0},{"$f":"SUM(AV150:AY150)","v":0}]
[]
[]
[]
[]
[]
[]
[]
[]
[]
[]
[null,null,null,null,null,null,null,null,null,null,null,null,null,null,null,null,null,null,null,null,null,null,null,null,null,null,null,null,null,null,null,null,null,null,null,null,null,null,null,null,null,null,"全く思わない","思わない","思う","とても思う"]
[null,null,null,null,null,null,null,null,null,null,null,null,null,null,null,null,null,null,null,null,null,null,null,null,null,null,null,null,null,null,null,null,null,null,null,null,null,null,null,null,14,"1回目",{"$f":"AV162/$AZ162","v":{"$error":"#DIV/0!"}},{"$error":"#DIV/0!"},{"$error":"#DIV/0!"},{"$error":"#DIV/0!"},"1回目",{"$f":"'1回目　集計表'!$R$546","v":0},{"$f":"'1回目　集計表'!$R$547","v":0},{"$f":"'1回目　集計表'!$R$548","v":0},{"$f":"'1回目　集計表'!$R$549","v":0},{"$f":"SUM(AV162:AY162)","v":0}]
[null,null,null,null,null,null,null,null,null,null,null,null,null,null,null,null,null,null,null,null,null,null,null,null,null,null,null,null,null,null,null,null,null,null,null,null,null,null,null,null,null,"2回目",{"$error":"#DIV/0!"},{"$error":"#DIV/0!"},{"$error":"#DIV/0!"},{"$error":"#DIV/0!"},"2回目",{"$f":"'2回目　集計表'!$R$546","v":0},{"$f":"'2回目　集計表'!$R$547","v":0},{"$f":"'2回目　集計表'!$R$548","v":0},{"$f":"'2回目　集計表'!$R$549","v":0},{"$f":"SUM(AV163:AY163)","v":0}]
[]
[]
[]
[]
[]
[null,"■『即レス』の悩み・負担感"]
[null,null,null,null,null,null,null,null,null,null,null,null,null,null,null,null,null,null,null,null,null,null,null,null,null,null,null,null,null,null,null,null,null,null,null,null,null,null,null,null,null,null,"全く思わない","思わない","思う","とても思う",null,4,3,2,1]
[null,null,null,null,null,null,null,null,null,null,null,null,null,null,null,null,null,null,null,null,null,null,null,null,null,null,null,null,null,null,null,null,null,null,null,null,null,null,null,null,15,"1回目",{"$f":"AV171/$AZ171","v":{"$error":"#DIV/0!"}},{"$error":"#DIV/0!"},{"$error":"#DIV/0!"},{"$error":"#DIV/0!"},"1回目",{"$f":"'1回目　集計表'!$S$546","v":0},{"$f":"'1回目　集計表'!$S$547","v":0},{"$f":"'1回目　集計表'!$S$548","v":0},{"$f":"'1回目　集計表'!$S$549","v":0},{"$f":"SUM(AV171:AY171)","v":0}]
[null,null,null,null,null,null,null,null,null,null,null,null,null,null,null,null,null,null,null,null,null,null,null,null,null,null,null,null,null,null,null,null,null,null,null,null,null,null,null,null,null,"2回目",{"$error":"#DIV/0!"},{"$error":"#DIV/0!"},{"$error":"#DIV/0!"},{"$error":"#DIV/0!"},"2回目",{"$f":"'2回目　集計表'!$S$546","v":0},{"$f":"'2回目　集計表'!$S$547","v":0},{"$f":"'2回目　集計表'!$S$548","v":0},{"$f":"'2回目　集計表'!$S$549","v":0},{"$f":"SUM(AV172:AY172)","v":0}]
[]
[]
[]
[]
[null,null,null,null,null,null,null,null,null,null,null,null,null,null,null,null,null,null,null,null,null,null,null,null,null,null,null,null,null,null,null,null,null,null,null,null,null,null,null,null,null,null,"全く思わない","思わない","思う","とても思う"]
[null,null,null,null,null,null,null,null,null,null,null,null,null,null,null,null,null,null,null,null,null,null,null,null,null,null,null,null,null,null,null,null,null,null,null,null,null,null,null,null,16,"1回目",{"$f":"AV178/$AZ178","v":{"$error":"#DIV/0!"}},{"$error":"#DIV/0!"},{"$error":"#DIV/0!"},{"$error":"#DIV/0!"},"1回目",{"$f":"'1回目　集計表'!$T$546","v":0},{"$f":"'1回目　集計表'!$T$547","v":0},{"$f":"'1回目　集計表'!$T$548","v":0},{"$f":"'1回目　集計表'!$T$549","v":0},{"$f":"SUM(AV178:AY178)","v":0}]
[null,null,null,null,null,null,null,null,null,null,null,null,null,null,null,null,null,null,null,null,null,null,null,null,null,null,null,null,null,null,null,null,null,null,null,null,null,null,null,null,null,"2回目",{"$error":"#DIV/0!"},{"$error":"#DIV/0!"},{"$error":"#DIV/0!"},{"$error":"#DIV/0!"},"2回目",{"$f":"'2回目　集計表'!$T$546","v":0},{"$f":"'2回目　集計表'!$T$547","v":0},{"$f":"'2回目　集計表'!$T$548","v":0},{"$f":"'2回目　集計表'!$T$549","v":0},{"$f":"SUM(AV179:AY179)","v":0}]
[]
[]
[]
[]
[]
[]
[]
[]
[]
[]
[]
[]
[]
[]
[]
[]
[null,"■『やり取りをする相手との関係性』の悩み・負担感",null,null,null,null,null,null,null,null,null,null,null,null,null,null,null,null,null,null,null,null,null,null,null,null,null,null,null,null,null,null,null,null,null,null,null,null,null,null,null,null,"全く思わない","思わない","思う","とても思う",null,4,3,2,1]
[null,null,null,null,null,null,null,null,null,null,null,null,null,null,null,null,null,null,null,null,null,null,null,null,null,null,null,null,null,null,null,null,null,null,null,null,null,null,null,null,17,"1回目",{"$f":"AV197/$AZ197","v":{"$error":"#DIV/0!"}},{"$error":"#DIV/0!"},{"$error":"#DIV/0!"},{"$error":"#DIV/0!"},"1回目",{"$f":"'1回目　集計表'!$U$546","v":0},{"$f":"'1回目　集計表'!$U$547","v":0},{"$f":"'1回目　集計表'!$U$548","v":0},{"$f":"'1回目　集計表'!$U$549","v":0},{"$f":"SUM(AV197:AY197)","v":0}]
[null,null,null,null,null,null,null,null,null,null,null,null,null,null,null,null,null,null,null,null,null,null,null,null,null,null,null,null,null,null,null,null,null,null,null,null,null,null,null,null,null,"2回目",{"$error":"#DIV/0!"},{"$error":"#DIV/0!"},{"$error":"#DIV/0!"},{"$error":"#DIV/0!"},"2回目",{"$f":"'2回目　集計表'!$U$546","v":0},{"$f":"'2回目　集計表'!$U$547","v":0},{"$f":"'2回目　集計表'!$U$548","v":0},{"$f":"'2回目　集計表'!$U$549","v":0},{"$f":"SUM(AV198:AY198)","v":0}]
[null,null,null,null,null,null,null,null,null,null,null,null,null,null,null,null,null,null,null,null,null,null,null,null,null,null,null,null,null,null,null,null,null,null,null,null,null,null,null,null,null,null,"全く思わない","思わない","思う","とても思う"]
[null,null,null,null,null,null,null,null,null,null,null,null,null,null,null,null,null,null,null,null,null,null,null,null,null,null,null,null,null,null,null,null,null,null,null,null,null,null,null,null,18,"1回目",{"$f":"AV200/$AZ200","v":{"$error":"#DIV/0!"}},{"$error":"#DIV/0!"},{"$error":"#DIV/0!"},{"$error":"#DIV/0!"},"1回目",{"$f":"'1回目　集計表'!$V$546","v":0},{"$f":"'1回目　集計表'!$V$547","v":0},{"$f":"'1回目　集計表'!$V$548","v":0},{"$f":"'1回目　集計表'!$V$549","v":0},{"$f":"SUM(AV200:AY200)","v":0}]
[null,null,null,null,null,null,null,null,null,null,null,null,null,null,null,null,null,null,null,null,null,null,null,null,null,null,null,null,null,null,null,null,null,null,null,null,null,null,null,null,null,"2回目",{"$error":"#DIV/0!"},{"$error":"#DIV/0!"},{"$error":"#DIV/0!"},{"$error":"#DIV/0!"},"2回目",{"$f":"'2回目　集計表'!$V$546","v":0},{"$f":"'2回目　集計表'!$V$547","v":0},{"$f":"'2回目　集計表'!$V$548","v":0},{"$f":"'2回目　集計表'!$V$549","v":0},{"$f":"SUM(AV201:AY201)","v":0}]
[null,null,null,null,null,null,null,null,null,null,null,null,null,null,null,null,null,null,null,null,null,null,null,null,null,null,null,null,null,null,null,null,null,null,null,null,null,null,null,null,null,null,"全く思わない","思わない","思う","とても思う"]
[null,null,null,null,null,null,null,null,null,null,null,null,null,null,null,null,null,null,null,null,null,null,null,null,null,null,null,null,null,null,null,null,null,null,null,null,null,null,null,null,19,"1回目",{"$f":"AV203/$AZ203","v":{"$error":"#DIV/0!"}},{"$error":"#DIV/0!"},{"$error":"#DIV/0!"},{"$error":"#DIV/0!"},"1回目",{"$f":"'1回目　集計表'!$W$546","v":0},{"$f":"'1回目　集計表'!$W$547","v":0},{"$f":"'1回目　集計表'!$W$548","v":0},{"$f":"'1回目　集計表'!$W$549","v":0},{"$f":"SUM(AV203:AY203)","v":0}]
[null,null,null,null,null,null,null,null,null,null,null,null,null,null,null,null,null,null,null,null,null,null,null,null,null,null,null,null,null,null,null,null,null,null,null,null,null,null,null,null,null,"2回目",{"$error":"#DIV/0!"},{"$error":"#DIV/0!"},{"$error":"#DIV/0!"},{"$error":"#DIV/0!"},"2回目",{"$f":"'2回目　集計表'!$W$546","v":0},{"$f":"'2回目　集計表'!$W$547","v":0},{"$f":"'2回目　集計表'!$W$548","v":0},{"$f":"'2回目　集計表'!$W$549","v":0},{"$f":"SUM(AV204:AY204)","v":0}]
[null,null,null,null,null,null,null,null,null,null,null,null,null,null,null,null,null,null,null,null,null,null,null,null,null,null,null,null,null,null,null,null,null,null,null,null,null,null,null,null,null,null,"全く思わない","思わない","思う","とても思う"]
[null,null,null,null,null,null,null,null,null,null,null,null,null,null,null,null,null,null,null,null,null,null,null,null,null,null,null,null,null,null,null,null,null,null,null,null,null,null,null,null,20,"1回目",{"$f":"AV206/$AZ206","v":{"$error":"#DIV/0!"}},{"$error":"#DIV/0!"},{"$error":"#DIV/0!"},{"$error":"#DIV/0!"},"1回目",{"$f":"'1回目　集計表'!$X$546","v":0},{"$f":"'1回目　集計表'!$X$547","v":0},{"$f":"'1回目　集計表'!$X$548","v":0},{"$f":"'1回目　集計表'!$X$549","v":0},{"$f":"SUM(AV206:AY206)","v":0}]
[null,null,null,null,null,null,null,null,null,null,null,null,null,null,null,null,null,null,null,null,null,null,null,null,null,null,null,null,null,null,null,null,null,null,null,null,null,null,null,null,null,"2回目",{"$error":"#DIV/0!"},{"$error":"#DIV/0!"},{"$error":"#DIV/0!"},{"$error":"#DIV/0!"},"2回目",{"$f":"'2回目　集計表'!$X$546","v":0},{"$f":"'2回目　集計表'!$X$547","v":0},{"$f":"'2回目　集計表'!$X$548","v":0},{"$f":"'2回目　集計表'!$X$549","v":0},{"$f":"SUM(AV207:AY207)","v":0}]